PDS_VERSION_ID = PDS3
/* FILE DATA ELEMENTS */
RECORD_TYPE = UNDEFINED
/* POINTERS TO DATA OBJECTS */
^IMAGE = ("HM237_0000_RE4.TIF")
/* IDENTIFICATION DATA ELEMENTS */
DATA_SET_ID = "MEX-M-HRSC-4-REFDR-MAPPROJECT-EXT8-V4.0"
DATA_SET_NAME = "MARS EXPRESS HRSC MAP PROJECTED REFDR EXTENSION8 V4.0"
DETECTOR_ID = MEX_HRSC_RED
EVENT_TYPE = "MARS-LOCAL-CARTOGRAPHY-Im-Gl-Pf"
INSTRUMENT_HOST_ID = MEX
INSTRUMENT_HOST_NAME = "MARS EXPRESS"
INSTRUMENT_ID = HRSC
INSTRUMENT_NAME = "HIGH RESOLUTION STEREO CAMERA"
MISSION_NAME = "MARS EXPRESS"
MISSION_PHASE_NAME = ME_Phase_45
PROCESSING_LEVEL_ID = 4
PRODUCT_CREATION_TIME = 2023-01-26T14:38:01.000Z
PRODUCT_ID = "HM237_0000_RE4.TIF"
RELEASE_ID = 0002
REVISION_ID = 0000
/* QUALITY DATA ELEMENTS */
DATA_QUALITY_ID = 1
DATA_QUALITY_DESC = "Data calculated based on original SPICE kernels"
/* TIME DATA ELEMENTS */
SPACECRAFT_CLOCK_START_COUNT = "1/0576370370.23950"
SPACECRAFT_CLOCK_STOP_COUNT = "1/0576370703.62625"
START_TIME = 2021-08-06T22:54:33.846Z
STOP_TIME = 2021-08-06T22:58:49.146Z
/* ORBITAL DATA ELEMENTS */
ASCENDING_NODE_LONGITUDE = 158.93
MAXIMUM_RESOLUTION = 0.0664
FOOTPRINT_POINT_LATITUDE = (77.1026,77.0174,76.9409,76.8553, 76.8525,76.9779,76.6515,76.3296,76.0068 ,75.5217,75.0361,74.5506,74.2267, 73.7407,73.2547,72.9307,72.6068,72.1209 ,71.7972,71.3116,70.8261,70.3408, 70.0177,69.6948,69.3722,69.0485,68.7266 ,68.4039,68.0819,67.7601,67.4385, 67.1171,66.7959,66.4751,66.1545,65.8342 ,65.5141,65.1944,64.875,64.3965,64.0779 ,63.7598,63.4419,63.1244,62.6489,62.011 ,61.6865,61.363,61.0396,60.8783,60.8442 ,60.8887,60.9179,60.9753,60.9764, 60.9778,61.4643,61.7891,62.1152,62.7559 ,63.2336,63.5523,64.0313,64.3509, 64.6718,64.9922,65.474,65.9562,66.278, 66.6003,67.0846,67.4078,67.8925,68.2165 ,68.5406,68.8652,69.3523,69.6771, 70.0029,70.4913,70.8172,71.1432,71.4699 ,71.7963,72.2866,72.7771,73.1044, 73.5954,73.9224,74.251,74.5787,74.9065, 75.2337,75.5625,76.0548,76.384,76.7116, 77.0401,77.2043,77.1026)
FOOTPRINT_POINT_LONGITUDE = (201.85,199.398,197.606,195.876,195.822 ,195.831,196.094,196.343,196.581, 196.914,197.224,197.512,197.693,197.949 ,198.189,198.34,198.484,198.689,198.818 ,199.003,199.176,199.339,199.442, 199.541,199.636,199.728,199.816,199.9, 199.982,200.06,200.136,200.209,200.279, 200.346,200.411,200.474,200.534,200.592 ,200.648,200.728,200.779,200.829, 200.876,200.922,200.988,201.07,201.11, 201.149,201.186,201.204,201.207,202.105 ,202.764,204.275,204.305,204.315, 204.293,204.278,204.264,204.232,204.207 ,204.19,204.163,204.143,204.125,204.105 ,204.074,204.041,204.017,203.994, 203.957,203.931,203.889,203.86,203.83, 203.8,203.752,203.717,203.683,203.627, 203.588,203.548,203.506,203.462,203.393 ,203.318,203.266,203.183,203.122, 203.064,202.999,202.931,202.857,202.785 ,202.665,202.584,202.491,202.397, 202.348,201.85)
ORBIT_NUMBER = 22237
ORBITAL_ECCENTRICITY = 0.57
ORBITAL_INCLINATION = 87.03
ORBITAL_SEMIMAJOR_AXIS = 8761.75
PERIAPSIS_ALTITUDE = 391.86
PERIAPSIS_ARGUMENT_ANGLE = 110.42
PERIAPSIS_TIME = 2021-08-06T22:56:02.000Z
SPACECRAFT_ORIENTATION = (0.0,-1.0,0.0)
^MEX_ORIENTATION_DESC = "MEX_ORIENTATION_DESC.TXT"
SPACECRAFT_POINTING_MODE = ACROSSTRACK
^MEX_POINTING_DESC = "MEX_POINTING_DESC.TXT"
RIGHT_ASCENSION = -1e+32
DECLINATION = -1e+32
OFFSET_ANGLE = 1.078
SPACECRAFT_SOLAR_DISTANCE = 2.48762e+08
TARGET_NAME = MARS
/* CAMERA DATA ELEMENTS */
DETECTOR_TEMPERATURE = 18.1666
FOCAL_PLANE_TEMPERATURE = 7.9716
INST_CMPRS_NAME = "DISCRETE COSINE TRANSFORMATION (DCT)"
INST_CMPRS_RATIO = 21.4377
INST_CMPRS_QUALITY = 0
INST_CMPRS_QUANTZ_TBL_ID = 0
INSTRUMENT_TEMPERATURE = 11.0301
LENS_TEMPERATURE = 8.5833
MACROPIXEL_SIZE = 4
MISSING_FRAMES = 0
PIXEL_SUBSAMPLING_FLAG = N
SIGNAL_CHAIN_ID = 2
/* RADIOMETRIC DATA ELEMENTS */
BANDWIDTH = 48.0
CENTER_FILTER_WAVELENGTH = 748.0
RADIANCE_OFFSET = 0.786162
RADIANCE_SCALING_FACTOR = 0.0062094
REFLECTANCE_SCALING_FACTOR = 0.000876887
MEX:REFLECTANCE_OFFSET = 0.111021
/* IMAGE OBJECT DEFINITIONS */
OBJECT = IMAGE
  INTERCHANGE_FORMAT = BINARY
  LINES = 19333
  LINE_SAMPLES = 2974
  SAMPLE_TYPE = UNSIGNED_INTEGER
  SAMPLE_BITS = 8
  BANDS = 1
  BAND_STORAGE_TYPE = BAND_SEQUENTIAL
  MAXIMUM = 255
  MEAN = 122.25
  MINIMUM = 1
  STANDARD_DEVIATION = 14.7405
END_OBJECT = IMAGE
/* MAP OBJECT DEFINITIONS */
OBJECT = IMAGE_MAP_PROJECTION
  ^DATA_SET_MAP_PROJECTION_CATALOG= "DSMAP.CAT"
  A_AXIS_RADIUS = 3396.0
  B_AXIS_RADIUS = 3396.0
  C_AXIS_RADIUS = 3396.0
  CENTER_LATITUDE = 0.0
  CENTER_LONGITUDE = 202.0
  COORDINATE_SYSTEM_NAME = PLANETOGRAPHIC
  COORDINATE_SYSTEM_TYPE = "BODY-FIXED ROTATING"
  EASTERNMOST_LONGITUDE = 204.315
  FIRST_STANDARD_PARALLEL = "N/A"
  LINE_FIRST_PIXEL = 1
  LINE_LAST_PIXEL = 19333
  LINE_PROJECTION_OFFSET = 91484.125
  MAP_PROJECTION_ROTATION = 0.0
  MAP_PROJECTION_TYPE = SINUSOIDAL
  MAP_RESOLUTION = 1185.42760773333
  MAP_SCALE = 0.05
  MAXIMUM_LATITUDE = 77.2043
  MINIMUM_LATITUDE = 60.8442
  POSITIVE_LONGITUDE_DIRECTION = EAST
  REFERENCE_LATITUDE = "N/A"
  REFERENCE_LONGITUDE = "N/A"
  SAMPLE_FIRST_PIXEL = 1
  SAMPLE_LAST_PIXEL = 2974
  SAMPLE_PROJECTION_OFFSET = 1670.125
  SECOND_STANDARD_PARALLEL = "N/A"
  WESTERNMOST_LONGITUDE = 195.822
END_OBJECT = IMAGE_MAP_PROJECTION
END
