PDS_VERSION_ID = PDS3
/* FILE DATA ELEMENTS */
RECORD_TYPE = UNDEFINED
/* POINTERS TO DATA OBJECTS */
^IMAGE = ("HM237_0000_P14.TIF")
/* IDENTIFICATION DATA ELEMENTS */
DATA_SET_ID = "MEX-M-HRSC-4-REFDR-MAPPROJECT-EXT8-V4.0"
DATA_SET_NAME = "MARS EXPRESS HRSC MAP PROJECTED REFDR EXTENSION8 V4.0"
DETECTOR_ID = MEX_HRSC_P1
EVENT_TYPE = "MARS-LOCAL-CARTOGRAPHY-Im-Gl-Pf"
INSTRUMENT_HOST_ID = MEX
INSTRUMENT_HOST_NAME = "MARS EXPRESS"
INSTRUMENT_ID = HRSC
INSTRUMENT_NAME = "HIGH RESOLUTION STEREO CAMERA"
MISSION_NAME = "MARS EXPRESS"
MISSION_PHASE_NAME = ME_Phase_45
PROCESSING_LEVEL_ID = 4
PRODUCT_CREATION_TIME = 2023-01-26T14:38:01.000Z
PRODUCT_ID = "HM237_0000_P14.TIF"
RELEASE_ID = 0002
REVISION_ID = 0000
/* QUALITY DATA ELEMENTS */
DATA_QUALITY_ID = 1
DATA_QUALITY_DESC = "Data calculated based on original SPICE kernels"
/* TIME DATA ELEMENTS */
SPACECRAFT_CLOCK_START_COUNT = "1/0576370370.23950"
SPACECRAFT_CLOCK_STOP_COUNT = "1/0576370703.62625"
START_TIME = 2021-08-06T22:53:37.705Z
STOP_TIME = 2021-08-06T22:57:52.370Z
/* ORBITAL DATA ELEMENTS */
ASCENDING_NODE_LONGITUDE = 158.93
MAXIMUM_RESOLUTION = 0.065
FOOTPRINT_POINT_LATITUDE = (77.219,77.1835,77.1407,77.0853,77.0833 ,76.9962,76.516,76.194,75.7168,75.0871, 74.4552,73.8213,73.3446,73.0264,72.7075 ,72.3884,72.0688,71.7488,71.4284, 71.1079,70.7868,70.4655,70.1439,69.8219 ,69.4994,69.0159,68.6925,68.3695, 68.0458,67.7221,67.3981,67.0738,66.5873 ,66.2626,65.9378,65.6127,65.2877, 64.9624,64.6372,64.3112,63.8226,63.4967 ,63.0081,62.5186,62.1925,61.7033, 61.3767,61.0503,60.887,60.885,60.8938, 60.8931,60.886,60.8856,60.8865,61.2145, 61.7058,62.0331,62.3606,62.6882,63.1795 ,63.507,63.8345,64.1613,64.652,64.9791, 65.306,65.6326,65.9595,66.2861,66.6125, 66.9389,67.265,67.5907,67.9171,68.2428, 68.7309,69.0561,69.5435,70.0305,70.355, 70.6791,71.003,71.3267,71.65,71.9732, 72.4575,72.7799,73.2634,73.7459,74.0676 ,74.5482,74.8686,75.1894,75.6685, 76.3125,76.6399,76.9668,77.13,77.219)
FOOTPRINT_POINT_LONGITUDE = (201.874,199.317,197.437,195.612, 195.556,195.73,196.127,196.376,196.723, 197.142,197.525,197.875,198.118,198.272 ,198.419,198.56,198.696,198.826,198.951 ,199.071,199.187,199.298,199.405, 199.508,199.607,199.748,199.838,199.925 ,200.009,200.089,200.167,200.242,200.35 ,200.418,200.484,200.548,200.609, 200.669,200.726,200.781,200.861,200.911 ,200.984,201.053,201.097,201.159,201.2, 201.239,201.258,201.258,202.347,203.359 ,204.223,204.252,204.262,204.248, 204.228,204.215,204.201,204.186,204.162 ,204.146,204.128,204.112,204.085, 204.066,204.046,204.027,204.005,203.983 ,203.961,203.937,203.913,203.889, 203.861,203.834,203.792,203.762,203.716 ,203.667,203.631,203.596,203.558, 203.519,203.479,203.437,203.37,203.324, 203.248,203.17,203.112,203.028,202.966, 202.897,202.796,202.646,202.561,202.472 ,202.426,201.874)
ORBIT_NUMBER = 22237
ORBITAL_ECCENTRICITY = 0.57
ORBITAL_INCLINATION = 87.03
ORBITAL_SEMIMAJOR_AXIS = 8761.75
PERIAPSIS_ALTITUDE = 391.86
PERIAPSIS_ARGUMENT_ANGLE = 110.42
PERIAPSIS_TIME = 2021-08-06T22:56:02.000Z
SPACECRAFT_ORIENTATION = (0.0,-1.0,0.0)
^MEX_ORIENTATION_DESC = "MEX_ORIENTATION_DESC.TXT"
SPACECRAFT_POINTING_MODE = ACROSSTRACK
^MEX_POINTING_DESC = "MEX_POINTING_DESC.TXT"
RIGHT_ASCENSION = -1e+32
DECLINATION = -1e+32
OFFSET_ANGLE = 1.078
SPACECRAFT_SOLAR_DISTANCE = 2.48762e+08
TARGET_NAME = MARS
/* CAMERA DATA ELEMENTS */
DETECTOR_TEMPERATURE = 17.9627
FOCAL_PLANE_TEMPERATURE = 7.9716
INST_CMPRS_NAME = "DISCRETE COSINE TRANSFORMATION (DCT)"
INST_CMPRS_RATIO = 17.1832
INST_CMPRS_QUALITY = 0
INST_CMPRS_QUANTZ_TBL_ID = 0
INSTRUMENT_TEMPERATURE = 11.0301
LENS_TEMPERATURE = 8.5833
MACROPIXEL_SIZE = 4
MISSING_FRAMES = 0
PIXEL_SUBSAMPLING_FLAG = N
SIGNAL_CHAIN_ID = 3
/* RADIOMETRIC DATA ELEMENTS */
BANDWIDTH = 174.0
CENTER_FILTER_WAVELENGTH = 675.0
RADIANCE_OFFSET = 2.8889
RADIANCE_SCALING_FACTOR = 0.0222629
REFLECTANCE_SCALING_FACTOR = 0.000741028
MEX:REFLECTANCE_OFFSET = 0.0961583
/* IMAGE OBJECT DEFINITIONS */
OBJECT = IMAGE
  INTERCHANGE_FORMAT = BINARY
  LINES = 19333
  LINE_SAMPLES = 2974
  SAMPLE_TYPE = UNSIGNED_INTEGER
  SAMPLE_BITS = 8
  BANDS = 1
  BAND_STORAGE_TYPE = BAND_SEQUENTIAL
  MAXIMUM = 255
  MEAN = 97.8518
  MINIMUM = 1
  STANDARD_DEVIATION = 13.6135
END_OBJECT = IMAGE
/* MAP OBJECT DEFINITIONS */
OBJECT = IMAGE_MAP_PROJECTION
  ^DATA_SET_MAP_PROJECTION_CATALOG= "DSMAP.CAT"
  A_AXIS_RADIUS = 3396.0
  B_AXIS_RADIUS = 3396.0
  C_AXIS_RADIUS = 3396.0
  CENTER_LATITUDE = 0.0
  CENTER_LONGITUDE = 202.0
  COORDINATE_SYSTEM_NAME = PLANETOGRAPHIC
  COORDINATE_SYSTEM_TYPE = "BODY-FIXED ROTATING"
  EASTERNMOST_LONGITUDE = 204.262
  FIRST_STANDARD_PARALLEL = "N/A"
  LINE_FIRST_PIXEL = 1
  LINE_LAST_PIXEL = 19333
  LINE_PROJECTION_OFFSET = 91484.125
  MAP_PROJECTION_ROTATION = 0.0
  MAP_PROJECTION_TYPE = SINUSOIDAL
  MAP_RESOLUTION = 1185.42760773333
  MAP_SCALE = 0.05
  MAXIMUM_LATITUDE = 77.21899999999999
  MINIMUM_LATITUDE = 60.885
  POSITIVE_LONGITUDE_DIRECTION = EAST
  REFERENCE_LATITUDE = "N/A"
  REFERENCE_LONGITUDE = "N/A"
  SAMPLE_FIRST_PIXEL = 1
  SAMPLE_LAST_PIXEL = 2974
  SAMPLE_PROJECTION_OFFSET = 1670.125
  SECOND_STANDARD_PARALLEL = "N/A"
  WESTERNMOST_LONGITUDE = 195.556
END_OBJECT = IMAGE_MAP_PROJECTION
END
