PDS_VERSION_ID = PDS3
/* FILE DATA ELEMENTS */
RECORD_TYPE = UNDEFINED
/* POINTERS TO DATA OBJECTS */
^IMAGE = ("HM237_0000_GR4.TIF")
/* IDENTIFICATION DATA ELEMENTS */
DATA_SET_ID = "MEX-M-HRSC-4-REFDR-MAPPROJECT-EXT8-V4.0"
DATA_SET_NAME = "MARS EXPRESS HRSC MAP PROJECTED REFDR EXTENSION8 V4.0"
DETECTOR_ID = MEX_HRSC_GREEN
EVENT_TYPE = "MARS-LOCAL-CARTOGRAPHY-Im-Gl-Pf"
INSTRUMENT_HOST_ID = MEX
INSTRUMENT_HOST_NAME = "MARS EXPRESS"
INSTRUMENT_ID = HRSC
INSTRUMENT_NAME = "HIGH RESOLUTION STEREO CAMERA"
MISSION_NAME = "MARS EXPRESS"
MISSION_PHASE_NAME = ME_Phase_45
PROCESSING_LEVEL_ID = 4
PRODUCT_CREATION_TIME = 2023-01-26T14:38:01.000Z
PRODUCT_ID = "HM237_0000_GR4.TIF"
RELEASE_ID = 0002
REVISION_ID = 0000
/* QUALITY DATA ELEMENTS */
DATA_QUALITY_ID = 1
DATA_QUALITY_DESC = "Data calculated based on original SPICE kernels"
/* TIME DATA ELEMENTS */
SPACECRAFT_CLOCK_START_COUNT = "1/0576370370.23950"
SPACECRAFT_CLOCK_STOP_COUNT = "1/0576370703.62625"
START_TIME = 2021-08-06T22:53:56.462Z
STOP_TIME = 2021-08-06T22:58:10.557Z
/* ORBITAL DATA ELEMENTS */
ASCENDING_NODE_LONGITUDE = 158.93
MAXIMUM_RESOLUTION = 0.0633
FOOTPRINT_POINT_LATITUDE = (77.1813,77.1301,77.0768,77.0122,77.01, 76.9918,76.2046,75.7306,75.0972,74.4621 ,74.1441,73.8257,73.507,73.1879,72.8686 ,72.549,72.2292,71.909,71.5887,71.2682, 70.9475,70.6265,70.3055,69.9842,69.6627 ,69.3411,69.0196,68.6977,68.3758, 68.0538,67.5626,67.0792,66.5958,66.2735 ,65.9511,65.6287,65.1451,64.6617, 64.3392,64.0169,63.5334,63.2112,62.889, 62.567,62.245,61.9232,61.4404,61.1187, 60.9579,60.8715,60.8908,60.9037,60.9138 ,60.9139,60.9149,61.2377,61.7222, 62.0452,62.3685,62.8536,63.1771,63.6625 ,63.9862,64.3101,64.6339,64.9578, 65.2818,65.7679,66.0919,66.5781,66.9022 ,67.2263,67.7124,68.0448,68.3688, 68.6928,69.0168,69.5028,69.8267,70.1505 ,70.6361,70.9597,71.2832,71.6067, 72.0916,72.4147,72.7377,73.0606,73.5447 ,73.8671,74.3505,74.6726,74.9945,75.477 ,75.7983,76.1194,76.4403,76.9213, 77.0815,77.1813)
FOOTPRINT_POINT_LONGITUDE = (201.821,199.316,197.477,195.695,195.64 ,195.759,196.387,196.73,197.149,197.531 ,197.71,197.88,198.043,198.2,198.35, 198.493,198.631,198.763,198.89,199.011, 199.128,199.241,199.349,199.452,199.553 ,199.649,199.741,199.83,199.916,199.999 ,200.119,200.231,200.337,200.404,200.47 ,200.532,200.622,200.707,200.762, 200.814,200.89,200.938,200.984,201.029, 201.072,201.114,201.174,201.212,201.23, 201.24,202.112,202.922,204.218,204.247, 204.257,204.243,204.222,204.209,204.194 ,204.17,204.154,204.129,204.112,204.093 ,204.075,204.056,204.035,204.003, 203.982,203.948,203.924,203.899,203.86, 203.831,203.803,203.774,203.744,203.696 ,203.662,203.628,203.573,203.534, 203.494,203.453,203.387,203.341,203.293 ,203.243,203.161,203.107,203.019, 202.955,202.888,202.781,202.71,202.632, 202.552,202.418,202.372,201.821)
ORBIT_NUMBER = 22237
ORBITAL_ECCENTRICITY = 0.57
ORBITAL_INCLINATION = 87.03
ORBITAL_SEMIMAJOR_AXIS = 8761.75
PERIAPSIS_ALTITUDE = 391.86
PERIAPSIS_ARGUMENT_ANGLE = 110.42
PERIAPSIS_TIME = 2021-08-06T22:56:02.000Z
SPACECRAFT_ORIENTATION = (0.0,-1.0,0.0)
^MEX_ORIENTATION_DESC = "MEX_ORIENTATION_DESC.TXT"
SPACECRAFT_POINTING_MODE = ACROSSTRACK
^MEX_POINTING_DESC = "MEX_POINTING_DESC.TXT"
RIGHT_ASCENSION = -1e+32
DECLINATION = -1e+32
OFFSET_ANGLE = 1.078
SPACECRAFT_SOLAR_DISTANCE = 2.48762e+08
TARGET_NAME = MARS
/* CAMERA DATA ELEMENTS */
DETECTOR_TEMPERATURE = 18.1666
FOCAL_PLANE_TEMPERATURE = 7.9716
INST_CMPRS_NAME = "DISCRETE COSINE TRANSFORMATION (DCT)"
INST_CMPRS_RATIO = 17.1528
INST_CMPRS_QUALITY = 0
INST_CMPRS_QUANTZ_TBL_ID = 0
INSTRUMENT_TEMPERATURE = 11.0301
LENS_TEMPERATURE = 8.5833
MACROPIXEL_SIZE = 4
MISSING_FRAMES = 1
PIXEL_SUBSAMPLING_FLAG = N
SIGNAL_CHAIN_ID = 2
/* RADIOMETRIC DATA ELEMENTS */
BANDWIDTH = 88.0
CENTER_FILTER_WAVELENGTH = 538.0
RADIANCE_OFFSET = 1.08851
RADIANCE_SCALING_FACTOR = 0.00786583
REFLECTANCE_SCALING_FACTOR = 0.000419084
MEX:REFLECTANCE_OFFSET = 0.0579946
/* IMAGE OBJECT DEFINITIONS */
OBJECT = IMAGE
  INTERCHANGE_FORMAT = BINARY
  LINES = 19333
  LINE_SAMPLES = 2974
  SAMPLE_TYPE = UNSIGNED_INTEGER
  SAMPLE_BITS = 8
  BANDS = 1
  BAND_STORAGE_TYPE = BAND_SEQUENTIAL
  MAXIMUM = 255
  MEAN = 68.7988
  MINIMUM = 1
  STANDARD_DEVIATION = 10.663
END_OBJECT = IMAGE
/* MAP OBJECT DEFINITIONS */
OBJECT = IMAGE_MAP_PROJECTION
  ^DATA_SET_MAP_PROJECTION_CATALOG= "DSMAP.CAT"
  A_AXIS_RADIUS = 3396.0
  B_AXIS_RADIUS = 3396.0
  C_AXIS_RADIUS = 3396.0
  CENTER_LATITUDE = 0.0
  CENTER_LONGITUDE = 202.0
  COORDINATE_SYSTEM_NAME = PLANETOGRAPHIC
  COORDINATE_SYSTEM_TYPE = "BODY-FIXED ROTATING"
  EASTERNMOST_LONGITUDE = 204.257
  FIRST_STANDARD_PARALLEL = "N/A"
  LINE_FIRST_PIXEL = 1
  LINE_LAST_PIXEL = 19333
  LINE_PROJECTION_OFFSET = 91484.125
  MAP_PROJECTION_ROTATION = 0.0
  MAP_PROJECTION_TYPE = SINUSOIDAL
  MAP_RESOLUTION = 1185.42760773333
  MAP_SCALE = 0.05
  MAXIMUM_LATITUDE = 77.18129999999999
  MINIMUM_LATITUDE = 60.8715
  POSITIVE_LONGITUDE_DIRECTION = EAST
  REFERENCE_LATITUDE = "N/A"
  REFERENCE_LONGITUDE = "N/A"
  SAMPLE_FIRST_PIXEL = 1
  SAMPLE_LAST_PIXEL = 2974
  SAMPLE_PROJECTION_OFFSET = 1670.125
  SECOND_STANDARD_PARALLEL = "N/A"
  WESTERNMOST_LONGITUDE = 195.64
END_OBJECT = IMAGE_MAP_PROJECTION
END
