PDS_VERSION_ID = PDS3
/* FILE DATA ELEMENTS */
RECORD_TYPE = UNDEFINED
/* POINTERS TO DATA OBJECTS */
^IMAGE = ("HM232_0000_S24.TIF")
/* IDENTIFICATION DATA ELEMENTS */
DATA_SET_ID = "MEX-M-HRSC-4-REFDR-MAPPROJECT-EXT8-V4.0"
DATA_SET_NAME = "MARS EXPRESS HRSC MAP PROJECTED REFDR EXTENSION8 V4.0"
DETECTOR_ID = MEX_HRSC_S2
EVENT_TYPE = "MARS-LOCAL-CARTOGRAPHY-Im-Gl-Pf"
INSTRUMENT_HOST_ID = MEX
INSTRUMENT_HOST_NAME = "MARS EXPRESS"
INSTRUMENT_ID = HRSC
INSTRUMENT_NAME = "HIGH RESOLUTION STEREO CAMERA"
MISSION_NAME = "MARS EXPRESS"
MISSION_PHASE_NAME = ME_Phase_45
PROCESSING_LEVEL_ID = 4
PRODUCT_CREATION_TIME = 2023-01-26T14:38:01.000Z
PRODUCT_ID = "HM232_0000_S24.TIF"
RELEASE_ID = 0002
REVISION_ID = 0000
/* QUALITY DATA ELEMENTS */
DATA_QUALITY_ID = 1
DATA_QUALITY_DESC = "Data calculated based on original SPICE kernels"
/* TIME DATA ELEMENTS */
SPACECRAFT_CLOCK_START_COUNT = "1/0576244651.11348"
SPACECRAFT_CLOCK_STOP_COUNT = "1/0576245028.31007"
START_TIME = 2021-08-05T11:59:21.754Z
STOP_TIME = 2021-08-05T11:59:46.309Z
/* ORBITAL DATA ELEMENTS */
ASCENDING_NODE_LONGITUDE = 159.03
MAXIMUM_RESOLUTION = 0.0345
FOOTPRINT_POINT_LATITUDE = (78.03,78.0183,78.0088,77.999,77.989, 77.9789,77.9686,77.958,77.9473,77.9363, 77.9252,77.9139,77.9024,77.8908,77.8789 ,77.8669,77.8547,77.8423,77.8298,77.817 ,77.7942,77.7776,77.7607,77.747,77.7331 ,77.7295,77.8644,77.7883,77.712,77.6663 ,77.6205,77.5594,77.483,77.4371,77.3912 ,77.3453,77.2689,77.1769,77.1157, 77.0391,76.9626,76.9012,76.794,76.702, 76.656,76.564,76.4873,76.4106,76.3491, 76.3338,76.3288,76.3418,76.3548,76.3676 ,76.3802,76.3987,76.411,76.423,76.4435, 76.4548,76.4661,76.4771,76.4881,76.4988 ,76.5094,76.5198,76.5324,76.5425, 76.5595,76.569,76.5849,76.5982,76.6067, 76.6089,76.6101,76.6573,76.7202,76.7988 ,76.8774,76.9402,77.0189,77.1133, 77.1919,77.2706,77.3649,77.4436,77.5065 ,77.5851,77.648,77.7266,77.7736,77.8365 ,77.8837,77.9308,77.9936,78.0408, 78.1037,78.1664,78.1821,78.03)
FOOTPRINT_POINT_LONGITUDE = (348.007,347.691,347.439,347.188, 346.937,346.687,346.437,346.189,345.94, 345.693,345.445,345.199,344.953,344.708 ,344.464,344.22,343.977,343.735,343.493 ,343.252,342.831,342.532,342.233, 341.995,341.758,341.699,341.377,341.479 ,341.58,341.64,341.699,341.778,341.875, 341.932,341.99,342.046,342.14,342.251, 342.324,342.414,342.503,342.573,342.694 ,342.796,342.847,342.947,343.029,343.11 ,343.175,343.191,343.196,343.42,343.647 ,343.874,344.102,344.445,344.674, 344.904,345.306,345.537,345.769,346.001 ,346.233,346.467,346.701,346.935, 347.229,347.464,347.878,348.115,348.531 ,348.889,349.128,349.188,349.209, 349.182,349.146,349.101,349.055,349.017 ,348.971,348.913,348.865,348.816, 348.757,348.706,348.665,348.614,348.572 ,348.519,348.487,348.444,348.411, 348.378,348.334,348.301,348.256,348.21, 348.198,348.007)
ORBIT_NUMBER = 22232
ORBITAL_ECCENTRICITY = 0.57
ORBITAL_INCLINATION = 87.02
ORBITAL_SEMIMAJOR_AXIS = 8764.31
PERIAPSIS_ALTITUDE = 391.95
PERIAPSIS_ARGUMENT_ANGLE = 111.27
PERIAPSIS_TIME = 2021-08-05T12:01:14.000Z
SPACECRAFT_ORIENTATION = (0.0,-1.0,0.0)
^MEX_ORIENTATION_DESC = "MEX_ORIENTATION_DESC.TXT"
SPACECRAFT_POINTING_MODE = ACROSSTRACK
^MEX_POINTING_DESC = "MEX_POINTING_DESC.TXT"
RIGHT_ASCENSION = -1e+32
DECLINATION = -1e+32
OFFSET_ANGLE = 0.269
SPACECRAFT_SOLAR_DISTANCE = 2.48814e+08
TARGET_NAME = MARS
/* CAMERA DATA ELEMENTS */
DETECTOR_TEMPERATURE = 0.0
FOCAL_PLANE_TEMPERATURE = 0.0
INST_CMPRS_NAME = "DISCRETE COSINE TRANSFORMATION (DCT)"
INST_CMPRS_RATIO = 16.2516
INST_CMPRS_QUALITY = 0
INST_CMPRS_QUANTZ_TBL_ID = 0
INSTRUMENT_TEMPERATURE = 0.0
LENS_TEMPERATURE = 0.0
MACROPIXEL_SIZE = 2
MISSING_FRAMES = 0
PIXEL_SUBSAMPLING_FLAG = N
SIGNAL_CHAIN_ID = 1
/* RADIOMETRIC DATA ELEMENTS */
BANDWIDTH = 178.0
CENTER_FILTER_WAVELENGTH = 679.0
RADIANCE_OFFSET = 3.11028
RADIANCE_SCALING_FACTOR = 0.0171664
REFLECTANCE_SCALING_FACTOR = 0.000562805
MEX:REFLECTANCE_OFFSET = 0.101971
/* IMAGE OBJECT DEFINITIONS */
OBJECT = IMAGE
  INTERCHANGE_FORMAT = BINARY
  LINES = 9868
  LINE_SAMPLES = 5125
  SAMPLE_TYPE = UNSIGNED_INTEGER
  SAMPLE_BITS = 8
  BANDS = 1
  BAND_STORAGE_TYPE = BAND_SEQUENTIAL
  MAXIMUM = 255
  MEAN = 58.0587
  MINIMUM = 1
  STANDARD_DEVIATION = 35.4868
END_OBJECT = IMAGE
/* MAP OBJECT DEFINITIONS */
OBJECT = IMAGE_MAP_PROJECTION
  ^DATA_SET_MAP_PROJECTION_CATALOG= "DSMAP.CAT"
  A_AXIS_RADIUS = 3396.0
  B_AXIS_RADIUS = 3396.0
  C_AXIS_RADIUS = 3396.0
  CENTER_LATITUDE = 0.0
  CENTER_LONGITUDE = 346.0
  COORDINATE_SYSTEM_NAME = PLANETOGRAPHIC
  COORDINATE_SYSTEM_TYPE = "BODY-FIXED ROTATING"
  EASTERNMOST_LONGITUDE = 349.209
  FIRST_STANDARD_PARALLEL = "N/A"
  LINE_FIRST_PIXEL = 1
  LINE_LAST_PIXEL = 9868
  LINE_PROJECTION_OFFSET = 185296.25
  MAP_PROJECTION_ROTATION = 0.0
  MAP_PROJECTION_TYPE = SINUSOIDAL
  MAP_RESOLUTION = 2370.85521546667
  MAP_SCALE = 0.025
  MAXIMUM_LATITUDE = 78.18210000000001
  MINIMUM_LATITUDE = 76.3288
  POSITIVE_LONGITUDE_DIRECTION = EAST
  REFERENCE_LATITUDE = "N/A"
  REFERENCE_LONGITUDE = "N/A"
  SAMPLE_FIRST_PIXEL = 1
  SAMPLE_LAST_PIXEL = 5125
  SAMPLE_PROJECTION_OFFSET = 2334.75
  SECOND_STANDARD_PARALLEL = "N/A"
  WESTERNMOST_LONGITUDE = 341.377
END_OBJECT = IMAGE_MAP_PROJECTION
END
