PDS_VERSION_ID = PDS3
/* FILE DATA ELEMENTS */
RECORD_TYPE = UNDEFINED
/* POINTERS TO DATA OBJECTS */
^IMAGE = ("HM227_0000_RE4.TIF")
/* IDENTIFICATION DATA ELEMENTS */
DATA_SET_ID = "MEX-M-HRSC-4-REFDR-MAPPROJECT-EXT8-V4.0"
DATA_SET_NAME = "MARS EXPRESS HRSC MAP PROJECTED REFDR EXTENSION8 V4.0"
DETECTOR_ID = MEX_HRSC_RED
EVENT_TYPE = "MARS-REGIONAL-MAPPING-Vo-Im-Pf"
INSTRUMENT_HOST_ID = MEX
INSTRUMENT_HOST_NAME = "MARS EXPRESS"
INSTRUMENT_ID = HRSC
INSTRUMENT_NAME = "HIGH RESOLUTION STEREO CAMERA"
MISSION_NAME = "MARS EXPRESS"
MISSION_PHASE_NAME = ME_Phase_45
PROCESSING_LEVEL_ID = 4
PRODUCT_CREATION_TIME = 2023-01-26T14:38:01.000Z
PRODUCT_ID = "HM227_0000_RE4.TIF"
RELEASE_ID = 0002
REVISION_ID = 0000
/* QUALITY DATA ELEMENTS */
DATA_QUALITY_ID = 1
DATA_QUALITY_DESC = "Data calculated based on original SPICE kernels"
/* TIME DATA ELEMENTS */
SPACECRAFT_CLOCK_START_COUNT = "1/0576119265.24885"
SPACECRAFT_CLOCK_STOP_COUNT = "1/0576119582.04239"
START_TIME = 2021-08-04T01:09:28.233Z
STOP_TIME = 2021-08-04T01:13:24.095Z
/* ORBITAL DATA ELEMENTS */
ASCENDING_NODE_LONGITUDE = 159.12
MAXIMUM_RESOLUTION = 0.0705
FOOTPRINT_POINT_LATITUDE = (58.2268,58.2094,58.181,58.1424,58.1414 ,58.2337,57.5928,57.082,56.3008,55.7796 ,55.2598,54.9949,54.7293,54.4641, 54.1994,53.9351,53.6709,53.4009,53.1312 ,52.8619,52.5931,52.3247,52.0508,51.64, 51.3667,51.0941,50.8165,50.5379,50.2602 ,49.9832,49.7024,49.4198,49.1365, 48.8544,48.5691,48.2827,47.8538,47.4192 ,47.1287,46.8397,46.5455,46.2507, 45.9568,45.6584,45.3596,44.9099,44.6069 ,44.4557,44.3502,44.3654,44.3751, 44.3803,44.3852,44.3854,44.3866,44.6906 ,45.146,45.4454,45.7454,46.044,46.339, 46.635,46.9301,47.2212,47.5127,47.8051, 48.092,48.379,48.667,48.9526,49.2353, 49.6604,49.9439,50.2219,50.5005,50.7795 ,51.197,51.471,51.7454,52.0203,52.4318, 52.7012,52.9712,53.2416,53.5125,53.7825 ,54.0478,54.3133,54.5793,54.8457, 55.1125,55.3771,55.8991,56.4225,56.685, 57.0783,57.5912,58.1057,58.2345, 58.2268)
FOOTPRINT_POINT_LONGITUDE = (143.249,142.575,141.652,140.606, 140.581,140.495,140.587,140.656,140.755 ,140.818,140.877,140.906,140.934, 140.962,140.989,141.015,141.04,141.065, 141.089,141.113,141.136,141.158,141.181 ,141.213,141.233,141.253,141.272, 141.292,141.31,141.328,141.345,141.362, 141.38,141.396,141.411,141.426,141.447, 141.467,141.48,141.492,141.504,141.516, 141.527,141.537,141.548,141.562,141.571 ,141.576,141.579,142.386,143.096, 143.536,144.174,144.198,144.206,144.194 ,144.175,144.162,144.149,144.136, 144.122,144.109,144.095,144.081,144.067 ,144.053,144.039,144.024,144.009, 143.994,143.979,143.956,143.94,143.924, 143.908,143.891,143.866,143.849,143.832 ,143.814,143.788,143.77,143.751,143.732 ,143.713,143.694,143.675,143.655, 143.635,143.614,143.593,143.572,143.529 ,143.484,143.461,143.426,143.378, 143.328,143.316,143.249)
ORBIT_NUMBER = 22227
ORBITAL_ECCENTRICITY = 0.57
ORBITAL_INCLINATION = 87.01
ORBITAL_SEMIMAJOR_AXIS = 8766.83
PERIAPSIS_ALTITUDE = 392.11
PERIAPSIS_ARGUMENT_ANGLE = 112.15
PERIAPSIS_TIME = 2021-08-04T01:06:28.000Z
SPACECRAFT_ORIENTATION = (0.0,-1.0,0.0)
^MEX_ORIENTATION_DESC = "MEX_ORIENTATION_DESC.TXT"
SPACECRAFT_POINTING_MODE = NADIR
^MEX_POINTING_DESC = "MEX_POINTING_DESC.TXT"
RIGHT_ASCENSION = -1e+32
DECLINATION = -1e+32
OFFSET_ANGLE = -1e+32
SPACECRAFT_SOLAR_DISTANCE = 2.48863e+08
TARGET_NAME = MARS
/* CAMERA DATA ELEMENTS */
DETECTOR_TEMPERATURE = 17.9627
FOCAL_PLANE_TEMPERATURE = 8.1755
INST_CMPRS_NAME = "DISCRETE COSINE TRANSFORMATION (DCT)"
INST_CMPRS_RATIO = 21.5418
INST_CMPRS_QUALITY = 0
INST_CMPRS_QUANTZ_TBL_ID = 0
INSTRUMENT_TEMPERATURE = 10.6223
LENS_TEMPERATURE = 8.3794
MACROPIXEL_SIZE = 4
MISSING_FRAMES = 0
PIXEL_SUBSAMPLING_FLAG = N
SIGNAL_CHAIN_ID = 2
/* RADIOMETRIC DATA ELEMENTS */
BANDWIDTH = 48.0
CENTER_FILTER_WAVELENGTH = 748.0
RADIANCE_OFFSET = 1.30878
RADIANCE_SCALING_FACTOR = 0.0055067
REFLECTANCE_SCALING_FACTOR = 0.00077828
MEX:REFLECTANCE_OFFSET = 0.184974
/* IMAGE OBJECT DEFINITIONS */
OBJECT = IMAGE
  INTERCHANGE_FORMAT = BINARY
  LINES = 16587
  LINE_SAMPLES = 2499
  SAMPLE_TYPE = UNSIGNED_INTEGER
  SAMPLE_BITS = 8
  BANDS = 1
  BAND_STORAGE_TYPE = BAND_SEQUENTIAL
  MAXIMUM = 255
  MEAN = 123.951
  MINIMUM = 1
  STANDARD_DEVIATION = 69.9287
END_OBJECT = IMAGE
/* MAP OBJECT DEFINITIONS */
OBJECT = IMAGE_MAP_PROJECTION
  ^DATA_SET_MAP_PROJECTION_CATALOG= "DSMAP.CAT"
  A_AXIS_RADIUS = 3396.0
  B_AXIS_RADIUS = 3396.0
  C_AXIS_RADIUS = 3396.0
  CENTER_LATITUDE = 0.0
  CENTER_LONGITUDE = 143.0
  COORDINATE_SYSTEM_NAME = PLANETOGRAPHIC
  COORDINATE_SYSTEM_TYPE = "BODY-FIXED ROTATING"
  EASTERNMOST_LONGITUDE = 144.206
  FIRST_STANDARD_PARALLEL = "N/A"
  LINE_FIRST_PIXEL = 1
  LINE_LAST_PIXEL = 16587
  LINE_PROJECTION_OFFSET = 69123.875
  MAP_PROJECTION_ROTATION = 0.0
  MAP_PROJECTION_TYPE = SINUSOIDAL
  MAP_RESOLUTION = 1185.42760773333
  MAP_SCALE = 0.05
  MAXIMUM_LATITUDE = 58.2345
  MINIMUM_LATITUDE = 44.3502
  POSITIVE_LONGITUDE_DIRECTION = EAST
  REFERENCE_LATITUDE = "N/A"
  REFERENCE_LONGITUDE = "N/A"
  SAMPLE_FIRST_PIXEL = 1
  SAMPLE_LAST_PIXEL = 2499
  SAMPLE_PROJECTION_OFFSET = 1545.625
  SECOND_STANDARD_PARALLEL = "N/A"
  WESTERNMOST_LONGITUDE = 140.495
END_OBJECT = IMAGE_MAP_PROJECTION
END
