PDS_VERSION_ID = PDS3
/* FILE DATA ELEMENTS */
RECORD_TYPE = UNDEFINED
/* POINTERS TO DATA OBJECTS */
^IMAGE = ("HM223_0000_GR4.TIF")
/* IDENTIFICATION DATA ELEMENTS */
DATA_SET_ID = "MEX-M-HRSC-4-REFDR-MAPPROJECT-EXT8-V4.0"
DATA_SET_NAME = "MARS EXPRESS HRSC MAP PROJECTED REFDR EXTENSION8 V4.0"
DETECTOR_ID = MEX_HRSC_GREEN
EVENT_TYPE = "MARS-LOCAL-CARTOGRAPHY-Im-Gl-Pf"
INSTRUMENT_HOST_ID = MEX
INSTRUMENT_HOST_NAME = "MARS EXPRESS"
INSTRUMENT_ID = HRSC
INSTRUMENT_NAME = "HIGH RESOLUTION STEREO CAMERA"
MISSION_NAME = "MARS EXPRESS"
MISSION_PHASE_NAME = ME_Phase_45
PROCESSING_LEVEL_ID = 4
PRODUCT_CREATION_TIME = 2023-01-26T14:38:01.000Z
PRODUCT_ID = "HM223_0000_GR4.TIF"
RELEASE_ID = 0002
REVISION_ID = 0000
/* QUALITY DATA ELEMENTS */
DATA_QUALITY_ID = 1
DATA_QUALITY_DESC = "Data calculated based on original SPICE kernels"
/* TIME DATA ELEMENTS */
SPACECRAFT_CLOCK_START_COUNT = "1/0576018578.23981"
SPACECRAFT_CLOCK_STOP_COUNT = "1/0576018995.23591"
START_TIME = 2021-08-02T21:10:42.581Z
STOP_TIME = 2021-08-02T21:16:08.787Z
/* ORBITAL DATA ELEMENTS */
ASCENDING_NODE_LONGITUDE = 159.18
MAXIMUM_RESOLUTION = 0.0633
FOOTPRINT_POINT_LATITUDE = (66.1988,66.085,65.993,65.9907,65.9513, 65.3689,64.9803,64.5915,64.2023,63.6184 ,63.2288,62.839,62.254,61.4739,60.8885, 60.303,59.5226,58.7425,57.9626,57.3778, 56.5892,56.1894,55.7898,55.3905,54.9913 ,54.5924,53.98,53.5714,53.1631,52.7552, 52.3416,51.9239,51.5068,51.0901,50.6682 ,50.2421,49.8164,49.3913,48.9565, 48.5222,48.0886,47.6468,47.2041,46.7622 ,46.3108,45.8601,45.6351,45.5537, 45.5858,45.6156,45.6486,45.6492,45.6506 ,46.3298,47.0063,47.4503,47.8949, 48.5531,48.9891,49.6408,50.0679,50.4956 ,51.1352,51.5537,51.9727,52.3922, 52.8095,53.2195,53.6297,54.0403,54.4512 ,54.8581,55.2591,55.6605,56.0621, 56.4641,56.8663,57.2642,58.0484,58.8334 ,59.2262,59.6191,60.0121,60.4052, 60.7983,61.1915,61.5849,61.9782,62.3717 ,62.765,63.1584,63.5517,63.9451,64.3382 ,64.7313,65.1244,65.5174,65.9102, 66.1065,66.1988)
FOOTPRINT_POINT_LONGITUDE = (187.911,185.978,184.666,184.635, 184.385,184.633,184.792,184.945,185.091 ,185.303,185.437,185.567,185.752, 185.986,186.151,186.307,186.504,186.688 ,186.861,186.982,187.136,187.21,187.282 ,187.352,187.419,187.484,187.58,187.641 ,187.699,187.756,187.812,187.866, 187.919,187.969,188.018,188.066,188.112 ,188.156,188.2,188.242,188.282,188.321, 188.359,188.395,188.43,188.464,188.48, 188.485,189.164,189.9,190.911,190.934, 190.941,190.893,190.843,190.809,190.774 ,190.72,190.684,190.627,190.589,190.549 ,190.488,190.446,190.404,190.36,190.315 ,190.27,190.223,190.175,190.126,190.076 ,190.025,189.973,189.919,189.864, 189.807,189.749,189.629,189.503,189.437 ,189.369,189.299,189.227,189.153, 189.076,188.997,188.915,188.831,188.744 ,188.654,188.562,188.466,188.367, 188.264,188.158,188.049,187.935,187.877 ,187.911)
ORBIT_NUMBER = 22223
ORBITAL_ECCENTRICITY = 0.57
ORBITAL_INCLINATION = 87.03
ORBITAL_SEMIMAJOR_AXIS = 8764.51
PERIAPSIS_ALTITUDE = 391.21
PERIAPSIS_ARGUMENT_ANGLE = 112.84
PERIAPSIS_TIME = 2021-08-02T21:10:36.000Z
SPACECRAFT_ORIENTATION = (0.0,-1.0,0.0)
^MEX_ORIENTATION_DESC = "MEX_ORIENTATION_DESC.TXT"
SPACECRAFT_POINTING_MODE = ACROSSTRACK
^MEX_POINTING_DESC = "MEX_POINTING_DESC.TXT"
RIGHT_ASCENSION = -1e+32
DECLINATION = -1e+32
OFFSET_ANGLE = -1.078
SPACECRAFT_SOLAR_DISTANCE = 2.489e+08
TARGET_NAME = MARS
/* CAMERA DATA ELEMENTS */
DETECTOR_TEMPERATURE = 18.3705
FOCAL_PLANE_TEMPERATURE = 9.3989
INST_CMPRS_NAME = "DISCRETE COSINE TRANSFORMATION (DCT)"
INST_CMPRS_RATIO = 18.0484
INST_CMPRS_QUALITY = 0
INST_CMPRS_QUANTZ_TBL_ID = 0
INSTRUMENT_TEMPERATURE = 11.4379
LENS_TEMPERATURE = 9.3989
MACROPIXEL_SIZE = 4
MISSING_FRAMES = 0
PIXEL_SUBSAMPLING_FLAG = N
SIGNAL_CHAIN_ID = 2
/* RADIOMETRIC DATA ELEMENTS */
BANDWIDTH = 88.0
CENTER_FILTER_WAVELENGTH = 538.0
RADIANCE_OFFSET = 1.42223
RADIANCE_SCALING_FACTOR = 0.00367992
REFLECTANCE_SCALING_FACTOR = 0.000196281
MEX:REFLECTANCE_OFFSET = 0.0758595
/* IMAGE OBJECT DEFINITIONS */
OBJECT = IMAGE
  INTERCHANGE_FORMAT = BINARY
  LINES = 24435
  LINE_SAMPLES = 3860
  SAMPLE_TYPE = UNSIGNED_INTEGER
  SAMPLE_BITS = 8
  BANDS = 1
  BAND_STORAGE_TYPE = BAND_SEQUENTIAL
  MAXIMUM = 255
  MEAN = 122.555
  MINIMUM = 1
  STANDARD_DEVIATION = 53.732
END_OBJECT = IMAGE
/* MAP OBJECT DEFINITIONS */
OBJECT = IMAGE_MAP_PROJECTION
  ^DATA_SET_MAP_PROJECTION_CATALOG= "DSMAP.CAT"
  A_AXIS_RADIUS = 3396.0
  B_AXIS_RADIUS = 3396.0
  C_AXIS_RADIUS = 3396.0
  CENTER_LATITUDE = 0.0
  CENTER_LONGITUDE = 189.0
  COORDINATE_SYSTEM_NAME = PLANETOGRAPHIC
  COORDINATE_SYSTEM_TYPE = "BODY-FIXED ROTATING"
  EASTERNMOST_LONGITUDE = 190.941
  FIRST_STANDARD_PARALLEL = "N/A"
  LINE_FIRST_PIXEL = 1
  LINE_LAST_PIXEL = 24435
  LINE_PROJECTION_OFFSET = 78454.625
  MAP_PROJECTION_ROTATION = 0.0
  MAP_PROJECTION_TYPE = SINUSOIDAL
  MAP_RESOLUTION = 1185.42760773333
  MAP_SCALE = 0.05
  MAXIMUM_LATITUDE = 66.19880000000001
  MINIMUM_LATITUDE = 45.5537
  POSITIVE_LONGITUDE_DIRECTION = EAST
  REFERENCE_LATITUDE = "N/A"
  REFERENCE_LONGITUDE = "N/A"
  SAMPLE_FIRST_PIXEL = 1
  SAMPLE_LAST_PIXEL = 3860
  SAMPLE_PROJECTION_OFFSET = 2241.125
  SECOND_STANDARD_PARALLEL = "N/A"
  WESTERNMOST_LONGITUDE = 184.385
END_OBJECT = IMAGE_MAP_PROJECTION
END
