PDS_VERSION_ID = PDS3
/* FILE DATA ELEMENTS */
RECORD_TYPE = UNDEFINED
/* POINTERS TO DATA OBJECTS */
^IMAGE = ("HM218_0000_S24.TIF")
/* IDENTIFICATION DATA ELEMENTS */
DATA_SET_ID = "MEX-M-HRSC-4-REFDR-MAPPROJECT-EXT8-V4.0"
DATA_SET_NAME = "MARS EXPRESS HRSC MAP PROJECTED REFDR EXTENSION8 V4.0"
DETECTOR_ID = MEX_HRSC_S2
EVENT_TYPE = "MARS-LOCAL-CARTOGRAPHY-Im-Gl-Pf"
INSTRUMENT_HOST_ID = MEX
INSTRUMENT_HOST_NAME = "MARS EXPRESS"
INSTRUMENT_ID = HRSC
INSTRUMENT_NAME = "HIGH RESOLUTION STEREO CAMERA"
MISSION_NAME = "MARS EXPRESS"
MISSION_PHASE_NAME = ME_Phase_45
PROCESSING_LEVEL_ID = 4
PRODUCT_CREATION_TIME = 2023-01-26T14:38:01.000Z
PRODUCT_ID = "HM218_0000_S24.TIF"
RELEASE_ID = 0002
REVISION_ID = 0000
/* QUALITY DATA ELEMENTS */
DATA_QUALITY_ID = 1
DATA_QUALITY_DESC = "Data calculated based on original SPICE kernels"
/* TIME DATA ELEMENTS */
SPACECRAFT_CLOCK_START_COUNT = "1/0575892937.24900"
SPACECRAFT_CLOCK_STOP_COUNT = "1/0575893338.16284"
START_TIME = 2021-08-01T10:17:25.624Z
STOP_TIME = 2021-08-01T10:22:50.128Z
/* ORBITAL DATA ELEMENTS */
ASCENDING_NODE_LONGITUDE = 159.28
MAXIMUM_RESOLUTION = 0.0345
FOOTPRINT_POINT_LATITUDE = (62.1004,62.0889,62.072,62.0445,62.0436 ,62.1603,61.2569,60.5357,59.8167, 59.4493,59.0804,58.7129,58.3458,57.9791 ,57.247,56.8727,56.4989,56.1258,55.7535 ,55.3818,54.8137,54.4346,54.0561, 53.6785,53.2937,52.9089,52.5251,52.142, 51.7483,51.3585,50.7737,50.3752,49.9785 ,49.3824,48.9794,48.5778,48.1764, 47.7772,47.3802,46.7852,46.3904,45.9971 ,45.6047,45.214,44.8244,44.4357,44.0488 ,43.6634,43.2792,43.0877,43.062,43.0376 ,43.012,43.0114,43.0117,43.3969,43.7837 ,44.1714,44.5603,44.9513,45.3433, 45.7369,46.132,46.5282,46.9255,47.3241, 47.724,48.125,48.5285,48.9314,49.3361, 49.9363,50.3349,50.9314,51.3238,51.7157 ,52.1106,52.4956,52.8819,53.2695, 53.6568,54.0367,54.4173,54.7985,55.3703 ,55.7442,56.1188,56.4944,56.8704, 57.4328,58.1693,58.5388,58.9088,59.2796 ,59.6508,60.1992,60.925,62.0177,62.2003 ,62.1004)
FOOTPRINT_POINT_LONGITUDE = (339.003,338.094,337.157,336.003, 335.972,335.667,335.953,336.165,336.364 ,336.46,336.556,336.647,336.735,336.82, 336.983,337.063,337.14,337.214,337.286, 337.355,337.458,337.523,337.586,337.647 ,337.708,337.766,337.821,337.875, 337.933,337.983,338.057,338.107,338.154 ,338.22,338.264,338.305,338.346,338.385 ,338.421,338.473,338.507,338.538, 338.569,338.598,338.626,338.653,338.678 ,338.702,338.726,338.737,338.738, 340.225,341.397,341.422,341.431,341.404 ,341.375,341.347,341.318,341.287, 341.256,341.225,341.192,341.159,341.125 ,341.09,341.054,341.017,340.979,340.94, 340.9,340.839,340.798,340.733,340.69, 340.645,340.599,340.553,340.506,340.458 ,340.408,340.358,340.307,340.254, 340.173,340.118,340.062,340.003,339.944 ,339.851,339.725,339.66,339.592,339.522 ,339.451,339.341,339.189,338.944, 338.901,339.003)
ORBIT_NUMBER = 22218
ORBITAL_ECCENTRICITY = 0.57
ORBITAL_INCLINATION = 87.03
ORBITAL_SEMIMAJOR_AXIS = 8766.31
PERIAPSIS_ALTITUDE = 390.89
PERIAPSIS_ARGUMENT_ANGLE = 113.68
PERIAPSIS_TIME = 2021-08-01T10:15:47.000Z
SPACECRAFT_ORIENTATION = (0.0,-1.0,0.0)
^MEX_ORIENTATION_DESC = "MEX_ORIENTATION_DESC.TXT"
SPACECRAFT_POINTING_MODE = ACROSSTRACK
^MEX_POINTING_DESC = "MEX_POINTING_DESC.TXT"
RIGHT_ASCENSION = -1e+32
DECLINATION = -1e+32
OFFSET_ANGLE = -1.347
SPACECRAFT_SOLAR_DISTANCE = 2.48943e+08
TARGET_NAME = MARS
/* CAMERA DATA ELEMENTS */
DETECTOR_TEMPERATURE = 18.5744
FOCAL_PLANE_TEMPERATURE = 7.5638
INST_CMPRS_NAME = "DISCRETE COSINE TRANSFORMATION (DCT)"
INST_CMPRS_RATIO = 13.7918
INST_CMPRS_QUALITY = 0
INST_CMPRS_QUANTZ_TBL_ID = 0
INSTRUMENT_TEMPERATURE = 11.0301
LENS_TEMPERATURE = 8.5833
MACROPIXEL_SIZE = 2
MISSING_FRAMES = 0
PIXEL_SUBSAMPLING_FLAG = N
SIGNAL_CHAIN_ID = 1
/* RADIOMETRIC DATA ELEMENTS */
BANDWIDTH = 178.0
CENTER_FILTER_WAVELENGTH = 679.0
RADIANCE_OFFSET = 2.95425
RADIANCE_SCALING_FACTOR = 0.0136744
REFLECTANCE_SCALING_FACTOR = 0.000448786
MEX:REFLECTANCE_OFFSET = 0.0969565
/* IMAGE OBJECT DEFINITIONS */
OBJECT = IMAGE
  INTERCHANGE_FORMAT = BINARY
  LINES = 45770
  LINE_SAMPLES = 7673
  SAMPLE_TYPE = UNSIGNED_INTEGER
  SAMPLE_BITS = 8
  BANDS = 1
  BAND_STORAGE_TYPE = BAND_SEQUENTIAL
  MAXIMUM = 255
  MEAN = 76.2857
  MINIMUM = 1
  STANDARD_DEVIATION = 23.1253
END_OBJECT = IMAGE
/* MAP OBJECT DEFINITIONS */
OBJECT = IMAGE_MAP_PROJECTION
  ^DATA_SET_MAP_PROJECTION_CATALOG= "DSMAP.CAT"
  A_AXIS_RADIUS = 3396.0
  B_AXIS_RADIUS = 3396.0
  C_AXIS_RADIUS = 3396.0
  CENTER_LATITUDE = 0.0
  CENTER_LONGITUDE = 339.0
  COORDINATE_SYSTEM_NAME = PLANETOGRAPHIC
  COORDINATE_SYSTEM_TYPE = "BODY-FIXED ROTATING"
  EASTERNMOST_LONGITUDE = 341.431
  FIRST_STANDARD_PARALLEL = "N/A"
  LINE_FIRST_PIXEL = 1
  LINE_LAST_PIXEL = 45770
  LINE_PROJECTION_OFFSET = 147627.25
  MAP_PROJECTION_ROTATION = 0.0
  MAP_PROJECTION_TYPE = SINUSOIDAL
  MAP_RESOLUTION = 2370.85521546667
  MAP_SCALE = 0.025
  MAXIMUM_LATITUDE = 62.2003
  MINIMUM_LATITUDE = 43.0114
  POSITIVE_LONGITUDE_DIRECTION = EAST
  REFERENCE_LATITUDE = "N/A"
  REFERENCE_LONGITUDE = "N/A"
  SAMPLE_FIRST_PIXEL = 1
  SAMPLE_LAST_PIXEL = 7673
  SAMPLE_PROJECTION_OFFSET = 3617.75
  SECOND_STANDARD_PARALLEL = "N/A"
  WESTERNMOST_LONGITUDE = 335.667
END_OBJECT = IMAGE_MAP_PROJECTION
END
