PDS_VERSION_ID = PDS3
/* FILE DATA ELEMENTS */
RECORD_TYPE = UNDEFINED
/* POINTERS TO DATA OBJECTS */
^IMAGE = ("HM216_0000_BL4.TIF")
/* IDENTIFICATION DATA ELEMENTS */
DATA_SET_ID = "MEX-M-HRSC-4-REFDR-MAPPROJECT-EXT8-V4.0"
DATA_SET_NAME = "MARS EXPRESS HRSC MAP PROJECTED REFDR EXTENSION8 V4.0"
DETECTOR_ID = MEX_HRSC_BLUE
EVENT_TYPE = "MARS-LOCAL-CARTOGRAPHY-Im-Gl-Pf"
INSTRUMENT_HOST_ID = MEX
INSTRUMENT_HOST_NAME = "MARS EXPRESS"
INSTRUMENT_ID = HRSC
INSTRUMENT_NAME = "HIGH RESOLUTION STEREO CAMERA"
MISSION_NAME = "MARS EXPRESS"
MISSION_PHASE_NAME = ME_Phase_45
PROCESSING_LEVEL_ID = 4
PRODUCT_CREATION_TIME = 2023-01-26T14:38:01.000Z
PRODUCT_ID = "HM216_0000_BL4.TIF"
RELEASE_ID = 0002
REVISION_ID = 0000
/* QUALITY DATA ELEMENTS */
DATA_QUALITY_ID = 1
DATA_QUALITY_DESC = "Data calculated based on original SPICE kernels"
/* TIME DATA ELEMENTS */
SPACECRAFT_CLOCK_START_COUNT = "1/0575842545.24924"
SPACECRAFT_CLOCK_STOP_COUNT = "1/0575843015.63272"
START_TIME = 2021-07-31T20:17:02.235Z
STOP_TIME = 2021-07-31T20:23:27.047Z
/* ORBITAL DATA ELEMENTS */
ASCENDING_NODE_LONGITUDE = 159.31
MAXIMUM_RESOLUTION = 0.0631
FOOTPRINT_POINT_LATITUDE = (69.6542,69.6131,69.5286,69.5271, 69.5514,69.0816,68.6116,68.1413,67.6709 ,67.2003,66.7296,66.0233,65.5524, 65.0815,64.6106,64.1397,63.669,63.1984, 62.728,62.2576,61.7876,61.3178,60.8483, 60.3791,59.9101,58.9732,58.038,57.1043, 56.1729,55.4604,54.9839,54.5079,54.0327 ,53.5514,53.0651,52.5795,52.0947, 51.3546,50.8597,50.3656,49.8612,49.3568 ,48.596,48.0821,47.5695,47.0465,46.5242 ,45.7296,45.4639,45.4027,45.4221, 45.4338,45.4339,45.4351,45.968,46.4992, 47.0228,47.8053,48.3198,49.0893,49.5944 ,50.1006,50.8498,51.3461,52.0896, 52.5757,53.0626,53.5503,54.0343,54.511, 54.9883,55.4664,56.1825,57.117,58.0537, 58.5227,58.9923,59.4623,59.9327,60.4035 ,60.8747,61.3461,61.818,62.2902,62.7626 ,63.2353,63.7083,64.1814,64.6549, 65.1284,65.602,66.0758,66.5496,67.2605, 67.7344,68.2083,68.6822,69.393,69.6299, 69.6542)
FOOTPRINT_POINT_LONGITUDE = (187.035,185.509,183.267,183.233, 183.244,183.403,183.553,183.696,183.831 ,183.96,184.082,184.253,184.36,184.462, 184.559,184.652,184.739,184.823,184.902 ,184.978,185.05,185.119,185.184,185.246 ,185.305,185.415,185.515,185.604, 185.685,185.742,185.777,185.811,185.843 ,185.873,185.902,185.929,185.955, 185.991,186.013,186.033,186.053,186.071 ,186.096,186.111,186.125,186.137, 186.148,186.163,186.167,186.168,187.214 ,188.563,188.586,188.594,188.585, 188.576,188.567,188.553,188.543,188.527 ,188.517,188.505,188.488,188.475, 188.456,188.443,188.429,188.414,188.399 ,188.383,188.367,188.35,188.324,188.287 ,188.246,188.224,188.202,188.178, 188.154,188.128,188.101,188.073,188.044 ,188.013,187.981,187.947,187.913, 187.876,187.839,187.798,187.756,187.712 ,187.666,187.592,187.54,187.484,187.426 ,187.333,187.301,187.035)
ORBIT_NUMBER = 22216
ORBITAL_ECCENTRICITY = 0.57
ORBITAL_INCLINATION = 87.02
ORBITAL_SEMIMAJOR_AXIS = 8766.0
PERIAPSIS_ALTITUDE = 390.91
PERIAPSIS_ARGUMENT_ANGLE = 114.04
PERIAPSIS_TIME = 2021-07-31T20:17:55.000Z
SPACECRAFT_ORIENTATION = (0.0,-1.0,0.0)
^MEX_ORIENTATION_DESC = "MEX_ORIENTATION_DESC.TXT"
SPACECRAFT_POINTING_MODE = ACROSSTRACK
^MEX_POINTING_DESC = "MEX_POINTING_DESC.TXT"
RIGHT_ASCENSION = -1e+32
DECLINATION = -1e+32
OFFSET_ANGLE = 0.808
SPACECRAFT_SOLAR_DISTANCE = 2.4896e+08
TARGET_NAME = MARS
/* CAMERA DATA ELEMENTS */
DETECTOR_TEMPERATURE = 17.9627
FOCAL_PLANE_TEMPERATURE = 8.3794
INST_CMPRS_NAME = "DISCRETE COSINE TRANSFORMATION (DCT)"
INST_CMPRS_RATIO = 5.49627
INST_CMPRS_QUALITY = 0
INST_CMPRS_QUANTZ_TBL_ID = 0
INSTRUMENT_TEMPERATURE = 10.6223
LENS_TEMPERATURE = 8.3794
MACROPIXEL_SIZE = 4
MISSING_FRAMES = 0
PIXEL_SUBSAMPLING_FLAG = N
SIGNAL_CHAIN_ID = 2
/* RADIOMETRIC DATA ELEMENTS */
BANDWIDTH = 76.0
CENTER_FILTER_WAVELENGTH = 444.0
RADIANCE_OFFSET = 0.57512
RADIANCE_SCALING_FACTOR = 0.00179696
REFLECTANCE_SCALING_FACTOR = 0.000114434
MEX:REFLECTANCE_OFFSET = 0.0366246
/* IMAGE OBJECT DEFINITIONS */
OBJECT = IMAGE
  INTERCHANGE_FORMAT = BINARY
  LINES = 28761
  LINE_SAMPLES = 2884
  SAMPLE_TYPE = UNSIGNED_INTEGER
  SAMPLE_BITS = 8
  BANDS = 1
  BAND_STORAGE_TYPE = BAND_SEQUENTIAL
  MAXIMUM = 255
  MEAN = 98.9324
  MINIMUM = 1
  STANDARD_DEVIATION = 30.7336
END_OBJECT = IMAGE
/* MAP OBJECT DEFINITIONS */
OBJECT = IMAGE_MAP_PROJECTION
  ^DATA_SET_MAP_PROJECTION_CATALOG= "DSMAP.CAT"
  A_AXIS_RADIUS = 3396.0
  B_AXIS_RADIUS = 3396.0
  C_AXIS_RADIUS = 3396.0
  CENTER_LATITUDE = 0.0
  CENTER_LONGITUDE = 187.0
  COORDINATE_SYSTEM_NAME = PLANETOGRAPHIC
  COORDINATE_SYSTEM_TYPE = "BODY-FIXED ROTATING"
  EASTERNMOST_LONGITUDE = 188.594
  FIRST_STANDARD_PARALLEL = "N/A"
  LINE_FIRST_PIXEL = 1
  LINE_LAST_PIXEL = 28761
  LINE_PROJECTION_OFFSET = 82584.875
  MAP_PROJECTION_ROTATION = 0.0
  MAP_PROJECTION_TYPE = SINUSOIDAL
  MAP_RESOLUTION = 1185.42760773333
  MAP_SCALE = 0.05
  MAXIMUM_LATITUDE = 69.6542
  MINIMUM_LATITUDE = 45.4027
  POSITIVE_LONGITUDE_DIRECTION = EAST
  REFERENCE_LATITUDE = "N/A"
  REFERENCE_LONGITUDE = "N/A"
  SAMPLE_FIRST_PIXEL = 1
  SAMPLE_LAST_PIXEL = 2884
  SAMPLE_PROJECTION_OFFSET = 1566.625
  SECOND_STANDARD_PARALLEL = "N/A"
  WESTERNMOST_LONGITUDE = 183.233
END_OBJECT = IMAGE_MAP_PROJECTION
END
