PDS_VERSION_ID = PDS3
/* FILE DATA ELEMENTS */
RECORD_TYPE = UNDEFINED
/* POINTERS TO DATA OBJECTS */
^IMAGE = ("HM211_0000_P24.TIF")
/* IDENTIFICATION DATA ELEMENTS */
DATA_SET_ID = "MEX-M-HRSC-4-REFDR-MAPPROJECT-EXT8-V4.0"
DATA_SET_NAME = "MARS EXPRESS HRSC MAP PROJECTED REFDR EXTENSION8 V4.0"
DETECTOR_ID = MEX_HRSC_P2
EVENT_TYPE = "MARS-LOCAL-CARTOGRAPHY-Im-Gl-Pf"
INSTRUMENT_HOST_ID = MEX
INSTRUMENT_HOST_NAME = "MARS EXPRESS"
INSTRUMENT_ID = HRSC
INSTRUMENT_NAME = "HIGH RESOLUTION STEREO CAMERA"
MISSION_NAME = "MARS EXPRESS"
MISSION_PHASE_NAME = ME_Phase_45
PROCESSING_LEVEL_ID = 4
PRODUCT_CREATION_TIME = 2023-01-26T14:38:01.000Z
PRODUCT_ID = "HM211_0000_P24.TIF"
RELEASE_ID = 0002
REVISION_ID = 0000
/* QUALITY DATA ELEMENTS */
DATA_QUALITY_ID = 1
DATA_QUALITY_DESC = "Data calculated based on original SPICE kernels"
/* TIME DATA ELEMENTS */
SPACECRAFT_CLOCK_START_COUNT = "1/0575717207.25695"
SPACECRAFT_CLOCK_STOP_COUNT = "1/0575717584.63458"
START_TIME = 2021-07-30T09:28:34.997Z
STOP_TIME = 2021-07-30T09:33:08.477Z
/* ORBITAL DATA ELEMENTS */
ASCENDING_NODE_LONGITUDE = 159.41
MAXIMUM_RESOLUTION = 0.0401
FOOTPRINT_POINT_LATITUDE = (46.1719,46.1544,46.1407,46.1111, 46.0788,46.0778,46.1427,45.3271,44.7803 ,44.5025,43.8095,43.388,43.1066,42.8259 ,42.5407,42.2554,41.9709,41.6823, 41.3931,41.1048,40.8126,40.5199,40.0791 ,39.7824,39.4864,39.1867,38.737,38.4336 ,37.9783,37.5171,37.2096,36.8983, 36.5877,36.2731,35.959,35.6412,35.3234, 35.0024,34.6812,34.3566,33.8674,33.539, 33.2083,32.7091,32.3742,32.0361,31.5262 ,31.185,31.015,30.9505,30.967,30.9758, 30.9843,30.9933,31.0037,31.0039,31.0048 ,31.3461,31.6894,32.2,32.7059,33.2074, 33.54,33.8691,34.1976,34.5236,35.0086, 35.3319,35.6505,35.97,36.285,36.7569, 37.0687,37.3798,37.6878,37.9967,38.3008 ,38.6054,39.0587,39.3601,39.8074, 40.1048,40.401,40.694,40.9878,41.4237, 41.7135,42.0036,42.2887,42.5746,43.0021 ,43.2836,43.5657,43.8483,44.4032, 44.9586,45.5064,46.0533,46.1882, 46.1719)
FOOTPRINT_POINT_LONGITUDE = (340.801,340.234,339.831,339.05,338.297 ,338.274,338.32,338.309,338.3,338.296, 338.284,338.276,338.27,338.264,338.258, 338.252,338.245,338.239,338.232,338.224 ,338.217,338.209,338.197,338.189,338.18 ,338.171,338.158,338.148,338.134, 338.118,338.108,338.097,338.086,338.075 ,338.063,338.052,338.04,338.027,338.015 ,338.002,337.982,337.968,337.954, 337.932,337.918,337.902,337.879,337.863 ,337.855,337.852,338.557,338.998, 339.419,339.959,340.715,340.744,340.755 ,340.757,340.761,340.765,340.769, 340.774,340.777,340.78,340.783,340.786, 340.791,340.795,340.798,340.802,340.805 ,340.81,340.814,340.818,340.821,340.825 ,340.829,340.832,340.839,340.843, 340.849,340.853,340.857,340.861,340.865 ,340.872,340.876,340.88,340.884,340.889 ,340.895,340.9,340.904,340.909,340.917, 340.927,340.936,340.945,340.948, 340.801)
ORBIT_NUMBER = 22211
ORBITAL_ECCENTRICITY = 0.57
ORBITAL_INCLINATION = 87.03
ORBITAL_SEMIMAJOR_AXIS = 8767.49
PERIAPSIS_ALTITUDE = 390.39
PERIAPSIS_ARGUMENT_ANGLE = 114.89
PERIAPSIS_TIME = 2021-07-30T09:23:06.000Z
SPACECRAFT_ORIENTATION = (0.0,-1.0,0.0)
^MEX_ORIENTATION_DESC = "MEX_ORIENTATION_DESC.TXT"
SPACECRAFT_POINTING_MODE = ACROSSTRACK
^MEX_POINTING_DESC = "MEX_POINTING_DESC.TXT"
RIGHT_ASCENSION = -1e+32
DECLINATION = -1e+32
OFFSET_ANGLE = 1.885
SPACECRAFT_SOLAR_DISTANCE = 2.48999e+08
TARGET_NAME = MARS
/* CAMERA DATA ELEMENTS */
DETECTOR_TEMPERATURE = 17.7588
FOCAL_PLANE_TEMPERATURE = 7.7677
INST_CMPRS_NAME = "DISCRETE COSINE TRANSFORMATION (DCT)"
INST_CMPRS_RATIO = 5.03673
INST_CMPRS_QUALITY = 0
INST_CMPRS_QUANTZ_TBL_ID = 0
INSTRUMENT_TEMPERATURE = 10.6223
LENS_TEMPERATURE = 8.3794
MACROPIXEL_SIZE = 2
MISSING_FRAMES = 0
PIXEL_SUBSAMPLING_FLAG = N
SIGNAL_CHAIN_ID = 3
/* RADIOMETRIC DATA ELEMENTS */
BANDWIDTH = 177.0
CENTER_FILTER_WAVELENGTH = 676.5
RADIANCE_OFFSET = 3.54976
RADIANCE_SCALING_FACTOR = 0.0148941
REFLECTANCE_SCALING_FACTOR = 0.000489628
MEX:REFLECTANCE_OFFSET = 0.116695
/* IMAGE OBJECT DEFINITIONS */
OBJECT = IMAGE
  INTERCHANGE_FORMAT = BINARY
  LINES = 18075
  LINE_SAMPLES = 2756
  SAMPLE_TYPE = UNSIGNED_INTEGER
  SAMPLE_BITS = 8
  BANDS = 1
  BAND_STORAGE_TYPE = BAND_SEQUENTIAL
  MAXIMUM = 255
  MEAN = 84.7269
  MINIMUM = 1
  STANDARD_DEVIATION = 19.335
END_OBJECT = IMAGE
/* MAP OBJECT DEFINITIONS */
OBJECT = IMAGE_MAP_PROJECTION
  ^DATA_SET_MAP_PROJECTION_CATALOG= "DSMAP.CAT"
  A_AXIS_RADIUS = 3396.0
  B_AXIS_RADIUS = 3396.0
  C_AXIS_RADIUS = 3396.0
  CENTER_LATITUDE = 0.0
  CENTER_LONGITUDE = 339.0
  COORDINATE_SYSTEM_NAME = PLANETOGRAPHIC
  COORDINATE_SYSTEM_TYPE = "BODY-FIXED ROTATING"
  EASTERNMOST_LONGITUDE = 340.948
  FIRST_STANDARD_PARALLEL = "N/A"
  LINE_FIRST_PIXEL = 1
  LINE_LAST_PIXEL = 18075
  LINE_PROJECTION_OFFSET = 54734.75
  MAP_PROJECTION_ROTATION = 0.0
  MAP_PROJECTION_TYPE = SINUSOIDAL
  MAP_RESOLUTION = 1185.42760773333
  MAP_SCALE = 0.05
  MAXIMUM_LATITUDE = 46.1882
  MINIMUM_LATITUDE = 30.9505
  POSITIVE_LONGITUDE_DIRECTION = EAST
  REFERENCE_LATITUDE = "N/A"
  REFERENCE_LONGITUDE = "N/A"
  SAMPLE_FIRST_PIXEL = 1
  SAMPLE_LAST_PIXEL = 2756
  SAMPLE_PROJECTION_OFFSET = 1087.75
  SECOND_STANDARD_PARALLEL = "N/A"
  WESTERNMOST_LONGITUDE = 337.852
END_OBJECT = IMAGE_MAP_PROJECTION
END
