PDS_VERSION_ID = PDS3
/* FILE DATA ELEMENTS */
RECORD_TYPE = UNDEFINED
/* POINTERS TO DATA OBJECTS */
^IMAGE = ("HM211_0000_BL4.TIF")
/* IDENTIFICATION DATA ELEMENTS */
DATA_SET_ID = "MEX-M-HRSC-4-REFDR-MAPPROJECT-EXT8-V4.0"
DATA_SET_NAME = "MARS EXPRESS HRSC MAP PROJECTED REFDR EXTENSION8 V4.0"
DETECTOR_ID = MEX_HRSC_BLUE
EVENT_TYPE = "MARS-LOCAL-CARTOGRAPHY-Im-Gl-Pf"
INSTRUMENT_HOST_ID = MEX
INSTRUMENT_HOST_NAME = "MARS EXPRESS"
INSTRUMENT_ID = HRSC
INSTRUMENT_NAME = "HIGH RESOLUTION STEREO CAMERA"
MISSION_NAME = "MARS EXPRESS"
MISSION_PHASE_NAME = ME_Phase_45
PROCESSING_LEVEL_ID = 4
PRODUCT_CREATION_TIME = 2023-01-26T14:38:01.000Z
PRODUCT_ID = "HM211_0000_BL4.TIF"
RELEASE_ID = 0002
REVISION_ID = 0000
/* QUALITY DATA ELEMENTS */
DATA_QUALITY_ID = 1
DATA_QUALITY_DESC = "Data calculated based on original SPICE kernels"
/* TIME DATA ELEMENTS */
SPACECRAFT_CLOCK_START_COUNT = "1/0575717207.25695"
SPACECRAFT_CLOCK_STOP_COUNT = "1/0575717584.63458"
START_TIME = 2021-07-30T09:28:12.076Z
STOP_TIME = 2021-07-30T09:32:32.862Z
/* ORBITAL DATA ELEMENTS */
ASCENDING_NODE_LONGITUDE = 159.41
MAXIMUM_RESOLUTION = 0.0759
FOOTPRINT_POINT_LATITUDE = (46.1537,46.1524,46.1464,46.1364,46.136 ,46.1531,45.6177,45.0714,44.5267, 43.9734,43.4198,43.1394,42.8576,42.5763 ,42.2954,42.009,41.7232,41.4378,41.0041 ,40.714,40.4245,40.1297,39.8354,39.3824 ,39.0835,38.7853,38.4841,38.1812, 37.8789,37.5721,37.1121,36.8015,36.3354 ,35.863,35.5481,35.2286,34.9099,34.587, 34.2642,33.9379,33.6111,33.2812,32.9504 ,32.6165,32.282,31.9435,31.6052,31.2624 ,31.0913,30.9588,30.9587,30.9559, 30.9533,30.9475,30.9361,30.9356,30.937, 31.2812,31.6247,31.9642,32.3032,32.6388 ,32.9732,33.305,33.7992,34.29,34.6138, 34.937,35.2567,35.5769,35.8924,36.3657, 36.6771,37.144,37.4513,37.9122,38.2153, 38.5189,38.9699,39.2692,39.5781,39.8727 ,40.1678,40.4626,40.7529,41.0437, 41.3349,41.6208,42.0505,42.3369,42.6185 ,42.9004,43.1829,43.4633,44.0182,44.572 ,45.1181,45.9329,46.0672,46.1537)
FOOTPRINT_POINT_LONGITUDE = (340.752,339.756,339.03,338.329,338.308 ,338.359,338.353,338.346,338.338, 338.329,338.32,338.315,338.309,338.304, 338.298,338.292,338.286,338.28,338.27, 338.263,338.256,338.248,338.241,338.228 ,338.22,338.212,338.203,338.194,338.185 ,338.176,338.161,338.151,338.136, 338.119,338.108,338.097,338.086,338.074 ,338.062,338.049,338.036,338.024,338.01 ,337.997,337.983,337.969,337.954,337.94 ,337.932,337.926,338.342,338.99,339.346 ,339.888,340.626,340.653,340.662, 340.666,340.671,340.675,340.679,340.683 ,340.687,340.691,340.698,340.704, 340.709,340.713,340.717,340.722,340.727 ,340.734,340.738,340.745,340.749, 340.756,340.761,340.765,340.773,340.777 ,340.783,340.787,340.792,340.797, 340.801,340.806,340.811,340.816,340.823 ,340.828,340.833,340.838,340.843, 340.848,340.858,340.868,340.878,340.893 ,340.896,340.752)
ORBIT_NUMBER = 22211
ORBITAL_ECCENTRICITY = 0.57
ORBITAL_INCLINATION = 87.03
ORBITAL_SEMIMAJOR_AXIS = 8767.49
PERIAPSIS_ALTITUDE = 390.39
PERIAPSIS_ARGUMENT_ANGLE = 114.89
PERIAPSIS_TIME = 2021-07-30T09:23:06.000Z
SPACECRAFT_ORIENTATION = (0.0,-1.0,0.0)
^MEX_ORIENTATION_DESC = "MEX_ORIENTATION_DESC.TXT"
SPACECRAFT_POINTING_MODE = ACROSSTRACK
^MEX_POINTING_DESC = "MEX_POINTING_DESC.TXT"
RIGHT_ASCENSION = -1e+32
DECLINATION = -1e+32
OFFSET_ANGLE = 1.885
SPACECRAFT_SOLAR_DISTANCE = 2.48999e+08
TARGET_NAME = MARS
/* CAMERA DATA ELEMENTS */
DETECTOR_TEMPERATURE = 16.9432
FOCAL_PLANE_TEMPERATURE = 7.7677
INST_CMPRS_NAME = "DISCRETE COSINE TRANSFORMATION (DCT)"
INST_CMPRS_RATIO = 5.86804
INST_CMPRS_QUALITY = 0
INST_CMPRS_QUANTZ_TBL_ID = 0
INSTRUMENT_TEMPERATURE = 10.6223
LENS_TEMPERATURE = 8.3794
MACROPIXEL_SIZE = 4
MISSING_FRAMES = 1
PIXEL_SUBSAMPLING_FLAG = N
SIGNAL_CHAIN_ID = 2
/* RADIOMETRIC DATA ELEMENTS */
BANDWIDTH = 76.0
CENTER_FILTER_WAVELENGTH = 444.0
RADIANCE_OFFSET = 0.707732
RADIANCE_SCALING_FACTOR = 0.0011618
REFLECTANCE_SCALING_FACTOR = 7.40089e-05
MEX:REFLECTANCE_OFFSET = 0.0450838
/* IMAGE OBJECT DEFINITIONS */
OBJECT = IMAGE
  INTERCHANGE_FORMAT = BINARY
  LINES = 9038
  LINE_SAMPLES = 1378
  SAMPLE_TYPE = UNSIGNED_INTEGER
  SAMPLE_BITS = 8
  BANDS = 1
  BAND_STORAGE_TYPE = BAND_SEQUENTIAL
  MAXIMUM = 255
  MEAN = 124.386
  MINIMUM = 1
  STANDARD_DEVIATION = 30.108
END_OBJECT = IMAGE
/* MAP OBJECT DEFINITIONS */
OBJECT = IMAGE_MAP_PROJECTION
  ^DATA_SET_MAP_PROJECTION_CATALOG= "DSMAP.CAT"
  A_AXIS_RADIUS = 3396.0
  B_AXIS_RADIUS = 3396.0
  C_AXIS_RADIUS = 3396.0
  CENTER_LATITUDE = 0.0
  CENTER_LONGITUDE = 339.0
  COORDINATE_SYSTEM_NAME = PLANETOGRAPHIC
  COORDINATE_SYSTEM_TYPE = "BODY-FIXED ROTATING"
  EASTERNMOST_LONGITUDE = 340.896
  FIRST_STANDARD_PARALLEL = "N/A"
  LINE_FIRST_PIXEL = 1
  LINE_LAST_PIXEL = 9038
  LINE_PROJECTION_OFFSET = 27367.125
  MAP_PROJECTION_ROTATION = 0.0
  MAP_PROJECTION_TYPE = SINUSOIDAL
  MAP_RESOLUTION = 592.713803866667
  MAP_SCALE = 0.1
  MAXIMUM_LATITUDE = 46.1537
  MINIMUM_LATITUDE = 30.9356
  POSITIVE_LONGITUDE_DIRECTION = EAST
  REFERENCE_LATITUDE = "N/A"
  REFERENCE_LONGITUDE = "N/A"
  SAMPLE_FIRST_PIXEL = 1
  SAMPLE_LAST_PIXEL = 1378
  SAMPLE_PROJECTION_OFFSET = 543.625
  SECOND_STANDARD_PARALLEL = "N/A"
  WESTERNMOST_LONGITUDE = 337.926
END_OBJECT = IMAGE_MAP_PROJECTION
END
