PDS_VERSION_ID = PDS3
/* FILE DATA ELEMENTS */
RECORD_TYPE = UNDEFINED
/* POINTERS TO DATA OBJECTS */
^IMAGE = ("HM203_0000_GR4.TIF")
/* IDENTIFICATION DATA ELEMENTS */
DATA_SET_ID = "MEX-M-HRSC-4-REFDR-MAPPROJECT-EXT8-V4.0"
DATA_SET_NAME = "MARS EXPRESS HRSC MAP PROJECTED REFDR EXTENSION8 V4.0"
DETECTOR_ID = MEX_HRSC_GREEN
EVENT_TYPE = "MARS-REGIONAL-MAPPING-Im-Gl-Pf"
INSTRUMENT_HOST_ID = MEX
INSTRUMENT_HOST_NAME = "MARS EXPRESS"
INSTRUMENT_ID = HRSC
INSTRUMENT_NAME = "HIGH RESOLUTION STEREO CAMERA"
MISSION_NAME = "MARS EXPRESS"
MISSION_PHASE_NAME = ME_Phase_45
PROCESSING_LEVEL_ID = 4
PRODUCT_CREATION_TIME = 2023-01-26T14:38:01.000Z
PRODUCT_ID = "HM203_0000_GR4.TIF"
RELEASE_ID = 0002
REVISION_ID = 0000
/* QUALITY DATA ELEMENTS */
DATA_QUALITY_ID = 1
DATA_QUALITY_DESC = "Data calculated based on original SPICE kernels"
/* TIME DATA ELEMENTS */
SPACECRAFT_CLOCK_START_COUNT = "1/0575515729.24883"
SPACECRAFT_CLOCK_STOP_COUNT = "1/0575516008.33735"
START_TIME = 2021-07-28T01:29:54.227Z
STOP_TIME = 2021-07-28T01:33:16.415Z
/* ORBITAL DATA ELEMENTS */
ASCENDING_NODE_LONGITUDE = 159.55
MAXIMUM_RESOLUTION = 0.0626
FOOTPRINT_POINT_LATITUDE = (69.2915,69.2569,69.2224,69.1811, 69.1797,69.1595,68.6531,68.1459,67.5111 ,67.0026,66.4935,65.984,65.729,65.3464, 65.0913,64.836,64.5725,64.3171,63.9337, 63.678,63.4223,63.1665,62.7827,62.3988, 62.1428,61.8868,61.6308,61.3747,61.1185 ,60.8625,60.6063,60.3501,60.0939, 59.8297,59.5735,59.3173,59.0612,58.805, 58.5489,58.2926,58.0366,57.7807,57.5247 ,57.2687,57.0127,56.5011,56.3732, 56.2826,56.3026,56.3164,56.3267,56.3269 ,56.328,56.5846,56.8413,57.0982,57.355, 57.6119,57.8689,58.1259,58.3829,58.64, 58.8972,59.1543,59.4115,59.6687,59.926, 60.1914,60.5773,60.8346,61.2206,61.4779 ,61.7353,61.9925,62.2498,62.5071, 62.8929,63.1501,63.4072,63.6644,63.9215 ,64.1786,64.5641,64.8211,65.0861, 65.3429,65.5997,65.8564,66.113,66.3696, 66.6261,66.8825,67.1388,67.395,67.7792, 68.0352,68.5468,69.058,69.1858,69.2915)
FOOTPRINT_POINT_LONGITUDE = (74.3421,72.8357,71.7136,70.6114, 70.5773,70.5828,70.7571,70.9219,71.1154 ,71.2609,71.3987,71.5293,71.592,71.683, 71.7417,71.7989,71.8563,71.9105,71.9892 ,72.04,72.0895,72.1377,72.2077,72.2751, 72.3185,72.3609,72.4022,72.4425,72.4817 ,72.5199,72.5571,72.5935,72.6289, 72.6644,72.698,72.7307,72.7626,72.7937, 72.824,72.8536,72.8823,72.9102,72.9375, 72.9641,72.99,73.0397,73.0517,73.0601, 73.8743,74.6324,75.5747,75.5991,75.6072 ,75.5964,75.5854,75.5738,75.5622, 75.5503,75.5381,75.5257,75.513,75.5002, 75.4868,75.4736,75.4596,75.4454,75.4309 ,75.4152,75.392,75.3761,75.3515,75.3346 ,75.3173,75.2999,75.2822,75.264,75.236, 75.2164,75.197,75.176,75.1551,75.1333, 75.1004,75.0773,75.0534,75.0293,75.0045 ,74.9794,74.9534,74.9267,74.8992, 74.8713,74.8434,74.8137,74.7678,74.7363 ,74.6706,74.6019,74.5835,74.3421)
ORBIT_NUMBER = 22203
ORBITAL_ECCENTRICITY = 0.57
ORBITAL_INCLINATION = 87.03
ORBITAL_SEMIMAJOR_AXIS = 8773.76
PERIAPSIS_ALTITUDE = 389.0
PERIAPSIS_ARGUMENT_ANGLE = 116.27
PERIAPSIS_TIME = 2021-07-28T01:31:28.000Z
SPACECRAFT_ORIENTATION = (0.0,-1.0,0.0)
^MEX_ORIENTATION_DESC = "MEX_ORIENTATION_DESC.TXT"
SPACECRAFT_POINTING_MODE = ACROSSTRACK
^MEX_POINTING_DESC = "MEX_POINTING_DESC.TXT"
RIGHT_ASCENSION = -1e+32
DECLINATION = -1e+32
OFFSET_ANGLE = 0.7
SPACECRAFT_SOLAR_DISTANCE = 2.49055e+08
TARGET_NAME = MARS
/* CAMERA DATA ELEMENTS */
DETECTOR_TEMPERATURE = 17.9627
FOCAL_PLANE_TEMPERATURE = 7.9716
INST_CMPRS_NAME = "DISCRETE COSINE TRANSFORMATION (DCT)"
INST_CMPRS_RATIO = 10.3724
INST_CMPRS_QUALITY = 0
INST_CMPRS_QUANTZ_TBL_ID = 0
INSTRUMENT_TEMPERATURE = 11.0301
LENS_TEMPERATURE = 7.9716
MACROPIXEL_SIZE = 4
PIXEL_SUBSAMPLING_FLAG = N
SIGNAL_CHAIN_ID = 2
/* RADIOMETRIC DATA ELEMENTS */
BANDWIDTH = 88.0
CENTER_FILTER_WAVELENGTH = 538.0
RADIANCE_OFFSET = 1.13361
RADIANCE_SCALING_FACTOR = 0.00313207
REFLECTANCE_SCALING_FACTOR = 0.000167267
MEX:REFLECTANCE_OFFSET = 0.06054
/* IMAGE OBJECT DEFINITIONS */
OBJECT = IMAGE
  INTERCHANGE_FORMAT = BINARY
  LINES = 15404
  LINE_SAMPLES = 2506
  SAMPLE_TYPE = UNSIGNED_INTEGER
  SAMPLE_BITS = 8
  BANDS = 1
  BAND_STORAGE_TYPE = BAND_SEQUENTIAL
  MAXIMUM = 255
  MEAN = 147.353
  MINIMUM = 1
  STANDARD_DEVIATION = 21.0309
END_OBJECT = IMAGE
/* MAP OBJECT DEFINITIONS */
OBJECT = IMAGE_MAP_PROJECTION
  ^DATA_SET_MAP_PROJECTION_CATALOG= "DSMAP.CAT"
  A_AXIS_RADIUS = 3396.0
  B_AXIS_RADIUS = 3396.0
  C_AXIS_RADIUS = 3396.0
  CENTER_LATITUDE = 0.0
  CENTER_LONGITUDE = 74.0
  COORDINATE_SYSTEM_NAME = PLANETOGRAPHIC
  COORDINATE_SYSTEM_TYPE = "BODY-FIXED ROTATING"
  EASTERNMOST_LONGITUDE = 75.60720000000001
  FIRST_STANDARD_PARALLEL = "N/A"
  LINE_FIRST_PIXEL = 1
  LINE_LAST_PIXEL = 15404
  LINE_PROJECTION_OFFSET = 82120.375
  MAP_PROJECTION_ROTATION = 0.0
  MAP_PROJECTION_TYPE = SINUSOIDAL
  MAP_RESOLUTION = 1185.42760773333
  MAP_SCALE = 0.05
  MAXIMUM_LATITUDE = 69.2915
  MINIMUM_LATITUDE = 56.2826
  POSITIVE_LONGITUDE_DIRECTION = EAST
  REFERENCE_LATITUDE = "N/A"
  REFERENCE_LONGITUDE = "N/A"
  SAMPLE_FIRST_PIXEL = 1
  SAMPLE_LAST_PIXEL = 2506
  SAMPLE_PROJECTION_OFFSET = 1446.875
  SECOND_STANDARD_PARALLEL = "N/A"
  WESTERNMOST_LONGITUDE = 70.57729999999999
END_OBJECT = IMAGE_MAP_PROJECTION
END
