PDS_VERSION_ID = PDS3
/* FILE DATA ELEMENTS */
RECORD_TYPE = UNDEFINED
/* POINTERS TO DATA OBJECTS */
^IMAGE = ("HM173_0000_P14.TIF")
/* IDENTIFICATION DATA ELEMENTS */
DATA_SET_ID = "MEX-M-HRSC-4-REFDR-MAPPROJECT-EXT8-V4.0"
DATA_SET_NAME = "MARS EXPRESS HRSC MAP PROJECTED REFDR EXTENSION8 V4.0"
DETECTOR_ID = MEX_HRSC_P1
EVENT_TYPE = "MARS-LOCAL-CARTOGRAPHY-Vo-Te-Gl"
INSTRUMENT_HOST_ID = MEX
INSTRUMENT_HOST_NAME = "MARS EXPRESS"
INSTRUMENT_ID = HRSC
INSTRUMENT_NAME = "HIGH RESOLUTION STEREO CAMERA"
MISSION_NAME = "MARS EXPRESS"
MISSION_PHASE_NAME = ME_Phase_45
PROCESSING_LEVEL_ID = 4
PRODUCT_CREATION_TIME = 2023-01-26T14:38:01.000Z
PRODUCT_ID = "HM173_0000_P14.TIF"
RELEASE_ID = 0002
REVISION_ID = 0000
/* QUALITY DATA ELEMENTS */
DATA_QUALITY_ID = 1
DATA_QUALITY_DESC = "Data calculated based on original SPICE kernels"
/* TIME DATA ELEMENTS */
SPACECRAFT_CLOCK_START_COUNT = "1/0574761531.25667"
SPACECRAFT_CLOCK_STOP_COUNT = "1/0574762009.31806"
START_TIME = 2021-07-19T07:59:38.562Z
STOP_TIME = 2021-07-19T08:06:10.984Z
/* ORBITAL DATA ELEMENTS */
ASCENDING_NODE_LONGITUDE = 160.1
MAXIMUM_RESOLUTION = 0.0637
FOOTPRINT_POINT_LATITUDE = (66.8113,66.7499,66.635,66.633,66.5447, 65.585,64.6206,63.6518,62.679,62.1911, 61.7022,61.2127,60.7226,60.2314,59.7398 ,59.2471,58.5072,58.0135,57.5187, 57.0236,56.5277,56.0313,55.5344,55.0378 ,54.291,53.793,53.2944,52.7959,52.2972, 51.7986,51.2988,50.7986,50.2991,49.7989 ,49.2993,48.7997,48.3005,47.8012, 47.3024,46.5542,46.055,45.5576,45.0599, 44.5495,44.0386,43.5265,43.0169,42.4935 ,41.9697,41.7081,41.672,41.7051,41.7195 ,41.7199,41.7211,42.2453,42.7703, 43.5476,44.0583,44.5732,45.0864,45.5879 ,46.0884,46.8394,47.3399,47.8416, 48.5935,49.0951,49.8475,50.5997,51.101, 51.6025,52.1034,52.6048,53.1057,53.6065 ,54.1067,54.6065,55.356,55.8554,56.3545 ,56.8529,57.351,58.0978,58.8429,59.339, 60.0824,60.577,61.0711,61.5646,62.0576, 62.55,63.0415,63.5323,64.0222,64.5112, 65.4868,66.4587,66.701,66.8113)
FOOTPRINT_POINT_LONGITUDE = (255.885,254.506,252.48,252.448,252.341 ,252.7,253.027,253.326,253.601,253.729, 253.852,253.97,254.083,254.192,254.296, 254.395,254.537,254.627,254.713,254.796 ,254.875,254.951,255.024,255.094, 255.193,255.256,255.316,255.373,255.429 ,255.482,255.532,255.58,255.626,255.67, 255.712,255.753,255.792,255.829,255.865 ,255.915,255.946,255.977,256.006, 256.034,256.061,256.085,256.109,256.132 ,256.153,256.163,256.164,257.353, 258.131,258.15,258.156,258.139,258.122, 258.094,258.077,258.056,258.036,258.016 ,257.995,257.962,257.939,257.916, 257.879,257.853,257.812,257.77,257.74, 257.71,257.678,257.645,257.611,257.576, 257.54,257.502,257.443,257.402,257.36, 257.316,257.27,257.198,257.122,257.069, 256.986,256.928,256.868,256.805,256.74, 256.672,256.601,256.527,256.451,256.371 ,256.201,256.016,255.968,255.885)
ORBIT_NUMBER = 22173
ORBITAL_ECCENTRICITY = 0.571
ORBITAL_INCLINATION = 87.01
ORBITAL_SEMIMAJOR_AXIS = 8780.27
PERIAPSIS_ALTITUDE = 386.95
PERIAPSIS_ARGUMENT_ANGLE = 121.42
PERIAPSIS_TIME = 2021-07-19T08:02:12.000Z
SPACECRAFT_ORIENTATION = (0.0,-1.0,0.0)
^MEX_ORIENTATION_DESC = "MEX_ORIENTATION_DESC.TXT"
SPACECRAFT_POINTING_MODE = ACROSSTRACK
^MEX_POINTING_DESC = "MEX_POINTING_DESC.TXT"
RIGHT_ASCENSION = -1e+32
DECLINATION = -1e+32
OFFSET_ANGLE = -0.269
SPACECRAFT_SOLAR_DISTANCE = 2.49194e+08
TARGET_NAME = MARS
/* CAMERA DATA ELEMENTS */
DETECTOR_TEMPERATURE = 16.9432
FOCAL_PLANE_TEMPERATURE = 7.7677
INST_CMPRS_NAME = "DISCRETE COSINE TRANSFORMATION (DCT)"
INST_CMPRS_RATIO = 12.4195
INST_CMPRS_QUALITY = 0
INST_CMPRS_QUANTZ_TBL_ID = 0
INSTRUMENT_TEMPERATURE = 11.0301
LENS_TEMPERATURE = 8.3794
MACROPIXEL_SIZE = 4
MISSING_FRAMES = 0
PIXEL_SUBSAMPLING_FLAG = N
SIGNAL_CHAIN_ID = 3
/* RADIOMETRIC DATA ELEMENTS */
BANDWIDTH = 174.0
CENTER_FILTER_WAVELENGTH = 675.0
RADIANCE_OFFSET = 3.52527
RADIANCE_SCALING_FACTOR = 0.0311053
REFLECTANCE_SCALING_FACTOR = 0.00103895
MEX:REFLECTANCE_OFFSET = 0.117748
/* IMAGE OBJECT DEFINITIONS */
OBJECT = IMAGE
  INTERCHANGE_FORMAT = BINARY
  LINES = 29714
  LINE_SAMPLES = 3651
  SAMPLE_TYPE = UNSIGNED_INTEGER
  SAMPLE_BITS = 8
  BANDS = 1
  BAND_STORAGE_TYPE = BAND_SEQUENTIAL
  MAXIMUM = 255
  MEAN = 95.4705
  MINIMUM = 1
  STANDARD_DEVIATION = 36.0539
END_OBJECT = IMAGE
/* MAP OBJECT DEFINITIONS */
OBJECT = IMAGE_MAP_PROJECTION
  ^DATA_SET_MAP_PROJECTION_CATALOG= "DSMAP.CAT"
  A_AXIS_RADIUS = 3396.0
  B_AXIS_RADIUS = 3396.0
  C_AXIS_RADIUS = 3396.0
  CENTER_LATITUDE = 0.0
  CENTER_LONGITUDE = 256.0
  COORDINATE_SYSTEM_NAME = PLANETOGRAPHIC
  COORDINATE_SYSTEM_TYPE = "BODY-FIXED ROTATING"
  EASTERNMOST_LONGITUDE = 258.156
  FIRST_STANDARD_PARALLEL = "N/A"
  LINE_FIRST_PIXEL = 1
  LINE_LAST_PIXEL = 29714
  LINE_PROJECTION_OFFSET = 79105.875
  MAP_PROJECTION_ROTATION = 0.0
  MAP_PROJECTION_TYPE = SINUSOIDAL
  MAP_RESOLUTION = 1185.42760773333
  MAP_SCALE = 0.05
  MAXIMUM_LATITUDE = 66.8113
  MINIMUM_LATITUDE = 41.672
  POSITIVE_LONGITUDE_DIRECTION = EAST
  REFERENCE_LATITUDE = "N/A"
  REFERENCE_LONGITUDE = "N/A"
  SAMPLE_FIRST_PIXEL = 1
  SAMPLE_LAST_PIXEL = 3651
  SAMPLE_PROJECTION_OFFSET = 1723.125
  SECOND_STANDARD_PARALLEL = "N/A"
  WESTERNMOST_LONGITUDE = 252.341
END_OBJECT = IMAGE_MAP_PROJECTION
END
