PDS_VERSION_ID = PDS3
/* FILE DATA ELEMENTS */
RECORD_TYPE = UNDEFINED
/* POINTERS TO DATA OBJECTS */
^IMAGE = ("HM161_0000_S14.TIF")
/* IDENTIFICATION DATA ELEMENTS */
DATA_SET_ID = "MEX-M-HRSC-4-REFDR-MAPPROJECT-EXT8-V4.0"
DATA_SET_NAME = "MARS EXPRESS HRSC MAP PROJECTED REFDR EXTENSION8 V4.0"
DETECTOR_ID = MEX_HRSC_S1
EVENT_TYPE = "MARS-REGIONAL-MAPPING-Im-Pf-Mw"
INSTRUMENT_HOST_ID = MEX
INSTRUMENT_HOST_NAME = "MARS EXPRESS"
INSTRUMENT_ID = HRSC
INSTRUMENT_NAME = "HIGH RESOLUTION STEREO CAMERA"
MISSION_NAME = "MARS EXPRESS"
MISSION_PHASE_NAME = ME_Phase_45
PROCESSING_LEVEL_ID = 4
PRODUCT_CREATION_TIME = 2023-01-26T14:38:01.000Z
PRODUCT_ID = "HM161_0000_S14.TIF"
RELEASE_ID = 0002
REVISION_ID = 0000
/* QUALITY DATA ELEMENTS */
DATA_QUALITY_ID = 1
DATA_QUALITY_DESC = "Data calculated based on original SPICE kernels"
/* TIME DATA ELEMENTS */
SPACECRAFT_CLOCK_START_COUNT = "1/0574459823.25686"
SPACECRAFT_CLOCK_STOP_COUNT = "1/0574460109.58480"
START_TIME = 2021-07-15T20:10:57.222Z
STOP_TIME = 2021-07-15T20:14:30.305Z
/* ORBITAL DATA ELEMENTS */
ASCENDING_NODE_LONGITUDE = 160.3
MAXIMUM_RESOLUTION = 0.033
FOOTPRINT_POINT_LATITUDE = (66.889,66.8288,66.7589,66.6629,66.6602 ,66.5236,66.2569,65.8575,65.5966, 65.3349,65.073,64.8106,64.5478,64.2845, 63.8918,63.2472,62.7302,62.2114,61.9514 ,61.6911,61.2996,61.0383,60.7766, 60.5146,60.121,59.8585,59.4636,59.0676, 58.8036,58.5395,58.1423,57.8771,57.6116 ,57.346,57.08,56.8139,56.5473,56.2804, 55.8799,55.6127,55.3452,54.9429,54.6747 ,54.4065,54.0034,53.7344,53.4651, 53.3304,53.3194,53.3589,53.41,53.4503, 53.4514,53.4522,53.7231,53.9935,54.3985 ,54.6685,55.073,55.4769,55.7461,56.0152 ,56.4182,56.6866,56.9546,57.2221, 57.4885,57.7574,58.0251,58.4249,58.6914 ,58.9576,59.2236,59.4894,59.755,60.02, 60.4174,60.6819,60.9459,61.2097,61.4734 ,61.7368,61.9998,62.2623,62.5246, 62.7865,63.0483,63.3095,63.5706,64.0914 ,64.4883,64.7545,65.1534,65.4193, 65.8165,66.0814,66.35,66.6205,66.7557, 66.889)
FOOTPRINT_POINT_LONGITUDE = (40.8705,39.7591,38.6419,37.3074, 37.2722,37.1494,37.2612,37.4233,37.526, 37.626,37.7239,37.8195,37.9129,38.0041, 38.1359,38.3419,38.4988,38.6489,38.7214 ,38.7924,38.8957,38.9629,39.0285, 39.0928,39.1866,39.2477,39.3366,39.4223 ,39.4782,39.5331,39.6128,39.6646, 39.7152,39.7649,39.8134,39.8611,39.9074 ,39.9529,40.0194,40.0627,40.1051, 40.1664,40.2064,40.2457,40.3028,40.3399 ,40.3761,40.3939,40.3954,40.9813,41.829 ,42.6666,42.6885,42.6964,42.6752, 42.6538,42.6209,42.5984,42.564,42.5286, 42.5044,42.4798,42.4421,42.4163,42.3901 ,42.3635,42.3365,42.3084,42.2801, 42.2368,42.2072,42.177,42.1462,42.1148, 42.0828,42.0503,42.0001,41.9659,41.9311 ,41.8955,41.8592,41.8221,41.7843, 41.7458,41.7065,41.6663,41.6254,41.5836 ,41.5409,41.4528,41.383,41.3349,41.2606 ,41.2094,41.131,41.0769,41.021,40.963, 40.9336,40.8705)
ORBIT_NUMBER = 22161
ORBITAL_ECCENTRICITY = 0.571
ORBITAL_INCLINATION = 87.02
ORBITAL_SEMIMAJOR_AXIS = 8784.53
PERIAPSIS_ALTITUDE = 386.47
PERIAPSIS_ARGUMENT_ANGLE = 123.51
PERIAPSIS_TIME = 2021-07-15T20:14:19.000Z
SPACECRAFT_ORIENTATION = (0.0,-1.0,0.0)
^MEX_ORIENTATION_DESC = "MEX_ORIENTATION_DESC.TXT"
SPACECRAFT_POINTING_MODE = ACROSSTRACK
^MEX_POINTING_DESC = "MEX_POINTING_DESC.TXT"
RIGHT_ASCENSION = -1e+32
DECLINATION = -1e+32
OFFSET_ANGLE = -0.499
SPACECRAFT_SOLAR_DISTANCE = 2.49217e+08
TARGET_NAME = MARS
/* CAMERA DATA ELEMENTS */
DETECTOR_TEMPERATURE = 17.1471
FOCAL_PLANE_TEMPERATURE = 7.9716
INST_CMPRS_NAME = "DISCRETE COSINE TRANSFORMATION (DCT)"
INST_CMPRS_RATIO = 8.82064
INST_CMPRS_QUALITY = 0
INST_CMPRS_QUANTZ_TBL_ID = 0
INSTRUMENT_TEMPERATURE = 10.6223
LENS_TEMPERATURE = 8.7872
MACROPIXEL_SIZE = 2
MISSING_FRAMES = 0
PIXEL_SUBSAMPLING_FLAG = N
SIGNAL_CHAIN_ID = 1
/* RADIOMETRIC DATA ELEMENTS */
BANDWIDTH = 180.0
CENTER_FILTER_WAVELENGTH = 677.0
RADIANCE_OFFSET = 2.54716
RADIANCE_SCALING_FACTOR = 0.0270287
REFLECTANCE_SCALING_FACTOR = 0.00087584
MEX:REFLECTANCE_OFFSET = 0.0825384
/* IMAGE OBJECT DEFINITIONS */
OBJECT = IMAGE
  INTERCHANGE_FORMAT = BINARY
  LINES = 31783
  LINE_SAMPLES = 5990
  SAMPLE_TYPE = UNSIGNED_INTEGER
  SAMPLE_BITS = 8
  BANDS = 1
  BAND_STORAGE_TYPE = BAND_SEQUENTIAL
  MAXIMUM = 255
  MEAN = 83.2582
  MINIMUM = 1
  STANDARD_DEVIATION = 18.6624
END_OBJECT = IMAGE
/* MAP OBJECT DEFINITIONS */
OBJECT = IMAGE_MAP_PROJECTION
  ^DATA_SET_MAP_PROJECTION_CATALOG= "DSMAP.CAT"
  A_AXIS_RADIUS = 3396.0
  B_AXIS_RADIUS = 3396.0
  C_AXIS_RADIUS = 3396.0
  CENTER_LATITUDE = 0.0
  CENTER_LONGITUDE = 41.0
  COORDINATE_SYSTEM_NAME = PLANETOGRAPHIC
  COORDINATE_SYSTEM_TYPE = "BODY-FIXED ROTATING"
  EASTERNMOST_LONGITUDE = 42.6964
  FIRST_STANDARD_PARALLEL = "N/A"
  LINE_FIRST_PIXEL = 1
  LINE_LAST_PIXEL = 31783
  LINE_PROJECTION_OFFSET = 158263.25
  MAP_PROJECTION_ROTATION = 0.0
  MAP_PROJECTION_TYPE = SINUSOIDAL
  MAP_RESOLUTION = 2370.85521546667
  MAP_SCALE = 0.025
  MAXIMUM_LATITUDE = 66.889
  MINIMUM_LATITUDE = 53.3194
  POSITIVE_LONGITUDE_DIRECTION = EAST
  REFERENCE_LATITUDE = "N/A"
  REFERENCE_LONGITUDE = "N/A"
  SAMPLE_FIRST_PIXEL = 1
  SAMPLE_LAST_PIXEL = 5990
  SAMPLE_PROJECTION_OFFSET = 3594.75
  SECOND_STANDARD_PARALLEL = "N/A"
  WESTERNMOST_LONGITUDE = 37.1494
END_OBJECT = IMAGE_MAP_PROJECTION
END
