PDS_VERSION_ID = PDS3
/* FILE DATA ELEMENTS */
RECORD_TYPE = UNDEFINED
/* POINTERS TO DATA OBJECTS */
^IMAGE = ("HM154_0000_RE4.TIF")
/* IDENTIFICATION DATA ELEMENTS */
DATA_SET_ID = "MEX-M-HRSC-4-REFDR-MAPPROJECT-EXT8-V4.0"
DATA_SET_NAME = "MARS EXPRESS HRSC MAP PROJECTED REFDR EXTENSION8 V4.0"
DETECTOR_ID = MEX_HRSC_RED
EVENT_TYPE = "MARS-REGIONAL-MAPPING-Gl-Pf-Mw"
INSTRUMENT_HOST_ID = MEX
INSTRUMENT_HOST_NAME = "MARS EXPRESS"
INSTRUMENT_ID = HRSC
INSTRUMENT_NAME = "HIGH RESOLUTION STEREO CAMERA"
MISSION_NAME = "MARS EXPRESS"
MISSION_PHASE_NAME = ME_Phase_45
PROCESSING_LEVEL_ID = 4
PRODUCT_CREATION_TIME = 2023-01-26T14:38:01.000Z
PRODUCT_ID = "HM154_0000_RE4.TIF"
RELEASE_ID = 0002
REVISION_ID = 0000
/* QUALITY DATA ELEMENTS */
DATA_QUALITY_ID = 1
DATA_QUALITY_DESC = "Data calculated based on original SPICE kernels"
/* TIME DATA ELEMENTS */
SPACECRAFT_CLOCK_START_COUNT = "1/0574283839.25685"
SPACECRAFT_CLOCK_STOP_COUNT = "1/0574284121.22841"
START_TIME = 2021-07-13T19:19:04.664Z
STOP_TIME = 2021-07-13T19:22:26.978Z
/* ORBITAL DATA ELEMENTS */
ASCENDING_NODE_LONGITUDE = 160.43
MAXIMUM_RESOLUTION = 0.0652
FOOTPRINT_POINT_LATITUDE = (66.0881,66.0365,65.9914,65.9416, 65.9399,66.0445,65.7841,65.3932,65.1326 ,64.872,64.6112,64.3504,64.0897,63.8292 ,63.4381,63.0468,62.6558,62.3951, 62.1346,61.7436,61.4828,61.2226,60.962, 60.7017,60.3111,60.0509,59.7908,59.5306 ,59.2704,59.0104,58.7506,58.4909, 58.1014,57.712,57.4527,57.1936,56.9344, 56.6755,56.2871,56.0284,55.6406,55.382, 55.1238,54.8659,54.479,53.8351,53.1926, 53.064,53.05,53.0886,53.1144,53.1464, 53.1472,53.1484,53.6637,53.9216,54.1797 ,54.4382,54.6969,55.0846,55.4733, 55.7325,55.9919,56.2515,56.5111,56.7707 ,57.0308,57.2909,57.6813,57.9416, 58.2023,58.4628,58.854,59.1149,59.3759, 59.6368,59.898,60.1596,60.4209,60.8133, 61.0749,61.4673,61.729,61.9909,62.2528, 62.5147,62.7768,63.0388,63.301,63.5631, 63.825,64.0876,64.3499,64.743,65.0055, 65.2676,65.6609,66.062,66.1916,66.0881)
FOOTPRINT_POINT_LONGITUDE = (39.3924,38.0236,37.0094,36.0171, 35.9864,35.9847,36.0479,36.1396,36.1987 ,36.2561,36.3121,36.3666,36.4196, 36.4713,36.5462,36.6182,36.6874,36.732, 36.7755,36.8386,36.8793,36.919,36.9577, 36.9953,37.05,37.0853,37.1196,37.1531, 37.1857,37.2174,37.2484,37.2785,37.3223 ,37.3643,37.3914,37.4179,37.4436, 37.4686,37.5049,37.5283,37.5623,37.5841 ,37.6054,37.6261,37.6561,37.7034, 37.7475,37.756,37.7569,38.5879,39.1992, 40.0707,40.0934,40.1009,40.091,40.0858, 40.0806,40.0754,40.0702,40.0611,40.0525 ,40.0466,40.0403,40.0341,40.0274, 40.0203,40.0137,40.0066,39.9956,39.9879 ,39.9803,39.972,39.9597,39.9511,39.9423 ,39.9328,39.9236,39.9144,39.9046, 39.8895,39.879,39.8625,39.8511,39.8397, 39.8278,39.8156,39.8033,39.7902,39.7772 ,39.7635,39.7492,39.7355,39.7207, 39.6973,39.6818,39.6651,39.6393,39.6273 ,39.6153,39.3924)
ORBIT_NUMBER = 22154
ORBITAL_ECCENTRICITY = 0.571
ORBITAL_INCLINATION = 87.01
ORBITAL_SEMIMAJOR_AXIS = 8786.09
PERIAPSIS_ALTITUDE = 385.92
PERIAPSIS_ARGUMENT_ANGLE = 124.71
PERIAPSIS_TIME = 2021-07-13T19:21:24.000Z
SPACECRAFT_ORIENTATION = (0.0,-1.0,0.0)
^MEX_ORIENTATION_DESC = "MEX_ORIENTATION_DESC.TXT"
SPACECRAFT_POINTING_MODE = ACROSSTRACK
^MEX_POINTING_DESC = "MEX_POINTING_DESC.TXT"
RIGHT_ASCENSION = -1e+32
DECLINATION = -1e+32
OFFSET_ANGLE = 0.89
SPACECRAFT_SOLAR_DISTANCE = 2.49223e+08
TARGET_NAME = MARS
/* CAMERA DATA ELEMENTS */
DETECTOR_TEMPERATURE = 18.5744
FOCAL_PLANE_TEMPERATURE = 8.1755
INST_CMPRS_NAME = "DISCRETE COSINE TRANSFORMATION (DCT)"
INST_CMPRS_RATIO = 16.0104
INST_CMPRS_QUALITY = 0
INST_CMPRS_QUANTZ_TBL_ID = 0
INSTRUMENT_TEMPERATURE = 11.0301
LENS_TEMPERATURE = 8.9911
MACROPIXEL_SIZE = 4
MISSING_FRAMES = 0
PIXEL_SUBSAMPLING_FLAG = N
SIGNAL_CHAIN_ID = 2
/* RADIOMETRIC DATA ELEMENTS */
BANDWIDTH = 48.0
CENTER_FILTER_WAVELENGTH = 748.0
RADIANCE_OFFSET = 0.887008
RADIANCE_SCALING_FACTOR = 0.00561906
REFLECTANCE_SCALING_FACTOR = 0.000796468
MEX:REFLECTANCE_OFFSET = 0.125728
/* IMAGE OBJECT DEFINITIONS */
OBJECT = IMAGE
  INTERCHANGE_FORMAT = BINARY
  LINES = 15522
  LINE_SAMPLES = 2477
  SAMPLE_TYPE = UNSIGNED_INTEGER
  SAMPLE_BITS = 8
  BANDS = 1
  BAND_STORAGE_TYPE = BAND_SEQUENTIAL
  MAXIMUM = 255
  MEAN = 90.7785
  MINIMUM = 1
  STANDARD_DEVIATION = 26.694
END_OBJECT = IMAGE
/* MAP OBJECT DEFINITIONS */
OBJECT = IMAGE_MAP_PROJECTION
  ^DATA_SET_MAP_PROJECTION_CATALOG= "DSMAP.CAT"
  A_AXIS_RADIUS = 3396.0
  B_AXIS_RADIUS = 3396.0
  C_AXIS_RADIUS = 3396.0
  CENTER_LATITUDE = 0.0
  CENTER_LONGITUDE = 38.0
  COORDINATE_SYSTEM_NAME = PLANETOGRAPHIC
  COORDINATE_SYSTEM_TYPE = "BODY-FIXED ROTATING"
  EASTERNMOST_LONGITUDE = 40.1009
  FIRST_STANDARD_PARALLEL = "N/A"
  LINE_FIRST_PIXEL = 1
  LINE_LAST_PIXEL = 15522
  LINE_PROJECTION_OFFSET = 78427.625
  MAP_PROJECTION_ROTATION = 0.0
  MAP_PROJECTION_TYPE = SINUSOIDAL
  MAP_RESOLUTION = 1185.42760773333
  MAP_SCALE = 0.05
  MAXIMUM_LATITUDE = 66.19159999999999
  MINIMUM_LATITUDE = 53.05
  POSITIVE_LONGITUDE_DIRECTION = EAST
  REFERENCE_LATITUDE = "N/A"
  REFERENCE_LONGITUDE = "N/A"
  SAMPLE_FIRST_PIXEL = 1
  SAMPLE_LAST_PIXEL = 2477
  SAMPLE_PROJECTION_OFFSET = 997.375
  SECOND_STANDARD_PARALLEL = "N/A"
  WESTERNMOST_LONGITUDE = 35.9847
END_OBJECT = IMAGE_MAP_PROJECTION
END
