PDS_VERSION_ID = PDS3
/* FILE DATA ELEMENTS */
RECORD_TYPE = UNDEFINED
/* POINTERS TO DATA OBJECTS */
^IMAGE = ("HM152_0000_GR4.TIF")
/* IDENTIFICATION DATA ELEMENTS */
DATA_SET_ID = "MEX-M-HRSC-4-REFDR-MAPPROJECT-EXT8-V4.0"
DATA_SET_NAME = "MARS EXPRESS HRSC MAP PROJECTED REFDR EXTENSION8 V4.0"
DETECTOR_ID = MEX_HRSC_GREEN
EVENT_TYPE = "MARS-LOCAL-CARTOGRAPHY-Vo-Te-Fl"
INSTRUMENT_HOST_ID = MEX
INSTRUMENT_HOST_NAME = "MARS EXPRESS"
INSTRUMENT_ID = HRSC
INSTRUMENT_NAME = "HIGH RESOLUTION STEREO CAMERA"
MISSION_NAME = "MARS EXPRESS"
MISSION_PHASE_NAME = ME_Phase_45
PROCESSING_LEVEL_ID = 4
PRODUCT_CREATION_TIME = 2023-01-26T14:38:01.000Z
PRODUCT_ID = "HM152_0000_GR4.TIF"
RELEASE_ID = 0002
REVISION_ID = 0000
/* QUALITY DATA ELEMENTS */
DATA_QUALITY_ID = 1
DATA_QUALITY_DESC = "Data calculated based on original SPICE kernels"
/* TIME DATA ELEMENTS */
SPACECRAFT_CLOCK_START_COUNT = "1/0574233735.25701"
SPACECRAFT_CLOCK_STOP_COUNT = "1/0574234008.41258"
START_TIME = 2021-07-13T05:23:19.160Z
STOP_TIME = 2021-07-13T05:26:33.406Z
/* ORBITAL DATA ELEMENTS */
ASCENDING_NODE_LONGITUDE = 160.47
MAXIMUM_RESOLUTION = 0.0618
FOOTPRINT_POINT_LATITUDE = (54.8221,54.8191,54.8121,54.8014,54.801 ,54.7868,54.5401,54.2933,53.923,53.6761 ,53.4292,53.0588,52.6884,52.4414, 52.1945,51.9475,51.7006,51.4536,51.2067 ,50.9597,50.7128,50.466,50.2191,49.9723 ,49.7255,49.4788,49.2321,48.8621, 48.6156,48.369,48.1226,47.7531,47.5069, 47.2608,47.0147,46.7687,46.3999,46.0313 ,45.7857,45.5403,45.2949,45.0496, 44.5593,44.0694,43.4578,43.0846,42.8337 ,42.5827,42.4567,42.3772,42.3792, 42.3761,42.3713,42.3711,42.372,42.6232, 42.8746,43.126,43.3761,43.8661,44.2339, 44.7246,44.9701,45.2157,45.4616,45.8305 ,46.0766,46.3227,46.5689,46.8154, 47.1852,47.5552,47.802,48.0488,48.4193, 48.6663,48.9134,49.2843,49.5315,49.7788 ,50.1499,50.3973,50.6448,50.8922, 51.1397,51.3873,51.6348,51.8824,52.1299 ,52.5013,52.7489,53.1202,53.3678, 53.6154,53.8629,54.1104,54.358,54.6055, 54.7293,54.8221)
FOOTPRINT_POINT_LONGITUDE = (244.534,243.601,242.912,242.238, 242.217,242.245,242.262,242.28,242.304, 242.321,242.336,242.359,242.381,242.395 ,242.409,242.422,242.435,242.447, 242.459,242.471,242.483,242.494,242.504 ,242.515,242.525,242.534,242.544, 242.557,242.566,242.574,242.582,242.593 ,242.6,242.607,242.614,242.62,242.629, 242.637,242.642,242.647,242.651,242.656 ,242.664,242.671,242.679,242.683, 242.686,242.689,242.691,242.69,243.405, 244.14,244.63,244.649,244.656,244.657, 244.658,244.659,244.662,244.666,244.67, 244.675,244.678,244.68,244.681,244.684, 244.686,244.688,244.69,244.69,244.692, 244.693,244.693,244.694,244.694,244.694 ,244.693,244.693,244.692,244.692,244.69 ,244.69,244.688,244.687,244.686,244.685 ,244.684,244.683,244.682,244.679, 244.678,244.676,244.674,244.672,244.671 ,244.669,244.666,244.664,244.663, 244.534)
ORBIT_NUMBER = 22152
ORBITAL_ECCENTRICITY = 0.571
ORBITAL_INCLINATION = 87.02
ORBITAL_SEMIMAJOR_AXIS = 8785.67
PERIAPSIS_ALTITUDE = 384.88
PERIAPSIS_ARGUMENT_ANGLE = 125.02
PERIAPSIS_TIME = 2021-07-13T05:23:23.000Z
SPACECRAFT_ORIENTATION = (0.0,-1.0,0.0)
^MEX_ORIENTATION_DESC = "MEX_ORIENTATION_DESC.TXT"
SPACECRAFT_POINTING_MODE = ACROSSTRACK
^MEX_POINTING_DESC = "MEX_POINTING_DESC.TXT"
RIGHT_ASCENSION = -1e+32
DECLINATION = -1e+32
OFFSET_ANGLE = 1.078
SPACECRAFT_SOLAR_DISTANCE = 2.49223e+08
TARGET_NAME = MARS
/* CAMERA DATA ELEMENTS */
DETECTOR_TEMPERATURE = 17.7588
FOCAL_PLANE_TEMPERATURE = 7.7677
INST_CMPRS_NAME = "DISCRETE COSINE TRANSFORMATION (DCT)"
INST_CMPRS_RATIO = 10.9441
INST_CMPRS_QUALITY = 0
INST_CMPRS_QUANTZ_TBL_ID = 0
INSTRUMENT_TEMPERATURE = 11.0301
LENS_TEMPERATURE = 6.9521
MACROPIXEL_SIZE = 4
MISSING_FRAMES = 0
PIXEL_SUBSAMPLING_FLAG = N
SIGNAL_CHAIN_ID = 2
/* RADIOMETRIC DATA ELEMENTS */
BANDWIDTH = 88.0
CENTER_FILTER_WAVELENGTH = 538.0
RADIANCE_OFFSET = 1.61282
RADIANCE_SCALING_FACTOR = 0.00599192
REFLECTANCE_SCALING_FACTOR = 0.000320429
MEX:REFLECTANCE_OFFSET = 0.0862487
/* IMAGE OBJECT DEFINITIONS */
OBJECT = IMAGE
  INTERCHANGE_FORMAT = BINARY
  LINES = 14783
  LINE_SAMPLES = 1787
  SAMPLE_TYPE = UNSIGNED_INTEGER
  SAMPLE_BITS = 8
  BANDS = 1
  BAND_STORAGE_TYPE = BAND_SEQUENTIAL
  MAXIMUM = 255
  MEAN = 110.37
  MINIMUM = 1
  STANDARD_DEVIATION = 34.034
END_OBJECT = IMAGE
/* MAP OBJECT DEFINITIONS */
OBJECT = IMAGE_MAP_PROJECTION
  ^DATA_SET_MAP_PROJECTION_CATALOG= "DSMAP.CAT"
  A_AXIS_RADIUS = 3396.0
  B_AXIS_RADIUS = 3396.0
  C_AXIS_RADIUS = 3396.0
  CENTER_LATITUDE = 0.0
  CENTER_LONGITUDE = 244.0
  COORDINATE_SYSTEM_NAME = PLANETOGRAPHIC
  COORDINATE_SYSTEM_TYPE = "BODY-FIXED ROTATING"
  EASTERNMOST_LONGITUDE = 244.694
  FIRST_STANDARD_PARALLEL = "N/A"
  LINE_FIRST_PIXEL = 1
  LINE_LAST_PIXEL = 14783
  LINE_PROJECTION_OFFSET = 65000.125
  MAP_PROJECTION_ROTATION = 0.0
  MAP_PROJECTION_TYPE = SINUSOIDAL
  MAP_RESOLUTION = 1185.42760773333
  MAP_SCALE = 0.05
  MAXIMUM_LATITUDE = 54.8221
  MINIMUM_LATITUDE = 42.3711
  POSITIVE_LONGITUDE_DIRECTION = EAST
  REFERENCE_LATITUDE = "N/A"
  REFERENCE_LONGITUDE = "N/A"
  SAMPLE_FIRST_PIXEL = 1
  SAMPLE_LAST_PIXEL = 1787
  SAMPLE_PROJECTION_OFFSET = 1208.375
  SECOND_STANDARD_PARALLEL = "N/A"
  WESTERNMOST_LONGITUDE = 242.217
END_OBJECT = IMAGE_MAP_PROJECTION
END
