PDS_VERSION_ID = PDS3
/* FILE DATA ELEMENTS */
RECORD_TYPE = UNDEFINED
/* POINTERS TO DATA OBJECTS */
^IMAGE = ("HM152_0000_BL4.TIF")
/* IDENTIFICATION DATA ELEMENTS */
DATA_SET_ID = "MEX-M-HRSC-4-REFDR-MAPPROJECT-EXT8-V4.0"
DATA_SET_NAME = "MARS EXPRESS HRSC MAP PROJECTED REFDR EXTENSION8 V4.0"
DETECTOR_ID = MEX_HRSC_BLUE
EVENT_TYPE = "MARS-LOCAL-CARTOGRAPHY-Vo-Te-Fl"
INSTRUMENT_HOST_ID = MEX
INSTRUMENT_HOST_NAME = "MARS EXPRESS"
INSTRUMENT_ID = HRSC
INSTRUMENT_NAME = "HIGH RESOLUTION STEREO CAMERA"
MISSION_NAME = "MARS EXPRESS"
MISSION_PHASE_NAME = ME_Phase_45
PROCESSING_LEVEL_ID = 4
PRODUCT_CREATION_TIME = 2023-01-26T14:38:01.000Z
PRODUCT_ID = "HM152_0000_BL4.TIF"
RELEASE_ID = 0002
REVISION_ID = 0000
/* QUALITY DATA ELEMENTS */
DATA_QUALITY_ID = 1
DATA_QUALITY_DESC = "Data calculated based on original SPICE kernels"
/* TIME DATA ELEMENTS */
SPACECRAFT_CLOCK_START_COUNT = "1/0574233735.25701"
SPACECRAFT_CLOCK_STOP_COUNT = "1/0574234008.41258"
START_TIME = 2021-07-13T05:23:31.158Z
STOP_TIME = 2021-07-13T05:26:46.637Z
/* ORBITAL DATA ELEMENTS */
ASCENDING_NODE_LONGITUDE = 160.47
MAXIMUM_RESOLUTION = 0.0619
FOOTPRINT_POINT_LATITUDE = (54.8115,54.7965,54.781,54.7622,54.7616 ,54.7778,54.4044,54.0309,53.782,53.5331 ,53.2844,53.0356,52.7869,52.4139, 52.1653,51.9168,51.6683,51.4199,51.1716 ,50.9234,50.6752,50.4271,50.1791, 49.8073,49.5594,49.3117,49.0641,48.8166 ,48.5692,48.3219,47.9511,47.5805, 47.3335,47.0867,46.84,46.5936,46.1007, 45.7314,45.1166,44.6255,44.1352,43.7584 ,43.5069,43.2558,43.0049,42.7544, 42.5049,42.379,42.3444,42.358,42.3638, 42.3661,42.3661,42.3672,42.6179,42.8688 ,43.12,43.3715,43.6232,43.8752,44.3735, 44.8653,45.3577,45.605,46.0974,46.3444, 46.5914,46.8384,47.0856,47.333,47.5804, 47.8279,48.0756,48.3233,48.5711,48.9431 ,49.1911,49.4393,49.6876,49.936,50.1845 ,50.433,50.6816,50.9304,51.1792,51.4281 ,51.6771,51.9262,52.1754,52.4246, 52.6739,53.048,53.2974,53.5468,53.7964, 54.046,54.2956,54.6701,54.7949,54.8115)
FOOTPRINT_POINT_LONGITUDE = (244.535,243.603,242.915,242.243, 242.222,242.247,242.274,242.299,242.315 ,242.331,242.346,242.361,242.375, 242.396,242.41,242.423,242.435,242.448, 242.46,242.471,242.482,242.493,242.504, 242.519,242.528,242.538,242.547,242.555 ,242.564,242.572,242.583,242.594,242.6, 242.607,242.613,242.619,242.63,242.637, 242.649,242.656,242.664,242.668,242.671 ,242.674,242.676,242.679,242.682, 242.682,242.683,243.569,244.184,244.641 ,244.66,244.666,244.667,244.668,244.67, 244.672,244.674,244.676,244.681,244.685 ,244.689,244.695,244.693,244.695, 244.697,244.697,244.698,244.7,244.7, 244.7,244.7,244.7,244.7,244.699,244.698 ,244.698,244.697,244.696,244.695, 244.694,244.692,244.691,244.69,244.689, 244.687,244.686,244.684,244.683,244.681 ,244.679,244.677,244.675,244.673, 244.671,244.668,244.665,244.664, 244.535)
ORBIT_NUMBER = 22152
ORBITAL_ECCENTRICITY = 0.571
ORBITAL_INCLINATION = 87.02
ORBITAL_SEMIMAJOR_AXIS = 8785.67
PERIAPSIS_ALTITUDE = 384.88
PERIAPSIS_ARGUMENT_ANGLE = 125.02
PERIAPSIS_TIME = 2021-07-13T05:23:23.000Z
SPACECRAFT_ORIENTATION = (0.0,-1.0,0.0)
^MEX_ORIENTATION_DESC = "MEX_ORIENTATION_DESC.TXT"
SPACECRAFT_POINTING_MODE = ACROSSTRACK
^MEX_POINTING_DESC = "MEX_POINTING_DESC.TXT"
RIGHT_ASCENSION = -1e+32
DECLINATION = -1e+32
OFFSET_ANGLE = 1.078
SPACECRAFT_SOLAR_DISTANCE = 2.49223e+08
TARGET_NAME = MARS
/* CAMERA DATA ELEMENTS */
DETECTOR_TEMPERATURE = 17.7588
FOCAL_PLANE_TEMPERATURE = 7.7677
INST_CMPRS_NAME = "DISCRETE COSINE TRANSFORMATION (DCT)"
INST_CMPRS_RATIO = 7.86604
INST_CMPRS_QUALITY = 0
INST_CMPRS_QUANTZ_TBL_ID = 0
INSTRUMENT_TEMPERATURE = 11.0301
LENS_TEMPERATURE = 6.9521
MACROPIXEL_SIZE = 4
MISSING_FRAMES = 0
PIXEL_SUBSAMPLING_FLAG = N
SIGNAL_CHAIN_ID = 2
/* RADIOMETRIC DATA ELEMENTS */
BANDWIDTH = 76.0
CENTER_FILTER_WAVELENGTH = 444.0
RADIANCE_OFFSET = 0.68366
RADIANCE_SCALING_FACTOR = 0.0025304
REFLECTANCE_SCALING_FACTOR = 0.000161481
MEX:REFLECTANCE_OFFSET = 0.0436288
/* IMAGE OBJECT DEFINITIONS */
OBJECT = IMAGE
  INTERCHANGE_FORMAT = BINARY
  LINES = 14783
  LINE_SAMPLES = 1787
  SAMPLE_TYPE = UNSIGNED_INTEGER
  SAMPLE_BITS = 8
  BANDS = 1
  BAND_STORAGE_TYPE = BAND_SEQUENTIAL
  MAXIMUM = 255
  MEAN = 93.2581
  MINIMUM = 1
  STANDARD_DEVIATION = 30.1925
END_OBJECT = IMAGE
/* MAP OBJECT DEFINITIONS */
OBJECT = IMAGE_MAP_PROJECTION
  ^DATA_SET_MAP_PROJECTION_CATALOG= "DSMAP.CAT"
  A_AXIS_RADIUS = 3396.0
  B_AXIS_RADIUS = 3396.0
  C_AXIS_RADIUS = 3396.0
  CENTER_LATITUDE = 0.0
  CENTER_LONGITUDE = 244.0
  COORDINATE_SYSTEM_NAME = PLANETOGRAPHIC
  COORDINATE_SYSTEM_TYPE = "BODY-FIXED ROTATING"
  EASTERNMOST_LONGITUDE = 244.7
  FIRST_STANDARD_PARALLEL = "N/A"
  LINE_FIRST_PIXEL = 1
  LINE_LAST_PIXEL = 14783
  LINE_PROJECTION_OFFSET = 65000.125
  MAP_PROJECTION_ROTATION = 0.0
  MAP_PROJECTION_TYPE = SINUSOIDAL
  MAP_RESOLUTION = 1185.42760773333
  MAP_SCALE = 0.05
  MAXIMUM_LATITUDE = 54.8115
  MINIMUM_LATITUDE = 42.3444
  POSITIVE_LONGITUDE_DIRECTION = EAST
  REFERENCE_LATITUDE = "N/A"
  REFERENCE_LONGITUDE = "N/A"
  SAMPLE_FIRST_PIXEL = 1
  SAMPLE_LAST_PIXEL = 1787
  SAMPLE_PROJECTION_OFFSET = 1208.375
  SECOND_STANDARD_PARALLEL = "N/A"
  WESTERNMOST_LONGITUDE = 242.222
END_OBJECT = IMAGE_MAP_PROJECTION
END
