PDS_VERSION_ID = PDS3
/* FILE DATA ELEMENTS */
RECORD_TYPE = UNDEFINED
/* POINTERS TO DATA OBJECTS */
^IMAGE = ("HM150_0000_S14.TIF")
/* IDENTIFICATION DATA ELEMENTS */
DATA_SET_ID = "MEX-M-HRSC-4-REFDR-MAPPROJECT-EXT8-V4.0"
DATA_SET_NAME = "MARS EXPRESS HRSC MAP PROJECTED REFDR EXTENSION8 V4.0"
DETECTOR_ID = MEX_HRSC_S1
EVENT_TYPE = "MARS-REGIONAL-MAPPING-Te-Im-Mw"
INSTRUMENT_HOST_ID = MEX
INSTRUMENT_HOST_NAME = "MARS EXPRESS"
INSTRUMENT_ID = HRSC
INSTRUMENT_NAME = "HIGH RESOLUTION STEREO CAMERA"
MISSION_NAME = "MARS EXPRESS"
MISSION_PHASE_NAME = ME_Phase_45
PROCESSING_LEVEL_ID = 4
PRODUCT_CREATION_TIME = 2023-01-26T14:38:01.000Z
PRODUCT_ID = "HM150_0000_S14.TIF"
RELEASE_ID = 0002
REVISION_ID = 0000
/* QUALITY DATA ELEMENTS */
DATA_QUALITY_ID = 1
DATA_QUALITY_DESC = "Data calculated based on original SPICE kernels"
/* TIME DATA ELEMENTS */
SPACECRAFT_CLOCK_START_COUNT = "1/0574183569.24900"
SPACECRAFT_CLOCK_STOP_COUNT = "1/0574183877.54487"
START_TIME = 2021-07-12T15:26:43.191Z
STOP_TIME = 2021-07-12T15:30:15.276Z
/* ORBITAL DATA ELEMENTS */
ASCENDING_NODE_LONGITUDE = 160.5
MAXIMUM_RESOLUTION = 0.0339
FOOTPRINT_POINT_LATITUDE = (47.4375,47.3601,47.2741,47.1591, 47.1559,47.0515,46.539,46.1546,45.7698, 45.5128,44.9999,44.7431,44.4856,44.2287 ,43.834,43.5698,43.1737,42.7769,42.5122 ,42.2477,41.9828,41.7187,41.454,41.189, 40.9196,40.6479,40.3762,39.9685,39.6965 ,39.4247,39.1531,38.8814,38.604,38.3251 ,38.0461,37.7679,37.3509,37.0725,36.791 ,36.5055,36.0778,35.6504,35.3655, 35.0763,34.7844,34.4925,34.2009,33.6158 ,33.4668,33.4446,33.5293,33.5676, 33.6166,33.6777,33.6796,33.6808,33.9796 ,34.4186,34.7113,35.0041,35.2967, 35.5875,36.0166,36.4459,36.7322,37.0186 ,37.4417,37.7211,38.0005,38.2803, 38.5601,38.8397,39.1189,39.3921,39.8016 ,40.2103,40.6193,40.8921,41.3013, 41.5696,41.8354,42.234,42.4996,42.7659, 43.164,43.5624,43.8279,44.0934,44.4899, 44.7484,45.0068,45.2649,45.5231,45.9102 ,46.1684,46.4261,46.8128,47.1993, 47.3283,47.4375)
FOOTPRINT_POINT_LONGITUDE = (84.2766,83.6412,82.9769,82.1468, 82.1243,81.9686,82.0332,82.0804,82.1262 ,82.1553,82.2141,82.2423,82.2692, 82.2964,82.336,82.3624,82.4014,82.4384, 82.4623,82.4861,82.5088,82.5322,82.5543 ,82.5756,82.5979,82.6193,82.6401, 82.6703,82.6895,82.7087,82.7276,82.7459 ,82.764,82.7815,82.7984,82.8158,82.8415 ,82.8574,82.8729,82.8881,82.9106, 82.9324,82.9462,82.9594,82.9724,82.9851 ,82.9975,83.0213,83.0272,83.0281,83.718 ,84.0423,84.4775,85.0696,85.0883,85.095 ,85.0822,85.0632,85.0501,85.0369, 85.0232,85.0096,84.989,84.9679,84.9535, 84.9388,84.9169,84.902,84.8867,84.8714, 84.8559,84.8399,84.824,84.8082,84.7839, 84.7585,84.7327,84.7152,84.6884,84.6707 ,84.6527,84.6251,84.6063,84.5877, 84.5584,84.5286,84.5084,84.4879,84.4565 ,84.4358,84.4148,84.3933,84.3715, 84.3383,84.3158,84.2928,84.2578,84.222, 84.21,84.2766)
ORBIT_NUMBER = 22150
ORBITAL_ECCENTRICITY = 0.571
ORBITAL_INCLINATION = 87.03
ORBITAL_SEMIMAJOR_AXIS = 8788.98
PERIAPSIS_ALTITUDE = 384.49
PERIAPSIS_ARGUMENT_ANGLE = 125.38
PERIAPSIS_TIME = 2021-07-12T15:25:28.000Z
SPACECRAFT_ORIENTATION = (0.0,-1.0,0.0)
^MEX_ORIENTATION_DESC = "MEX_ORIENTATION_DESC.TXT"
SPACECRAFT_POINTING_MODE = ACROSSTRACK
^MEX_POINTING_DESC = "MEX_POINTING_DESC.TXT"
RIGHT_ASCENSION = -1e+32
DECLINATION = -1e+32
OFFSET_ANGLE = -2.0
SPACECRAFT_SOLAR_DISTANCE = 2.49223e+08
TARGET_NAME = MARS
/* CAMERA DATA ELEMENTS */
DETECTOR_TEMPERATURE = 17.1471
FOCAL_PLANE_TEMPERATURE = 7.7677
INST_CMPRS_NAME = "DISCRETE COSINE TRANSFORMATION (DCT)"
INST_CMPRS_RATIO = 7.97129
INST_CMPRS_QUALITY = 0
INST_CMPRS_QUANTZ_TBL_ID = 0
INSTRUMENT_TEMPERATURE = 11.0301
LENS_TEMPERATURE = 8.7872
MACROPIXEL_SIZE = 2
MISSING_FRAMES = 0
PIXEL_SUBSAMPLING_FLAG = N
SIGNAL_CHAIN_ID = 1
/* RADIOMETRIC DATA ELEMENTS */
BANDWIDTH = 180.0
CENTER_FILTER_WAVELENGTH = 677.0
RADIANCE_OFFSET = 3.43138
RADIANCE_SCALING_FACTOR = 0.0209174
REFLECTANCE_SCALING_FACTOR = 0.00067784
MEX:REFLECTANCE_OFFSET = 0.111196
/* IMAGE OBJECT DEFINITIONS */
OBJECT = IMAGE
  INTERCHANGE_FORMAT = BINARY
  LINES = 32521
  LINE_SAMPLES = 5556
  SAMPLE_TYPE = UNSIGNED_INTEGER
  SAMPLE_BITS = 8
  BANDS = 1
  BAND_STORAGE_TYPE = BAND_SEQUENTIAL
  MAXIMUM = 255
  MEAN = 146.029
  MINIMUM = 1
  STANDARD_DEVIATION = 42.4236
END_OBJECT = IMAGE
/* MAP OBJECT DEFINITIONS */
OBJECT = IMAGE_MAP_PROJECTION
  ^DATA_SET_MAP_PROJECTION_CATALOG= "DSMAP.CAT"
  A_AXIS_RADIUS = 3396.0
  B_AXIS_RADIUS = 3396.0
  C_AXIS_RADIUS = 3396.0
  CENTER_LATITUDE = 0.0
  CENTER_LONGITUDE = 84.0
  COORDINATE_SYSTEM_NAME = PLANETOGRAPHIC
  COORDINATE_SYSTEM_TYPE = "BODY-FIXED ROTATING"
  EASTERNMOST_LONGITUDE = 85.095
  FIRST_STANDARD_PARALLEL = "N/A"
  LINE_FIRST_PIXEL = 1
  LINE_LAST_PIXEL = 32521
  LINE_PROJECTION_OFFSET = 112108.25
  MAP_PROJECTION_ROTATION = 0.0
  MAP_PROJECTION_TYPE = SINUSOIDAL
  MAP_RESOLUTION = 2370.85521546667
  MAP_SCALE = 0.025
  MAXIMUM_LATITUDE = 47.4375
  MINIMUM_LATITUDE = 33.4446
  POSITIVE_LONGITUDE_DIRECTION = EAST
  REFERENCE_LATITUDE = "N/A"
  REFERENCE_LONGITUDE = "N/A"
  SAMPLE_FIRST_PIXEL = 1
  SAMPLE_LAST_PIXEL = 5556
  SAMPLE_PROJECTION_OFFSET = 3282.75
  SECOND_STANDARD_PARALLEL = "N/A"
  WESTERNMOST_LONGITUDE = 81.9686
END_OBJECT = IMAGE_MAP_PROJECTION
END
