PDS_VERSION_ID = PDS3
/* FILE DATA ELEMENTS */
RECORD_TYPE = UNDEFINED
/* POINTERS TO DATA OBJECTS */
^IMAGE = ("HM139_0000_S24.TIF")
/* IDENTIFICATION DATA ELEMENTS */
DATA_SET_ID = "MEX-M-HRSC-4-REFDR-MAPPROJECT-EXT8-V4.0"
DATA_SET_NAME = "MARS EXPRESS HRSC MAP PROJECTED REFDR EXTENSION8 V4.0"
DETECTOR_ID = MEX_HRSC_S2
EVENT_TYPE = "MARS-REGIONAL-MAPPING-Vo-Fl-Pf"
INSTRUMENT_HOST_ID = MEX
INSTRUMENT_HOST_NAME = "MARS EXPRESS"
INSTRUMENT_ID = HRSC
INSTRUMENT_NAME = "HIGH RESOLUTION STEREO CAMERA"
MISSION_NAME = "MARS EXPRESS"
MISSION_PHASE_NAME = ME_Phase_45
PROCESSING_LEVEL_ID = 4
PRODUCT_CREATION_TIME = 2023-01-26T14:38:01.000Z
PRODUCT_ID = "HM139_0000_S24.TIF"
RELEASE_ID = 0002
REVISION_ID = 0000
/* QUALITY DATA ELEMENTS */
DATA_QUALITY_ID = 1
DATA_QUALITY_DESC = "Data calculated based on original SPICE kernels"
/* TIME DATA ELEMENTS */
SPACECRAFT_CLOCK_START_COUNT = "1/0573906875.25678"
SPACECRAFT_CLOCK_STOP_COUNT = "1/0573907184.16757"
START_TIME = 2021-07-09T10:36:20.336Z
STOP_TIME = 2021-07-09T10:40:16.078Z
/* ORBITAL DATA ELEMENTS */
ASCENDING_NODE_LONGITUDE = 160.71
MAXIMUM_RESOLUTION = 0.0332
FOOTPRINT_POINT_LATITUDE = (56.0831,56.0604,56.0413,56.014,56.0132 ,56.121,55.8203,55.3696,55.0694,54.7689 ,54.469,54.1689,53.8702,53.4222,53.1236 ,52.8249,52.5265,52.2283,51.9304, 51.6328,51.3357,51.0387,50.742,50.4455, 50.1493,49.8532,49.5577,49.2624,48.9682 ,48.5267,48.0857,47.7922,47.499,47.2061 ,46.9139,46.6214,46.3294,46.038,45.7471 ,45.311,45.0207,44.297,43.7206,43.2889, 42.7151,42.4214,41.9812,41.5425,41.3963 ,41.3521,41.3612,41.3661,41.3729, 41.3767,41.3768,41.3774,41.6706,41.964, 42.2581,42.5525,42.8445,43.4199,44.142, 44.7218,45.0122,45.3034,45.5945,45.8862 ,46.1782,46.4703,46.9099,47.2033, 47.4967,47.938,48.2324,48.5277,48.8225, 49.1179,49.4141,49.7104,50.1556,50.4527 ,50.899,51.3459,51.6441,51.9416,52.2412 ,52.5403,52.84,53.1396,53.4397,53.7399, 54.0406,54.3411,54.6419,55.093,55.5466, 55.9989,56.1498,56.0831)
FOOTPRINT_POINT_LONGITUDE = (130.11,129.224,128.589,127.794,127.771 ,127.691,127.733,127.793,127.831, 127.869,127.906,127.941,127.976,128.025 ,128.058,128.089,128.12,128.149,128.178 ,128.207,128.234,128.26,128.286,128.311 ,128.336,128.359,128.382,128.405, 128.426,128.457,128.487,128.507,128.525 ,128.543,128.561,128.578,128.594,128.61 ,128.626,128.648,128.662,128.696,128.72 ,128.738,128.759,128.77,128.785,128.799 ,128.803,128.804,129.385,129.772, 130.353,130.779,130.799,130.806,130.798 ,130.79,130.782,130.774,130.766,130.749 ,130.727,130.709,130.7,130.691,130.681, 130.671,130.661,130.65,130.635,130.624, 130.613,130.596,130.584,130.572,130.56, 130.547,130.535,130.522,130.502,130.488 ,130.467,130.446,130.431,130.415,130.4, 130.384,130.368,130.352,130.335,130.318 ,130.3,130.282,130.264,130.235,130.206, 130.176,130.165,130.11)
ORBIT_NUMBER = 22139
ORBITAL_ECCENTRICITY = 0.571
ORBITAL_INCLINATION = 87.01
ORBITAL_SEMIMAJOR_AXIS = 8790.69
PERIAPSIS_ALTITUDE = 384.63
PERIAPSIS_ARGUMENT_ANGLE = 127.3
PERIAPSIS_TIME = 2021-07-09T10:36:40.000Z
SPACECRAFT_ORIENTATION = (0.0,-1.0,0.0)
^MEX_ORIENTATION_DESC = "MEX_ORIENTATION_DESC.TXT"
SPACECRAFT_POINTING_MODE = NADIR
^MEX_POINTING_DESC = "MEX_POINTING_DESC.TXT"
RIGHT_ASCENSION = -1e+32
DECLINATION = -1e+32
OFFSET_ANGLE = -1e+32
SPACECRAFT_SOLAR_DISTANCE = 2.49214e+08
TARGET_NAME = MARS
/* CAMERA DATA ELEMENTS */
DETECTOR_TEMPERATURE = 17.9627
FOCAL_PLANE_TEMPERATURE = 7.3599
INST_CMPRS_NAME = "DISCRETE COSINE TRANSFORMATION (DCT)"
INST_CMPRS_RATIO = 11.8613
INST_CMPRS_QUALITY = 0
INST_CMPRS_QUANTZ_TBL_ID = 0
INSTRUMENT_TEMPERATURE = 10.6223
LENS_TEMPERATURE = 7.7677
MACROPIXEL_SIZE = 2
MISSING_FRAMES = 0
PIXEL_SUBSAMPLING_FLAG = N
SIGNAL_CHAIN_ID = 1
/* RADIOMETRIC DATA ELEMENTS */
BANDWIDTH = 178.0
CENTER_FILTER_WAVELENGTH = 679.0
RADIANCE_OFFSET = 4.20573
RADIANCE_SCALING_FACTOR = 0.016713
REFLECTANCE_SCALING_FACTOR = 0.000549701
MEX:REFLECTANCE_OFFSET = 0.138329
/* IMAGE OBJECT DEFINITIONS */
OBJECT = IMAGE
  INTERCHANGE_FORMAT = BINARY
  LINES = 35220
  LINE_SAMPLES = 4866
  SAMPLE_TYPE = UNSIGNED_INTEGER
  SAMPLE_BITS = 8
  BANDS = 1
  BAND_STORAGE_TYPE = BAND_SEQUENTIAL
  MAXIMUM = 255
  MEAN = 109.925
  MINIMUM = 1
  STANDARD_DEVIATION = 64.7588
END_OBJECT = IMAGE
/* MAP OBJECT DEFINITIONS */
OBJECT = IMAGE_MAP_PROJECTION
  ^DATA_SET_MAP_PROJECTION_CATALOG= "DSMAP.CAT"
  A_AXIS_RADIUS = 3396.0
  B_AXIS_RADIUS = 3396.0
  C_AXIS_RADIUS = 3396.0
  CENTER_LATITUDE = 0.0
  CENTER_LONGITUDE = 129.0
  COORDINATE_SYSTEM_NAME = PLANETOGRAPHIC
  COORDINATE_SYSTEM_TYPE = "BODY-FIXED ROTATING"
  EASTERNMOST_LONGITUDE = 130.806
  FIRST_STANDARD_PARALLEL = "N/A"
  LINE_FIRST_PIXEL = 1
  LINE_LAST_PIXEL = 35220
  LINE_PROJECTION_OFFSET = 133170.75
  MAP_PROJECTION_ROTATION = 0.0
  MAP_PROJECTION_TYPE = SINUSOIDAL
  MAP_RESOLUTION = 2370.85521546667
  MAP_SCALE = 0.025
  MAXIMUM_LATITUDE = 56.1498
  MINIMUM_LATITUDE = 41.3521
  POSITIVE_LONGITUDE_DIRECTION = EAST
  REFERENCE_LATITUDE = "N/A"
  REFERENCE_LONGITUDE = "N/A"
  SAMPLE_FIRST_PIXEL = 1
  SAMPLE_LAST_PIXEL = 4866
  SAMPLE_PROJECTION_OFFSET = 1729.75
  SECOND_STANDARD_PARALLEL = "N/A"
  WESTERNMOST_LONGITUDE = 127.691
END_OBJECT = IMAGE_MAP_PROJECTION
END
