PDS_VERSION_ID = PDS3
/* FILE DATA ELEMENTS */
RECORD_TYPE = UNDEFINED
/* POINTERS TO DATA OBJECTS */
^IMAGE = ("HM132_0000_S24.TIF")
/* IDENTIFICATION DATA ELEMENTS */
DATA_SET_ID = "MEX-M-HRSC-4-REFDR-MAPPROJECT-EXT8-V4.0"
DATA_SET_NAME = "MARS EXPRESS HRSC MAP PROJECTED REFDR EXTENSION8 V4.0"
DETECTOR_ID = MEX_HRSC_S2
EVENT_TYPE = "MARS-REGIONAL-MAPPING-Vo-Pf"
INSTRUMENT_HOST_ID = MEX
INSTRUMENT_HOST_NAME = "MARS EXPRESS"
INSTRUMENT_ID = HRSC
INSTRUMENT_NAME = "HIGH RESOLUTION STEREO CAMERA"
MISSION_NAME = "MARS EXPRESS"
MISSION_PHASE_NAME = ME_Phase_45
PROCESSING_LEVEL_ID = 4
PRODUCT_CREATION_TIME = 2023-01-26T14:38:01.000Z
PRODUCT_ID = "HM132_0000_S24.TIF"
RELEASE_ID = 0002
REVISION_ID = 0000
/* QUALITY DATA ELEMENTS */
DATA_QUALITY_ID = 1
DATA_QUALITY_DESC = "Data calculated based on original SPICE kernels"
/* TIME DATA ELEMENTS */
SPACECRAFT_CLOCK_START_COUNT = "1/0573730846.23974"
SPACECRAFT_CLOCK_STOP_COUNT = "1/0573731097.29998"
START_TIME = 2021-07-07T09:42:33.160Z
STOP_TIME = 2021-07-07T09:45:29.275Z
/* ORBITAL DATA ELEMENTS */
ASCENDING_NODE_LONGITUDE = 160.83
MAXIMUM_RESOLUTION = 0.0331
FOOTPRINT_POINT_LATITUDE = (58.3077,58.2763,58.2494,58.2212, 58.2202,58.3321,57.8778,57.6509,57.3106 ,56.9703,56.6301,56.4032,56.0632, 55.8367,55.4975,55.2714,54.9322,54.706, 54.4803,54.2549,54.0296,53.8039,53.5785 ,53.3532,53.1281,52.7904,52.5656, 52.3407,52.1158,51.8914,51.555,51.2183, 50.8822,50.5461,50.3226,50.0997,49.8766 ,49.6537,49.4304,49.2076,48.9854, 48.7635,48.5411,48.319,48.0972,47.8755, 47.654,47.4326,47.211,47.1005,47.0955, 47.1159,47.1236,47.1339,47.1448,47.1452 ,47.1458,47.3676,47.7008,48.0341, 48.2566,48.4792,48.813,49.147,49.3704, 49.5945,49.9304,50.1545,50.3788,50.6029 ,50.827,51.0516,51.2765,51.5014,51.7261 ,51.9513,52.177,52.4024,52.6274,52.8531 ,53.1921,53.5314,53.871,54.2109,54.4374 ,54.7773,55.1178,55.4585,55.7996, 56.1408,56.4823,56.7099,57.0514,57.3933 ,57.6217,57.8502,58.0783,58.3066, 58.4203,58.3077)
FOOTPRINT_POINT_LONGITUDE = (125.115,124.087,123.334,122.631, 122.606,122.532,122.604,122.639,122.69, 122.74,122.788,122.819,122.865,122.895, 122.938,122.966,123.007,123.034,123.06, 123.085,123.11,123.135,123.159,123.183, 123.206,123.24,123.262,123.283,123.304, 123.325,123.355,123.384,123.412,123.44, 123.458,123.475,123.492,123.508,123.524 ,123.54,123.556,123.571,123.585,123.6, 123.614,123.628,123.641,123.655,123.668 ,123.674,123.674,124.407,124.724, 125.183,125.702,125.722,125.73,125.723, 125.712,125.701,125.694,125.686,125.674 ,125.662,125.654,125.646,125.633, 125.625,125.616,125.607,125.598,125.589 ,125.58,125.57,125.561,125.551,125.541, 125.531,125.52,125.51,125.494,125.477, 125.461,125.443,125.432,125.413,125.395 ,125.376,125.356,125.336,125.316, 125.301,125.28,125.258,125.243,125.228, 125.212,125.196,125.187,125.115)
ORBIT_NUMBER = 22132
ORBITAL_ECCENTRICITY = 0.572
ORBITAL_INCLINATION = 87.01
ORBITAL_SEMIMAJOR_AXIS = 8793.56
PERIAPSIS_ALTITUDE = 383.84
PERIAPSIS_ARGUMENT_ANGLE = 128.5
PERIAPSIS_TIME = 2021-07-07T09:43:46.000Z
SPACECRAFT_ORIENTATION = (0.0,-1.0,0.0)
^MEX_ORIENTATION_DESC = "MEX_ORIENTATION_DESC.TXT"
SPACECRAFT_POINTING_MODE = ACROSSTRACK
^MEX_POINTING_DESC = "MEX_POINTING_DESC.TXT"
RIGHT_ASCENSION = -1e+32
DECLINATION = -1e+32
OFFSET_ANGLE = 0.15
SPACECRAFT_SOLAR_DISTANCE = 2.492e+08
TARGET_NAME = MARS
/* CAMERA DATA ELEMENTS */
DETECTOR_TEMPERATURE = 18.3705
FOCAL_PLANE_TEMPERATURE = 8.3794
INST_CMPRS_NAME = "DISCRETE COSINE TRANSFORMATION (DCT)"
INST_CMPRS_RATIO = 12.1411
INST_CMPRS_QUALITY = 0
INST_CMPRS_QUANTZ_TBL_ID = 0
INSTRUMENT_TEMPERATURE = 11.0301
LENS_TEMPERATURE = 8.7872
MACROPIXEL_SIZE = 2
MISSING_FRAMES = 0
PIXEL_SUBSAMPLING_FLAG = N
SIGNAL_CHAIN_ID = 1
/* RADIOMETRIC DATA ELEMENTS */
BANDWIDTH = 178.0
CENTER_FILTER_WAVELENGTH = 679.0
RADIANCE_OFFSET = 4.14951
RADIANCE_SCALING_FACTOR = 0.0100507
REFLECTANCE_SCALING_FACTOR = 0.00033054
MEX:REFLECTANCE_OFFSET = 0.136466
/* IMAGE OBJECT DEFINITIONS */
OBJECT = IMAGE
  INTERCHANGE_FORMAT = BINARY
  LINES = 26844
  LINE_SAMPLES = 4591
  SAMPLE_TYPE = UNSIGNED_INTEGER
  SAMPLE_BITS = 8
  BANDS = 1
  BAND_STORAGE_TYPE = BAND_SEQUENTIAL
  MAXIMUM = 255
  MEAN = 69.5191
  MINIMUM = 1
  STANDARD_DEVIATION = 28.0622
END_OBJECT = IMAGE
/* MAP OBJECT DEFINITIONS */
OBJECT = IMAGE_MAP_PROJECTION
  ^DATA_SET_MAP_PROJECTION_CATALOG= "DSMAP.CAT"
  A_AXIS_RADIUS = 3396.0
  B_AXIS_RADIUS = 3396.0
  C_AXIS_RADIUS = 3396.0
  CENTER_LATITUDE = 0.0
  CENTER_LONGITUDE = 124.0
  COORDINATE_SYSTEM_NAME = PLANETOGRAPHIC
  COORDINATE_SYSTEM_TYPE = "BODY-FIXED ROTATING"
  EASTERNMOST_LONGITUDE = 125.73
  FIRST_STANDARD_PARALLEL = "N/A"
  LINE_FIRST_PIXEL = 1
  LINE_LAST_PIXEL = 26844
  LINE_PROJECTION_OFFSET = 138439.75
  MAP_PROJECTION_ROTATION = 0.0
  MAP_PROJECTION_TYPE = SINUSOIDAL
  MAP_RESOLUTION = 2370.85521546667
  MAP_SCALE = 0.025
  MAXIMUM_LATITUDE = 58.4203
  MINIMUM_LATITUDE = 47.0955
  POSITIVE_LONGITUDE_DIRECTION = EAST
  REFERENCE_LATITUDE = "N/A"
  REFERENCE_LONGITUDE = "N/A"
  SAMPLE_FIRST_PIXEL = 1
  SAMPLE_LAST_PIXEL = 4591
  SAMPLE_PROJECTION_OFFSET = 1844.25
  SECOND_STANDARD_PARALLEL = "N/A"
  WESTERNMOST_LONGITUDE = 122.532
END_OBJECT = IMAGE_MAP_PROJECTION
END
