PDS_VERSION_ID = PDS3
/* FILE DATA ELEMENTS */
RECORD_TYPE = UNDEFINED
/* POINTERS TO DATA OBJECTS */
^IMAGE = ("HM132_0000_IR4.TIF")
/* IDENTIFICATION DATA ELEMENTS */
DATA_SET_ID = "MEX-M-HRSC-4-REFDR-MAPPROJECT-EXT8-V4.0"
DATA_SET_NAME = "MARS EXPRESS HRSC MAP PROJECTED REFDR EXTENSION8 V4.0"
DETECTOR_ID = MEX_HRSC_IR
EVENT_TYPE = "MARS-REGIONAL-MAPPING-Vo-Pf"
INSTRUMENT_HOST_ID = MEX
INSTRUMENT_HOST_NAME = "MARS EXPRESS"
INSTRUMENT_ID = HRSC
INSTRUMENT_NAME = "HIGH RESOLUTION STEREO CAMERA"
MISSION_NAME = "MARS EXPRESS"
MISSION_PHASE_NAME = ME_Phase_45
PROCESSING_LEVEL_ID = 4
PRODUCT_CREATION_TIME = 2023-01-26T14:38:01.000Z
PRODUCT_ID = "HM132_0000_IR4.TIF"
RELEASE_ID = 0002
REVISION_ID = 0000
/* QUALITY DATA ELEMENTS */
DATA_QUALITY_ID = 1
DATA_QUALITY_DESC = "Data calculated based on original SPICE kernels"
/* TIME DATA ELEMENTS */
SPACECRAFT_CLOCK_START_COUNT = "1/0573730846.23974"
SPACECRAFT_CLOCK_STOP_COUNT = "1/0573731097.29998"
START_TIME = 2021-07-07T09:41:26.787Z
STOP_TIME = 2021-07-07T09:44:24.346Z
/* ORBITAL DATA ELEMENTS */
ASCENDING_NODE_LONGITUDE = 160.83
MAXIMUM_RESOLUTION = 0.0646
FOOTPRINT_POINT_LATITUDE = (58.459,58.4474,58.4244,58.3825,58.3815 ,58.2871,57.8483,57.5186,57.0783, 56.6371,56.4165,56.1956,55.9744,55.6418 ,55.42,55.1979,54.8648,54.6423,54.4194, 54.1964,53.9732,53.6385,53.4151,53.1913 ,52.9677,52.7439,52.5196,52.2957, 51.9591,51.7346,51.3978,51.0605,50.8353 ,50.6105,50.385,50.1592,49.8205,49.5947 ,49.3692,49.1428,48.9163,48.5769, 48.3505,48.0107,47.6707,47.444,47.2171, 47.1039,47.0572,47.0719,47.0846,47.0885 ,47.0912,47.0913,47.0923,47.32,47.5473, 47.8883,48.2292,48.4563,48.6838,49.0245 ,49.2517,49.4783,49.7044,49.9309, 50.1571,50.3832,50.6096,50.8359,51.0618 ,51.4003,51.6262,51.8519,52.077,52.3021 ,52.5276,52.8652,53.2022,53.4266, 53.7632,53.9872,54.2112,54.435,54.6587, 54.994,55.2175,55.4404,55.6632,55.8859, 56.1083,56.4418,56.6639,56.8858,57.1076 ,57.3291,57.5504,58.2128,58.3232, 58.459)
FOOTPRINT_POINT_LONGITUDE = (125.136,124.577,123.731,122.577, 122.553,122.513,122.585,122.638,122.706 ,122.771,122.803,122.834,122.865,122.91 ,122.939,122.968,123.01,123.038,123.064 ,123.091,123.117,123.155,123.179, 123.203,123.227,123.251,123.273,123.296 ,123.329,123.35,123.382,123.412,123.432 ,123.451,123.47,123.489,123.516,123.534 ,123.551,123.568,123.584,123.609, 123.624,123.648,123.67,123.684,123.699, 123.706,123.708,124.3,125.006,125.342, 125.679,125.698,125.704,125.698,125.691 ,125.682,125.672,125.665,125.658, 125.647,125.64,125.633,125.626,125.618, 125.611,125.603,125.595,125.587,125.579 ,125.567,125.558,125.549,125.541, 125.532,125.522,125.508,125.494,125.485 ,125.47,125.46,125.449,125.439,125.429, 125.412,125.401,125.39,125.379,125.367, 125.355,125.337,125.325,125.313,125.3, 125.287,125.274,125.234,125.227, 125.136)
ORBIT_NUMBER = 22132
ORBITAL_ECCENTRICITY = 0.572
ORBITAL_INCLINATION = 87.01
ORBITAL_SEMIMAJOR_AXIS = 8793.56
PERIAPSIS_ALTITUDE = 383.84
PERIAPSIS_ARGUMENT_ANGLE = 128.5
PERIAPSIS_TIME = 2021-07-07T09:43:46.000Z
SPACECRAFT_ORIENTATION = (0.0,-1.0,0.0)
^MEX_ORIENTATION_DESC = "MEX_ORIENTATION_DESC.TXT"
SPACECRAFT_POINTING_MODE = ACROSSTRACK
^MEX_POINTING_DESC = "MEX_POINTING_DESC.TXT"
RIGHT_ASCENSION = -1e+32
DECLINATION = -1e+32
OFFSET_ANGLE = 0.15
SPACECRAFT_SOLAR_DISTANCE = 2.492e+08
TARGET_NAME = MARS
/* CAMERA DATA ELEMENTS */
DETECTOR_TEMPERATURE = 17.5549
FOCAL_PLANE_TEMPERATURE = 8.3794
INST_CMPRS_NAME = "DISCRETE COSINE TRANSFORMATION (DCT)"
INST_CMPRS_RATIO = 10.1315
INST_CMPRS_QUALITY = 0
INST_CMPRS_QUANTZ_TBL_ID = 0
INSTRUMENT_TEMPERATURE = 11.0301
LENS_TEMPERATURE = 8.7872
MACROPIXEL_SIZE = 4
MISSING_FRAMES = 0
PIXEL_SUBSAMPLING_FLAG = N
SIGNAL_CHAIN_ID = 2
/* RADIOMETRIC DATA ELEMENTS */
BANDWIDTH = 81.0
CENTER_FILTER_WAVELENGTH = 955.5
RADIANCE_OFFSET = 0.86725
RADIANCE_SCALING_FACTOR = 0.00307318
REFLECTANCE_SCALING_FACTOR = 0.000411726
MEX:REFLECTANCE_OFFSET = 0.116189
/* IMAGE OBJECT DEFINITIONS */
OBJECT = IMAGE
  INTERCHANGE_FORMAT = BINARY
  LINES = 13422
  LINE_SAMPLES = 2296
  SAMPLE_TYPE = UNSIGNED_INTEGER
  SAMPLE_BITS = 8
  BANDS = 1
  BAND_STORAGE_TYPE = BAND_SEQUENTIAL
  MAXIMUM = 255
  MEAN = 63.3437
  MINIMUM = 1
  STANDARD_DEVIATION = 29.0578
END_OBJECT = IMAGE
/* MAP OBJECT DEFINITIONS */
OBJECT = IMAGE_MAP_PROJECTION
  ^DATA_SET_MAP_PROJECTION_CATALOG= "DSMAP.CAT"
  A_AXIS_RADIUS = 3396.0
  B_AXIS_RADIUS = 3396.0
  C_AXIS_RADIUS = 3396.0
  CENTER_LATITUDE = 0.0
  CENTER_LONGITUDE = 124.0
  COORDINATE_SYSTEM_NAME = PLANETOGRAPHIC
  COORDINATE_SYSTEM_TYPE = "BODY-FIXED ROTATING"
  EASTERNMOST_LONGITUDE = 125.704
  FIRST_STANDARD_PARALLEL = "N/A"
  LINE_FIRST_PIXEL = 1
  LINE_LAST_PIXEL = 13422
  LINE_PROJECTION_OFFSET = 69219.625
  MAP_PROJECTION_ROTATION = 0.0
  MAP_PROJECTION_TYPE = SINUSOIDAL
  MAP_RESOLUTION = 1185.42760773333
  MAP_SCALE = 0.05
  MAXIMUM_LATITUDE = 58.459
  MINIMUM_LATITUDE = 47.0572
  POSITIVE_LONGITUDE_DIRECTION = EAST
  REFERENCE_LATITUDE = "N/A"
  REFERENCE_LONGITUDE = "N/A"
  SAMPLE_FIRST_PIXEL = 1
  SAMPLE_LAST_PIXEL = 2296
  SAMPLE_PROJECTION_OFFSET = 921.875
  SECOND_STANDARD_PARALLEL = "N/A"
  WESTERNMOST_LONGITUDE = 122.513
END_OBJECT = IMAGE_MAP_PROJECTION
END
