PDS_VERSION_ID = PDS3
/* FILE DATA ELEMENTS */
RECORD_TYPE = UNDEFINED
/* POINTERS TO DATA OBJECTS */
^IMAGE = ("HM128_0000_S24.TIF")
/* IDENTIFICATION DATA ELEMENTS */
DATA_SET_ID = "MEX-M-HRSC-4-REFDR-MAPPROJECT-EXT8-V4.0"
DATA_SET_NAME = "MARS EXPRESS HRSC MAP PROJECTED REFDR EXTENSION8 V4.0"
DETECTOR_ID = MEX_HRSC_S2
EVENT_TYPE = "MARS-REGIONAL-MAPPING-Vo-Te-Im"
INSTRUMENT_HOST_ID = MEX
INSTRUMENT_HOST_NAME = "MARS EXPRESS"
INSTRUMENT_ID = HRSC
INSTRUMENT_NAME = "HIGH RESOLUTION STEREO CAMERA"
MISSION_NAME = "MARS EXPRESS"
MISSION_PHASE_NAME = ME_Phase_45
PROCESSING_LEVEL_ID = 4
PRODUCT_CREATION_TIME = 2023-01-26T14:38:01.000Z
PRODUCT_ID = "HM128_0000_S24.TIF"
RELEASE_ID = 0002
REVISION_ID = 0000
/* QUALITY DATA ELEMENTS */
DATA_QUALITY_ID = 1
DATA_QUALITY_DESC = "Data calculated based on original SPICE kernels"
/* TIME DATA ELEMENTS */
SPACECRAFT_CLOCK_START_COUNT = "1/0573630691.25682"
SPACECRAFT_CLOCK_STOP_COUNT = "1/0573631034.32567"
START_TIME = 2021-07-06T05:53:32.667Z
STOP_TIME = 2021-07-06T05:57:46.354Z
/* ORBITAL DATA ELEMENTS */
ASCENDING_NODE_LONGITUDE = 160.9
MAXIMUM_RESOLUTION = 0.0411
FOOTPRINT_POINT_LATITUDE = (31.9805,31.9933,32.0061,32.0187, 32.0313,32.0437,32.0606,32.0614,32.1269 ,31.5096,30.7622,30.2659,29.7617, 29.2546,28.8697,28.6123,28.3559,28.0953 ,27.8348,27.575,27.3116,27.0477,26.7842 ,26.5176,26.1174,25.8485,25.4428, 25.1719,24.8978,24.6249,24.3479,24.0722 ,23.6545,23.3754,23.0936,22.67,22.3843, 22.0992,21.8108,21.5224,21.2309,20.9395 ,20.6457,20.2024,19.9054,19.6053, 19.3063,19.0029,18.6966,18.545,18.4949, 18.4691,18.4301,18.4045,18.3929,18.3579 ,18.3566,18.3568,18.8169,19.4216, 19.7229,20.02,20.3164,20.6092,21.0496, 21.3452,21.6396,21.9313,22.218,22.5056, 22.9306,23.2139,23.4929,23.776,24.0531, 24.3311,24.6072,24.8814,25.2921,25.5629 ,25.9692,26.2367,26.5049,26.9032, 27.1678,27.4327,27.6939,27.9557,28.2179 ,28.4756,28.7337,29.1207,29.5011, 30.0118,30.5136,31.1385,31.5096,31.8796 ,32.0021,31.9805)
FOOTPRINT_POINT_LONGITUDE = (172.888,172.585,172.279,171.97,171.657 ,171.339,170.896,170.875,170.81,170.82, 170.833,170.834,170.838,170.841,170.843 ,170.844,170.844,170.845,170.845, 170.845,170.844,170.844,170.843,170.842 ,170.84,170.838,170.835,170.832,170.83, 170.827,170.824,170.821,170.815,170.81, 170.806,170.799,170.793,170.788,170.782 ,170.776,170.77,170.763,170.756,170.745 ,170.736,170.729,170.72,170.711,170.704 ,170.698,170.696,171.172,171.864, 172.279,172.569,173.191,173.215,173.224 ,173.214,173.201,173.195,173.188, 173.182,173.175,173.166,173.159,173.153 ,173.146,173.14,173.133,173.124,173.117 ,173.111,173.104,173.097,173.091, 173.084,173.077,173.067,173.061,173.05, 173.044,173.037,173.026,173.019,173.012 ,173.005,172.998,172.991,172.984, 172.977,172.966,172.955,172.94,172.925, 172.906,172.894,172.883,172.879, 172.888)
ORBIT_NUMBER = 22128
ORBITAL_ECCENTRICITY = 0.571
ORBITAL_INCLINATION = 87.02
ORBITAL_SEMIMAJOR_AXIS = 8787.5
PERIAPSIS_ALTITUDE = 384.0
PERIAPSIS_ARGUMENT_ANGLE = 129.2
PERIAPSIS_TIME = 2021-07-06T05:47:51.000Z
SPACECRAFT_ORIENTATION = (0.0,-1.0,0.0)
^MEX_ORIENTATION_DESC = "MEX_ORIENTATION_DESC.TXT"
SPACECRAFT_POINTING_MODE = ACROSSTRACK
^MEX_POINTING_DESC = "MEX_POINTING_DESC.TXT"
RIGHT_ASCENSION = -1e+32
DECLINATION = -1e+32
OFFSET_ANGLE = -1.2
SPACECRAFT_SOLAR_DISTANCE = 2.49189e+08
TARGET_NAME = MARS
/* CAMERA DATA ELEMENTS */
DETECTOR_TEMPERATURE = 18.5744
FOCAL_PLANE_TEMPERATURE = 8.3794
INST_CMPRS_NAME = "DISCRETE COSINE TRANSFORMATION (DCT)"
INST_CMPRS_RATIO = 10.9658
INST_CMPRS_QUALITY = 0
INST_CMPRS_QUANTZ_TBL_ID = 0
INSTRUMENT_TEMPERATURE = 10.8262
LENS_TEMPERATURE = 8.7872
MACROPIXEL_SIZE = 2
MISSING_FRAMES = 0
PIXEL_SUBSAMPLING_FLAG = N
SIGNAL_CHAIN_ID = 1
/* RADIOMETRIC DATA ELEMENTS */
BANDWIDTH = 178.0
CENTER_FILTER_WAVELENGTH = 679.0
RADIANCE_OFFSET = 4.21508
RADIANCE_SCALING_FACTOR = 0.0241778
REFLECTANCE_SCALING_FACTOR = 0.000795068
MEX:REFLECTANCE_OFFSET = 0.13861
/* IMAGE OBJECT DEFINITIONS */
OBJECT = IMAGE
  INTERCHANGE_FORMAT = BINARY
  LINES = 32433
  LINE_SAMPLES = 5112
  SAMPLE_TYPE = UNSIGNED_INTEGER
  SAMPLE_BITS = 8
  BANDS = 1
  BAND_STORAGE_TYPE = BAND_SEQUENTIAL
  MAXIMUM = 255
  MEAN = 121.819
  MINIMUM = 1
  STANDARD_DEVIATION = 23.9286
END_OBJECT = IMAGE
/* MAP OBJECT DEFINITIONS */
OBJECT = IMAGE_MAP_PROJECTION
  ^DATA_SET_MAP_PROJECTION_CATALOG= "DSMAP.CAT"
  A_AXIS_RADIUS = 3396.0
  B_AXIS_RADIUS = 3396.0
  C_AXIS_RADIUS = 3396.0
  CENTER_LATITUDE = 0.0
  CENTER_LONGITUDE = 172.0
  COORDINATE_SYSTEM_NAME = PLANETOGRAPHIC
  COORDINATE_SYSTEM_TYPE = "BODY-FIXED ROTATING"
  EASTERNMOST_LONGITUDE = 173.224
  FIRST_STANDARD_PARALLEL = "N/A"
  LINE_FIRST_PIXEL = 1
  LINE_LAST_PIXEL = 32433
  LINE_PROJECTION_OFFSET = 76012.75
  MAP_PROJECTION_ROTATION = 0.0
  MAP_PROJECTION_TYPE = SINUSOIDAL
  MAP_RESOLUTION = 2370.85521546667
  MAP_SCALE = 0.025
  MAXIMUM_LATITUDE = 32.1269
  MINIMUM_LATITUDE = 18.3566
  POSITIVE_LONGITUDE_DIRECTION = EAST
  REFERENCE_LATITUDE = "N/A"
  REFERENCE_LONGITUDE = "N/A"
  SAMPLE_FIRST_PIXEL = 1
  SAMPLE_LAST_PIXEL = 5112
  SAMPLE_PROJECTION_OFFSET = 2627.75
  SECOND_STANDARD_PARALLEL = "N/A"
  WESTERNMOST_LONGITUDE = 170.696
END_OBJECT = IMAGE_MAP_PROJECTION
END
