PDS_VERSION_ID = PDS3
/* FILE DATA ELEMENTS */
RECORD_TYPE = UNDEFINED
/* POINTERS TO DATA OBJECTS */
^IMAGE = ("HM125_0000_IR4.TIF")
/* IDENTIFICATION DATA ELEMENTS */
DATA_SET_ID = "MEX-M-HRSC-4-REFDR-MAPPROJECT-EXT8-V4.0"
DATA_SET_NAME = "MARS EXPRESS HRSC MAP PROJECTED REFDR EXTENSION8 V4.0"
DETECTOR_ID = MEX_HRSC_IR
EVENT_TYPE = "MARS-REGIONAL-MAPPING-Vo-Im-Pf"
INSTRUMENT_HOST_ID = MEX
INSTRUMENT_HOST_NAME = "MARS EXPRESS"
INSTRUMENT_ID = HRSC
INSTRUMENT_NAME = "HIGH RESOLUTION STEREO CAMERA"
MISSION_NAME = "MARS EXPRESS"
MISSION_PHASE_NAME = ME_Phase_45
PROCESSING_LEVEL_ID = 4
PRODUCT_CREATION_TIME = 2023-01-26T14:38:01.000Z
PRODUCT_ID = "HM125_0000_IR4.TIF"
RELEASE_ID = 0002
REVISION_ID = 0000
/* QUALITY DATA ELEMENTS */
DATA_QUALITY_ID = 1
DATA_QUALITY_DESC = "Data calculated based on original SPICE kernels"
/* TIME DATA ELEMENTS */
SPACECRAFT_CLOCK_START_COUNT = "1/0573554881.24902"
SPACECRAFT_CLOCK_STOP_COUNT = "1/0573555156.06468"
START_TIME = 2021-07-05T08:48:41.557Z
STOP_TIME = 2021-07-05T08:52:01.850Z
/* ORBITAL DATA ELEMENTS */
ASCENDING_NODE_LONGITUDE = 160.96
MAXIMUM_RESOLUTION = 0.0645
FOOTPRINT_POINT_LATITUDE = (56.5944,56.5547,56.5094,56.4408, 56.4391,56.3412,55.8477,55.3535,54.8581 ,54.3609,53.9876,53.4891,53.2394, 52.9896,52.7395,52.4892,52.2387,51.9878 ,51.7369,51.4856,51.2342,50.9827,50.731 ,50.4792,50.2272,49.9749,49.7228, 49.4703,49.2172,48.9643,48.7112,48.4579 ,48.0783,47.824,47.57,47.3165,47.0624, 46.8079,46.4261,46.1716,45.917,45.6625, 45.4076,45.0249,44.7698,44.5146,44.2594 ,43.8772,43.7499,43.6643,43.7074, 43.7425,43.7644,43.7651,43.7664,44.1509 ,44.4072,44.791,45.0469,45.3027,45.5586 ,45.8143,46.07,46.3256,46.581,46.8363, 47.0914,47.3466,47.6015,47.8566,48.1113 ,48.3658,48.6211,49.0028,49.2565, 49.6369,49.8907,50.1443,50.3975,50.6507 ,50.9037,51.1567,51.4096,51.6623, 51.9145,52.1668,52.4188,52.6707,52.9223 ,53.1737,53.4249,53.676,53.9268,54.5528 ,55.0525,55.4268,55.8006,56.298,56.4221 ,56.5944)
FOOTPRINT_POINT_LONGITUDE = (118.61,117.887,117.155,116.179,116.156 ,116.046,116.136,116.224,116.309,116.39 ,116.448,116.524,116.561,116.597, 116.632,116.667,116.701,116.735,116.768 ,116.8,116.831,116.862,116.893,116.922, 116.952,116.98,117.009,117.037,117.063, 117.09,117.116,117.141,117.179,117.203, 117.226,117.25,117.272,117.294,117.327, 117.348,117.369,117.389,117.409,117.438 ,117.456,117.475,117.493,117.52,117.529 ,117.536,118.274,118.948,119.419, 119.437,119.443,119.426,119.415,119.398 ,119.387,119.375,119.363,119.351, 119.339,119.327,119.314,119.301,119.288 ,119.275,119.261,119.248,119.234,119.22 ,119.206,119.184,119.169,119.146,119.13 ,119.115,119.099,119.082,119.066, 119.049,119.032,119.015,118.997,118.979 ,118.961,118.943,118.924,118.905, 118.886,118.866,118.846,118.794,118.752 ,118.719,118.685,118.638,118.627, 118.61)
ORBIT_NUMBER = 22125
ORBITAL_ECCENTRICITY = 0.572
ORBITAL_INCLINATION = 87.01
ORBITAL_SEMIMAJOR_AXIS = 8796.28
PERIAPSIS_ALTITUDE = 383.03
PERIAPSIS_ARGUMENT_ANGLE = 129.7
PERIAPSIS_TIME = 2021-07-05T08:50:50.000Z
SPACECRAFT_ORIENTATION = (0.0,-1.0,0.0)
^MEX_ORIENTATION_DESC = "MEX_ORIENTATION_DESC.TXT"
SPACECRAFT_POINTING_MODE = ACROSSTRACK
^MEX_POINTING_DESC = "MEX_POINTING_DESC.TXT"
RIGHT_ASCENSION = -1e+32
DECLINATION = -1e+32
OFFSET_ANGLE = -0.687
SPACECRAFT_SOLAR_DISTANCE = 2.4918e+08
TARGET_NAME = MARS
/* CAMERA DATA ELEMENTS */
DETECTOR_TEMPERATURE = 17.351
FOCAL_PLANE_TEMPERATURE = 8.5833
INST_CMPRS_NAME = "DISCRETE COSINE TRANSFORMATION (DCT)"
INST_CMPRS_RATIO = 8.63272
INST_CMPRS_QUALITY = 0
INST_CMPRS_QUANTZ_TBL_ID = 0
INSTRUMENT_TEMPERATURE = 11.0301
LENS_TEMPERATURE = 8.5833
MACROPIXEL_SIZE = 4
MISSING_FRAMES = 0
PIXEL_SUBSAMPLING_FLAG = N
SIGNAL_CHAIN_ID = 2
/* RADIOMETRIC DATA ELEMENTS */
BANDWIDTH = 81.0
CENTER_FILTER_WAVELENGTH = 955.5
RADIANCE_OFFSET = 0.773211
RADIANCE_SCALING_FACTOR = 0.00499903
REFLECTANCE_SCALING_FACTOR = 0.000669636
MEX:REFLECTANCE_OFFSET = 0.103574
/* IMAGE OBJECT DEFINITIONS */
OBJECT = IMAGE
  INTERCHANGE_FORMAT = BINARY
  LINES = 15154
  LINE_SAMPLES = 2522
  SAMPLE_TYPE = UNSIGNED_INTEGER
  SAMPLE_BITS = 8
  BANDS = 1
  BAND_STORAGE_TYPE = BAND_SEQUENTIAL
  MAXIMUM = 249
  MEAN = 105.321
  MINIMUM = 1
  STANDARD_DEVIATION = 50.2648
END_OBJECT = IMAGE
/* MAP OBJECT DEFINITIONS */
OBJECT = IMAGE_MAP_PROJECTION
  ^DATA_SET_MAP_PROJECTION_CATALOG= "DSMAP.CAT"
  A_AXIS_RADIUS = 3396.0
  B_AXIS_RADIUS = 3396.0
  C_AXIS_RADIUS = 3396.0
  CENTER_LATITUDE = 0.0
  CENTER_LONGITUDE = 118.0
  COORDINATE_SYSTEM_NAME = PLANETOGRAPHIC
  COORDINATE_SYSTEM_TYPE = "BODY-FIXED ROTATING"
  EASTERNMOST_LONGITUDE = 119.443
  FIRST_STANDARD_PARALLEL = "N/A"
  LINE_FIRST_PIXEL = 1
  LINE_LAST_PIXEL = 15154
  LINE_PROJECTION_OFFSET = 66971.875
  MAP_PROJECTION_ROTATION = 0.0
  MAP_PROJECTION_TYPE = SINUSOIDAL
  MAP_RESOLUTION = 1185.42760773333
  MAP_SCALE = 0.05
  MAXIMUM_LATITUDE = 56.5944
  MINIMUM_LATITUDE = 43.6643
  POSITIVE_LONGITUDE_DIRECTION = EAST
  REFERENCE_LATITUDE = "N/A"
  REFERENCE_LONGITUDE = "N/A"
  SAMPLE_FIRST_PIXEL = 1
  SAMPLE_LAST_PIXEL = 2522
  SAMPLE_PROJECTION_OFFSET = 1278.875
  SECOND_STANDARD_PARALLEL = "N/A"
  WESTERNMOST_LONGITUDE = 116.046
END_OBJECT = IMAGE_MAP_PROJECTION
END
