PDS_VERSION_ID = PDS3
/* FILE DATA ELEMENTS */
RECORD_TYPE = UNDEFINED
/* POINTERS TO DATA OBJECTS */
^IMAGE = ("HM121_0009_RE4.TIF")
/* IDENTIFICATION DATA ELEMENTS */
DATA_SET_ID = "MEX-M-HRSC-4-REFDR-MAPPROJECT-EXT8-V4.0"
DATA_SET_NAME = "MARS EXPRESS HRSC MAP PROJECTED REFDR EXTENSION8 V4.0"
DETECTOR_ID = MEX_HRSC_RED
EVENT_TYPE = "MARS-REGIONAL-MAPPING-Vo-Te-Im"
INSTRUMENT_HOST_ID = MEX
INSTRUMENT_HOST_NAME = "MARS EXPRESS"
INSTRUMENT_ID = HRSC
INSTRUMENT_NAME = "HIGH RESOLUTION STEREO CAMERA"
MISSION_NAME = "MARS EXPRESS"
MISSION_PHASE_NAME = ME_Phase_45
PROCESSING_LEVEL_ID = 4
PRODUCT_CREATION_TIME = 2023-01-26T14:38:01.000Z
PRODUCT_ID = "HM121_0009_RE4.TIF"
RELEASE_ID = 0002
REVISION_ID = 0000
/* QUALITY DATA ELEMENTS */
DATA_QUALITY_ID = 1
DATA_QUALITY_DESC = "Data calculated based on original SPICE kernels"
/* TIME DATA ELEMENTS */
SPACECRAFT_CLOCK_START_COUNT = "1/0573454255.25696"
SPACECRAFT_CLOCK_STOP_COUNT = "1/0573454550.15003"
START_TIME = 2021-07-04T04:52:39.573Z
STOP_TIME = 2021-07-04T04:56:16.032Z
/* ORBITAL DATA ELEMENTS */
ASCENDING_NODE_LONGITUDE = 161.03
MAXIMUM_RESOLUTION = 0.0649
FOOTPRINT_POINT_LATITUDE = (60.285,60.2627,60.2477,60.215,60.1785, 60.1773,60.2743,59.9951,59.7159,59.4367 ,59.1571,58.7381,58.4586,58.0402, 57.7612,57.4819,57.2025,56.7837,56.5045 ,56.0856,55.8065,55.3881,55.1092, 54.8304,54.4123,54.1337,53.7163,53.438, 53.1598,52.8818,52.4648,52.048,51.7705, 51.3545,50.9388,50.6618,50.3847,50.108, 49.8316,49.417,49.0028,48.7268,48.4511, 48.0381,47.7628,47.4879,47.2132,46.9387 ,46.527,46.3899,46.3799,46.4025,46.4243 ,46.4414,46.4419,46.443,46.8555,47.1303 ,47.4056,47.6812,48.0951,48.3718, 48.6481,48.9245,49.2013,49.4781,49.7552 ,50.0325,50.3098,50.7263,51.004,51.2821 ,51.6987,52.1166,52.5351,52.8142, 53.2328,53.6515,53.9309,54.2107,54.4901 ,54.9096,55.1892,55.6093,55.8896, 56.1701,56.5904,56.8707,57.2911,57.5716 ,57.8523,58.1328,58.4133,58.6939, 59.1149,59.396,59.6767,60.2382,60.3786, 60.285)
FOOTPRINT_POINT_LONGITUDE = (169.084,168.406,167.992,167.172, 166.363,166.337,166.298,166.346,166.392 ,166.437,166.481,166.545,166.586, 166.646,166.684,166.722,166.759,166.812 ,166.846,166.897,166.929,166.976, 167.006,167.035,167.078,167.106,167.146 ,167.172,167.197,167.221,167.257, 167.291,167.313,167.345,167.376,167.395 ,167.414,167.433,167.451,167.477, 167.502,167.519,167.534,167.557,167.571 ,167.585,167.599,167.612,167.631, 167.638,167.638,168.284,168.995,169.622 ,169.642,169.648,169.641,169.636, 169.631,169.626,169.618,169.614,169.608 ,169.602,169.597,169.591,169.585, 169.579,169.572,169.562,169.555,169.549 ,169.537,169.526,169.515,169.508, 169.496,169.483,169.474,169.466,169.457 ,169.443,169.433,169.418,169.408, 169.398,169.382,169.37,169.353,169.341, 169.329,169.316,169.304,169.29,169.27, 169.257,169.242,169.212,169.205, 169.084)
ORBIT_NUMBER = 22121
ORBITAL_ECCENTRICITY = 0.571
ORBITAL_INCLINATION = 87.02
ORBITAL_SEMIMAJOR_AXIS = 8789.75
PERIAPSIS_ALTITUDE = 383.47
PERIAPSIS_ARGUMENT_ANGLE = 130.4
PERIAPSIS_TIME = 2021-07-04T04:54:57.000Z
SPACECRAFT_ORIENTATION = (0.0,-1.0,0.0)
^MEX_ORIENTATION_DESC = "MEX_ORIENTATION_DESC.TXT"
SPACECRAFT_POINTING_MODE = ACROSSTRACK
^MEX_POINTING_DESC = "MEX_POINTING_DESC.TXT"
RIGHT_ASCENSION = -1e+32
DECLINATION = -1e+32
OFFSET_ANGLE = 0.5
SPACECRAFT_SOLAR_DISTANCE = 2.49166e+08
TARGET_NAME = MARS
/* CAMERA DATA ELEMENTS */
DETECTOR_TEMPERATURE = 18.9822
FOCAL_PLANE_TEMPERATURE = 8.3794
INST_CMPRS_NAME = "DISCRETE COSINE TRANSFORMATION (DCT)"
INST_CMPRS_RATIO = 17.5936
INST_CMPRS_QUALITY = 0
INST_CMPRS_QUANTZ_TBL_ID = 0
INSTRUMENT_TEMPERATURE = 11.6418
LENS_TEMPERATURE = 8.7872
MACROPIXEL_SIZE = 4
MISSING_FRAMES = 0
PIXEL_SUBSAMPLING_FLAG = N
SIGNAL_CHAIN_ID = 2
/* RADIOMETRIC DATA ELEMENTS */
BANDWIDTH = 48.0
CENTER_FILTER_WAVELENGTH = 748.0
RADIANCE_OFFSET = 0.830149
RADIANCE_SCALING_FACTOR = 0.0061988
REFLECTANCE_SCALING_FACTOR = 0.000878235
MEX:REFLECTANCE_OFFSET = 0.117614
/* IMAGE OBJECT DEFINITIONS */
OBJECT = IMAGE
  INTERCHANGE_FORMAT = BINARY
  LINES = 16576
  LINE_SAMPLES = 2355
  SAMPLE_TYPE = UNSIGNED_INTEGER
  SAMPLE_BITS = 8
  BANDS = 1
  BAND_STORAGE_TYPE = BAND_SEQUENTIAL
  MAXIMUM = 255
  MEAN = 107.304
  MINIMUM = 1
  STANDARD_DEVIATION = 49.8614
END_OBJECT = IMAGE
/* MAP OBJECT DEFINITIONS */
OBJECT = IMAGE_MAP_PROJECTION
  ^DATA_SET_MAP_PROJECTION_CATALOG= "DSMAP.CAT"
  A_AXIS_RADIUS = 3396.0
  B_AXIS_RADIUS = 3396.0
  C_AXIS_RADIUS = 3396.0
  CENTER_LATITUDE = 0.0
  CENTER_LONGITUDE = 168.0
  COORDINATE_SYSTEM_NAME = PLANETOGRAPHIC
  COORDINATE_SYSTEM_TYPE = "BODY-FIXED ROTATING"
  EASTERNMOST_LONGITUDE = 169.648
  FIRST_STANDARD_PARALLEL = "N/A"
  LINE_FIRST_PIXEL = 1
  LINE_LAST_PIXEL = 16576
  LINE_PROJECTION_OFFSET = 71550.125
  MAP_PROJECTION_ROTATION = 0.0
  MAP_PROJECTION_TYPE = SINUSOIDAL
  MAP_RESOLUTION = 1185.42760773333
  MAP_SCALE = 0.05
  MAXIMUM_LATITUDE = 60.3786
  MINIMUM_LATITUDE = 46.3799
  POSITIVE_LONGITUDE_DIRECTION = EAST
  REFERENCE_LATITUDE = "N/A"
  REFERENCE_LONGITUDE = "N/A"
  SAMPLE_FIRST_PIXEL = 1
  SAMPLE_LAST_PIXEL = 2355
  SAMPLE_PROJECTION_OFFSET = 1022.875
  SECOND_STANDARD_PARALLEL = "N/A"
  WESTERNMOST_LONGITUDE = 166.298
END_OBJECT = IMAGE_MAP_PROJECTION
END
