PDS_VERSION_ID = PDS3
/* FILE DATA ELEMENTS */
RECORD_TYPE = UNDEFINED
/* POINTERS TO DATA OBJECTS */
^IMAGE = ("HM119_0000_P14.TIF")
/* IDENTIFICATION DATA ELEMENTS */
DATA_SET_ID = "MEX-M-HRSC-4-REFDR-MAPPROJECT-EXT8-V4.0"
DATA_SET_NAME = "MARS EXPRESS HRSC MAP PROJECTED REFDR EXTENSION8 V4.0"
DETECTOR_ID = MEX_HRSC_P1
EVENT_TYPE = "MARS-REGIONAL-MAPPING-Im-Eo"
INSTRUMENT_HOST_ID = MEX
INSTRUMENT_HOST_NAME = "MARS EXPRESS"
INSTRUMENT_ID = HRSC
INSTRUMENT_NAME = "HIGH RESOLUTION STEREO CAMERA"
MISSION_NAME = "MARS EXPRESS"
MISSION_PHASE_NAME = ME_Phase_45
PROCESSING_LEVEL_ID = 4
PRODUCT_CREATION_TIME = 2023-01-26T14:38:01.000Z
PRODUCT_ID = "HM119_0000_P14.TIF"
RELEASE_ID = 0002
REVISION_ID = 0000
/* QUALITY DATA ELEMENTS */
DATA_QUALITY_ID = 1
DATA_QUALITY_DESC = "Data calculated based on original SPICE kernels"
/* TIME DATA ELEMENTS */
SPACECRAFT_CLOCK_START_COUNT = "1/0573404635.25675"
SPACECRAFT_CLOCK_STOP_COUNT = "1/0573404985.55927"
START_TIME = 2021-07-03T15:04:47.562Z
STOP_TIME = 2021-07-03T15:07:44.327Z
/* ORBITAL DATA ELEMENTS */
ASCENDING_NODE_LONGITUDE = 161.07
MAXIMUM_RESOLUTION = 0.0463
FOOTPRINT_POINT_LATITUDE = (17.7244,17.7148,17.7043,17.6928, 17.6801,17.6663,17.6453,17.6443,17.6277 ,17.2491,16.8677,16.4824,15.9009, 15.5112,15.1164,14.8144,14.3178,14.1163 ,13.9134,13.7086,13.5032,13.3,13.0928, 12.8852,12.6786,12.4694,12.2595,12.0499 ,11.8373,11.6248,11.4128,11.1986, 10.9845,10.7653,10.4375,10.223,10.0023, 9.78217,9.5622,9.23277,9.01327,8.7947, 8.46755,8.24963,8.03214,7.70532,7.36929 ,7.24585,7.1677,7.17765,7.18615,7.19036 ,7.19402,7.19802,7.20313,7.2085,7.20841 ,7.20861,7.2096,7.57524,7.79347,8.12075 ,8.44415,8.77208,8.99343,9.21212, 9.43631,9.65901,9.88021,10.1011,10.3202 ,10.6446,10.8628,11.0798,11.2983,11.514 ,11.7268,11.9403,12.153,12.3623,12.5732 ,12.7838,12.9918,13.1988,13.4043, 13.6086,13.8145,14.0199,14.2226,14.5254 ,14.7273,15.0268,15.4236,15.8158, 16.2089,16.5954,16.982,17.5542,17.6497, 17.7244)
FOOTPRINT_POINT_LONGITUDE = (11.8835,11.5665,11.2459,10.921,10.5922 ,10.2591,9.79293,9.77154,9.74554,9.7394 ,9.72992,9.7215,9.70809,9.70082,9.69086 ,9.67807,9.66952,9.6635,9.65689,9.65025 ,9.64261,9.63723,9.63071,9.62334, 9.61668,9.60995,9.60267,9.59525,9.58757 ,9.57994,9.5724,9.5656,9.55859,9.54659, 9.53286,9.5278,9.51895,9.5102,9.50123, 9.48754,9.47801,9.46905,9.45557,9.44623 ,9.43692,9.42151,9.40625,9.40038, 9.39651,9.7824,10.1394,10.4156,10.6159, 10.8647,11.2595,11.6262,11.9407,11.9649 ,11.9736,11.9718,11.9704,11.9683, 11.9654,11.963,11.9618,11.96,11.959, 11.9577,11.9562,11.9545,11.9526,11.9495 ,11.9478,11.9462,11.9449,11.9432, 11.9415,11.9397,11.938,11.936,11.9342, 11.9326,11.9308,11.9288,11.9265,11.9245 ,11.9227,11.9208,11.9189,11.9158, 11.9137,11.9108,11.9061,11.9017,11.8974 ,11.8928,11.8884,11.8813,11.8801, 11.8835)
ORBIT_NUMBER = 22119
ORBITAL_ECCENTRICITY = 0.572
ORBITAL_INCLINATION = 87.01
ORBITAL_SEMIMAJOR_AXIS = 8793.68
PERIAPSIS_ALTITUDE = 383.02
PERIAPSIS_ARGUMENT_ANGLE = 130.73
PERIAPSIS_TIME = 2021-07-03T14:56:54.000Z
SPACECRAFT_ORIENTATION = (0.0,-1.0,0.0)
^MEX_ORIENTATION_DESC = "MEX_ORIENTATION_DESC.TXT"
SPACECRAFT_POINTING_MODE = ACROSSTRACK
^MEX_POINTING_DESC = "MEX_POINTING_DESC.TXT"
RIGHT_ASCENSION = -1e+32
DECLINATION = -1e+32
OFFSET_ANGLE = -1.495
SPACECRAFT_SOLAR_DISTANCE = 2.49158e+08
TARGET_NAME = MARS
/* CAMERA DATA ELEMENTS */
DETECTOR_TEMPERATURE = 17.351
FOCAL_PLANE_TEMPERATURE = 8.3794
INST_CMPRS_NAME = "DISCRETE COSINE TRANSFORMATION (DCT)"
INST_CMPRS_RATIO = 7.75207
INST_CMPRS_QUALITY = 0
INST_CMPRS_QUANTZ_TBL_ID = 0
INSTRUMENT_TEMPERATURE = 11.234
LENS_TEMPERATURE = 8.3794
MACROPIXEL_SIZE = 2
MISSING_FRAMES = 0
PIXEL_SUBSAMPLING_FLAG = N
SIGNAL_CHAIN_ID = 3
/* RADIOMETRIC DATA ELEMENTS */
BANDWIDTH = 174.0
CENTER_FILTER_WAVELENGTH = 675.0
RADIANCE_OFFSET = 3.08841
RADIANCE_SCALING_FACTOR = 0.0247073
REFLECTANCE_SCALING_FACTOR = 0.000825012
MEX:REFLECTANCE_OFFSET = 0.103127
/* IMAGE OBJECT DEFINITIONS */
OBJECT = IMAGE
  INTERCHANGE_FORMAT = BINARY
  LINES = 12476
  LINE_SAMPLES = 3232
  SAMPLE_TYPE = UNSIGNED_INTEGER
  SAMPLE_BITS = 8
  BANDS = 1
  BAND_STORAGE_TYPE = BAND_SEQUENTIAL
  MAXIMUM = 255
  MEAN = 133.9
  MINIMUM = 1
  STANDARD_DEVIATION = 28.7104
END_OBJECT = IMAGE
/* MAP OBJECT DEFINITIONS */
OBJECT = IMAGE_MAP_PROJECTION
  ^DATA_SET_MAP_PROJECTION_CATALOG= "DSMAP.CAT"
  A_AXIS_RADIUS = 3396.0
  B_AXIS_RADIUS = 3396.0
  C_AXIS_RADIUS = 3396.0
  CENTER_LATITUDE = 0.0
  CENTER_LONGITUDE = 11.0
  COORDINATE_SYSTEM_NAME = PLANETOGRAPHIC
  COORDINATE_SYSTEM_TYPE = "BODY-FIXED ROTATING"
  EASTERNMOST_LONGITUDE = 11.9736
  FIRST_STANDARD_PARALLEL = "N/A"
  LINE_FIRST_PIXEL = 1
  LINE_LAST_PIXEL = 12476
  LINE_PROJECTION_OFFSET = 20969.75
  MAP_PROJECTION_ROTATION = 0.0
  MAP_PROJECTION_TYPE = SINUSOIDAL
  MAP_RESOLUTION = 1185.42760773333
  MAP_SCALE = 0.05
  MAXIMUM_LATITUDE = 17.7244
  MINIMUM_LATITUDE = 7.1677
  POSITIVE_LONGITUDE_DIRECTION = EAST
  REFERENCE_LATITUDE = "N/A"
  REFERENCE_LONGITUDE = "N/A"
  SAMPLE_FIRST_PIXEL = 1
  SAMPLE_LAST_PIXEL = 3232
  SAMPLE_PROJECTION_OFFSET = 1983.25
  SECOND_STANDARD_PARALLEL = "N/A"
  WESTERNMOST_LONGITUDE = 9.396509999999999
END_OBJECT = IMAGE_MAP_PROJECTION
END
