PDS_VERSION_ID = PDS3
/* FILE DATA ELEMENTS */
RECORD_TYPE = UNDEFINED
/* POINTERS TO DATA OBJECTS */
^IMAGE = ("HM119_0000_IR4.TIF")
/* IDENTIFICATION DATA ELEMENTS */
DATA_SET_ID = "MEX-M-HRSC-4-REFDR-MAPPROJECT-EXT8-V4.0"
DATA_SET_NAME = "MARS EXPRESS HRSC MAP PROJECTED REFDR EXTENSION8 V4.0"
DETECTOR_ID = MEX_HRSC_IR
EVENT_TYPE = "MARS-REGIONAL-MAPPING-Im-Eo"
INSTRUMENT_HOST_ID = MEX
INSTRUMENT_HOST_NAME = "MARS EXPRESS"
INSTRUMENT_ID = HRSC
INSTRUMENT_NAME = "HIGH RESOLUTION STEREO CAMERA"
MISSION_NAME = "MARS EXPRESS"
MISSION_PHASE_NAME = ME_Phase_45
PROCESSING_LEVEL_ID = 4
PRODUCT_CREATION_TIME = 2023-01-26T14:38:01.000Z
PRODUCT_ID = "HM119_0000_IR4.TIF"
RELEASE_ID = 0002
REVISION_ID = 0000
/* QUALITY DATA ELEMENTS */
DATA_QUALITY_ID = 1
DATA_QUALITY_DESC = "Data calculated based on original SPICE kernels"
/* TIME DATA ELEMENTS */
SPACECRAFT_CLOCK_START_COUNT = "1/0573404635.25675"
SPACECRAFT_CLOCK_STOP_COUNT = "1/0573404985.55927"
START_TIME = 2021-07-03T15:04:38.240Z
STOP_TIME = 2021-07-03T15:07:32.157Z
/* ORBITAL DATA ELEMENTS */
ASCENDING_NODE_LONGITUDE = 161.07
MAXIMUM_RESOLUTION = 0.093
FOOTPRINT_POINT_LATITUDE = (17.7422,17.7298,17.7165,17.702,17.6865 ,17.6697,17.6396,17.6384,17.6191, 17.2384,16.9529,16.6637,16.2788,15.8887 ,15.3022,14.9069,14.406,14.2038,14.0015 ,13.7969,13.5908,13.3871,13.1768, 12.9705,12.7661,12.5578,12.3475,12.1374 ,11.8195,11.6067,11.3945,11.1804,10.852 ,10.6338,10.3115,10.0927,9.87138, 9.65046,9.31581,9.09174,8.86837,8.53469 ,8.3122,8.08988,7.86696,7.64494,7.31278 ,7.202,7.14014,7.15051,7.1604,7.17323, 7.17919,7.18794,7.19344,7.20279,7.20956 ,7.20996,7.21173,7.54659,7.76939, 8.10335,8.43214,8.65353,8.87988,9.10303 ,9.33021,9.55948,9.78326,10.0048, 10.2251,10.4443,10.7681,11.0951,11.3137 ,11.5296,11.7427,11.9571,12.1694, 12.3782,12.59,12.8017,13.0097,13.2157, 13.4222,13.6269,13.8328,14.1407,14.3425 ,14.544,14.7457,15.246,15.6397,16.0322, 16.3269,16.7122,17.099,17.5742,17.6695, 17.7422)
FOOTPRINT_POINT_LONGITUDE = (11.8704,11.5691,11.2643,10.9556, 10.6433,10.327,9.80343,9.78305,9.76085, 9.75216,9.74561,9.73945,9.73112,9.72226 ,9.71044,9.70174,9.68827,9.68187, 9.67532,9.66932,9.66158,9.65581,9.6462, 9.64056,9.63638,9.62993,9.62281,9.61565 ,9.60428,9.59691,9.58979,9.5833,9.56699 ,9.55768,9.54996,9.54164,9.53292, 9.52425,9.51071,9.50129,9.49212,9.47889 ,9.4696,9.4601,9.44973,9.43978,9.42494, 9.41976,9.41687,9.68458,9.952,10.3831, 10.5968,10.9502,11.1841,11.5325,11.9229 ,11.9457,11.9533,11.9517,11.9505, 11.9486,11.9459,11.9443,11.9432,11.9417 ,11.9406,11.9398,11.9385,11.937,11.9353 ,11.9338,11.9308,11.9288,11.9275,11.926 ,11.9244,11.9229,11.9212,11.9193, 11.9177,11.9163,11.9146,11.9125,11.9105 ,11.9087,11.907,11.9044,11.9025,11.9005 ,11.8985,11.8939,11.8892,11.8852, 11.8821,11.8777,11.8734,11.8678,11.8667 ,11.8704)
ORBIT_NUMBER = 22119
ORBITAL_ECCENTRICITY = 0.572
ORBITAL_INCLINATION = 87.01
ORBITAL_SEMIMAJOR_AXIS = 8793.68
PERIAPSIS_ALTITUDE = 383.02
PERIAPSIS_ARGUMENT_ANGLE = 130.73
PERIAPSIS_TIME = 2021-07-03T14:56:54.000Z
SPACECRAFT_ORIENTATION = (0.0,-1.0,0.0)
^MEX_ORIENTATION_DESC = "MEX_ORIENTATION_DESC.TXT"
SPACECRAFT_POINTING_MODE = ACROSSTRACK
^MEX_POINTING_DESC = "MEX_POINTING_DESC.TXT"
RIGHT_ASCENSION = -1e+32
DECLINATION = -1e+32
OFFSET_ANGLE = -1.495
SPACECRAFT_SOLAR_DISTANCE = 2.49158e+08
TARGET_NAME = MARS
/* CAMERA DATA ELEMENTS */
DETECTOR_TEMPERATURE = 17.351
FOCAL_PLANE_TEMPERATURE = 8.3794
INST_CMPRS_NAME = "DISCRETE COSINE TRANSFORMATION (DCT)"
INST_CMPRS_RATIO = 11.1338
INST_CMPRS_QUALITY = 0
INST_CMPRS_QUANTZ_TBL_ID = 0
INSTRUMENT_TEMPERATURE = 11.234
LENS_TEMPERATURE = 8.3794
MACROPIXEL_SIZE = 4
MISSING_FRAMES = 0
PIXEL_SUBSAMPLING_FLAG = N
SIGNAL_CHAIN_ID = 2
/* RADIOMETRIC DATA ELEMENTS */
BANDWIDTH = 81.0
CENTER_FILTER_WAVELENGTH = 955.5
RADIANCE_OFFSET = 0.719693
RADIANCE_SCALING_FACTOR = 0.00762524
REFLECTANCE_SCALING_FACTOR = 0.00102125
MEX:REFLECTANCE_OFFSET = 0.0963887
/* IMAGE OBJECT DEFINITIONS */
OBJECT = IMAGE
  INTERCHANGE_FORMAT = BINARY
  LINES = 6238
  LINE_SAMPLES = 1616
  SAMPLE_TYPE = UNSIGNED_INTEGER
  SAMPLE_BITS = 8
  BANDS = 1
  BAND_STORAGE_TYPE = BAND_SEQUENTIAL
  MAXIMUM = 255
  MEAN = 142.244
  MINIMUM = 1
  STANDARD_DEVIATION = 29.8036
END_OBJECT = IMAGE
/* MAP OBJECT DEFINITIONS */
OBJECT = IMAGE_MAP_PROJECTION
  ^DATA_SET_MAP_PROJECTION_CATALOG= "DSMAP.CAT"
  A_AXIS_RADIUS = 3396.0
  B_AXIS_RADIUS = 3396.0
  C_AXIS_RADIUS = 3396.0
  CENTER_LATITUDE = 0.0
  CENTER_LONGITUDE = 11.0
  COORDINATE_SYSTEM_NAME = PLANETOGRAPHIC
  COORDINATE_SYSTEM_TYPE = "BODY-FIXED ROTATING"
  EASTERNMOST_LONGITUDE = 11.9533
  FIRST_STANDARD_PARALLEL = "N/A"
  LINE_FIRST_PIXEL = 1
  LINE_LAST_PIXEL = 6238
  LINE_PROJECTION_OFFSET = 10484.625
  MAP_PROJECTION_ROTATION = 0.0
  MAP_PROJECTION_TYPE = SINUSOIDAL
  MAP_RESOLUTION = 592.713803866667
  MAP_SCALE = 0.1
  MAXIMUM_LATITUDE = 17.7422
  MINIMUM_LATITUDE = 7.14014
  POSITIVE_LONGITUDE_DIRECTION = EAST
  REFERENCE_LATITUDE = "N/A"
  REFERENCE_LONGITUDE = "N/A"
  SAMPLE_FIRST_PIXEL = 1
  SAMPLE_LAST_PIXEL = 1616
  SAMPLE_PROJECTION_OFFSET = 991.375
  SECOND_STANDARD_PARALLEL = "N/A"
  WESTERNMOST_LONGITUDE = 9.416869999999999
END_OBJECT = IMAGE_MAP_PROJECTION
END
