PDS_VERSION_ID = PDS3
/* FILE DATA ELEMENTS */
RECORD_TYPE = UNDEFINED
/* POINTERS TO DATA OBJECTS */
^IMAGE = ("HM118_0000_S24.TIF")
/* IDENTIFICATION DATA ELEMENTS */
DATA_SET_ID = "MEX-M-HRSC-4-REFDR-MAPPROJECT-EXT8-V4.0"
DATA_SET_NAME = "MARS EXPRESS HRSC MAP PROJECTED REFDR EXTENSION8 V4.0"
DETECTOR_ID = MEX_HRSC_S2
EVENT_TYPE = "MARS-REGIONAL-MAPPING-Vo-Im-Pf"
INSTRUMENT_HOST_ID = MEX
INSTRUMENT_HOST_NAME = "MARS EXPRESS"
INSTRUMENT_ID = HRSC
INSTRUMENT_NAME = "HIGH RESOLUTION STEREO CAMERA"
MISSION_NAME = "MARS EXPRESS"
MISSION_PHASE_NAME = ME_Phase_45
PROCESSING_LEVEL_ID = 4
PRODUCT_CREATION_TIME = 2023-01-26T14:38:01.000Z
PRODUCT_ID = "HM118_0000_S24.TIF"
RELEASE_ID = 0002
REVISION_ID = 0000
/* QUALITY DATA ELEMENTS */
DATA_QUALITY_ID = 1
DATA_QUALITY_DESC = "Data calculated based on original SPICE kernels"
/* TIME DATA ELEMENTS */
SPACECRAFT_CLOCK_START_COUNT = "1/0573378855.25675"
SPACECRAFT_CLOCK_STOP_COUNT = "1/0573379117.30881"
START_TIME = 2021-07-03T07:56:05.464Z
STOP_TIME = 2021-07-03T07:59:09.283Z
/* ORBITAL DATA ELEMENTS */
ASCENDING_NODE_LONGITUDE = 161.09
MAXIMUM_RESOLUTION = 0.0332
FOOTPRINT_POINT_LATITUDE = (58.5191,58.4907,58.4691,58.424,58.3763 ,58.3748,58.4899,58.1328,57.7759,57.538 ,57.3004,57.0628,56.8248,56.4687, 56.2313,55.8752,55.519,55.282,54.9259, 54.5705,54.3335,53.9784,53.7417,53.5052 ,53.2687,52.9141,52.6777,52.4421, 52.2057,51.9699,51.6163,51.3808,51.0274 ,50.7922,50.4394,50.2045,49.9697, 49.7348,49.5002,49.2659,49.0317,48.6807 ,48.3298,47.979,47.7455,47.3965,47.1638 ,46.8148,46.6984,46.6554,46.6797, 46.7169,46.7368,46.7745,46.7756,46.7765 ,47.0094,47.3591,47.5927,47.8263, 48.0597,48.2939,48.5279,48.7622,48.9963 ,49.2312,49.466,49.7007,49.9362,50.2891 ,50.5247,50.7604,51.2321,51.5861, 51.9404,52.1766,52.5312,52.7678,53.0045 ,53.4785,53.8342,54.0714,54.3083, 54.5458,54.7831,55.0212,55.3781,55.6165 ,55.8544,56.0929,56.45,56.6882,57.0458, 57.4036,57.6421,57.8808,58.2387,58.4773 ,58.5969,58.5191)
FOOTPRINT_POINT_LONGITUDE = (117.189,116.592,116.166,115.335, 114.531,114.506,114.549,114.584,114.617 ,114.639,114.661,114.681,114.702, 114.731,114.75,114.778,114.804,114.822, 114.846,114.87,114.886,114.908,114.923, 114.937,114.951,114.97,114.983,114.996, 115.008,115.02,115.037,115.047,115.063, 115.073,115.088,115.097,115.106,115.115 ,115.124,115.132,115.14,115.151,115.162 ,115.172,115.179,115.188,115.194, 115.203,115.205,115.206,115.598,116.241 ,116.591,117.291,117.312,117.32,117.322 ,117.325,117.327,117.328,117.33,117.332 ,117.334,117.335,117.337,117.339, 117.341,117.342,117.344,117.347,117.349 ,117.351,117.354,117.356,117.359,117.36 ,117.362,117.363,117.364,117.367, 117.369,117.37,117.371,117.372,117.373, 117.374,117.376,117.378,117.379,117.38, 117.381,117.382,117.384,117.385,117.385 ,117.386,117.387,117.387,117.388, 117.189)
ORBIT_NUMBER = 22118
ORBITAL_ECCENTRICITY = 0.572
ORBITAL_INCLINATION = 87.01
ORBITAL_SEMIMAJOR_AXIS = 8798.77
PERIAPSIS_ALTITUDE = 382.22
PERIAPSIS_ARGUMENT_ANGLE = 130.9
PERIAPSIS_TIME = 2021-07-03T07:57:56.000Z
SPACECRAFT_ORIENTATION = (0.0,-1.0,0.0)
^MEX_ORIENTATION_DESC = "MEX_ORIENTATION_DESC.TXT"
SPACECRAFT_POINTING_MODE = ACROSSTRACK
^MEX_POINTING_DESC = "MEX_POINTING_DESC.TXT"
RIGHT_ASCENSION = -1e+32
DECLINATION = -1e+32
OFFSET_ANGLE = 1.292
SPACECRAFT_SOLAR_DISTANCE = 2.49154e+08
TARGET_NAME = MARS
/* CAMERA DATA ELEMENTS */
DETECTOR_TEMPERATURE = 18.3705
FOCAL_PLANE_TEMPERATURE = 6.5443
INST_CMPRS_NAME = "DISCRETE COSINE TRANSFORMATION (DCT)"
INST_CMPRS_RATIO = 11.8656
INST_CMPRS_QUALITY = 0
INST_CMPRS_QUANTZ_TBL_ID = 0
INSTRUMENT_TEMPERATURE = 11.234
LENS_TEMPERATURE = 8.1755
MACROPIXEL_SIZE = 2
MISSING_FRAMES = 0
PIXEL_SUBSAMPLING_FLAG = N
SIGNAL_CHAIN_ID = 1
/* RADIOMETRIC DATA ELEMENTS */
BANDWIDTH = 178.0
CENTER_FILTER_WAVELENGTH = 679.0
RADIANCE_OFFSET = 4.19019
RADIANCE_SCALING_FACTOR = 0.0119651
REFLECTANCE_SCALING_FACTOR = 0.000393353
MEX:REFLECTANCE_OFFSET = 0.137752
/* IMAGE OBJECT DEFINITIONS */
OBJECT = IMAGE
  INTERCHANGE_FORMAT = BINARY
  LINES = 28167
  LINE_SAMPLES = 3938
  SAMPLE_TYPE = UNSIGNED_INTEGER
  SAMPLE_BITS = 8
  BANDS = 1
  BAND_STORAGE_TYPE = BAND_SEQUENTIAL
  MAXIMUM = 255
  MEAN = 98.1714
  MINIMUM = 1
  STANDARD_DEVIATION = 49.9289
END_OBJECT = IMAGE
/* MAP OBJECT DEFINITIONS */
OBJECT = IMAGE_MAP_PROJECTION
  ^DATA_SET_MAP_PROJECTION_CATALOG= "DSMAP.CAT"
  A_AXIS_RADIUS = 3396.0
  B_AXIS_RADIUS = 3396.0
  C_AXIS_RADIUS = 3396.0
  CENTER_LATITUDE = 0.0
  CENTER_LONGITUDE = 116.0
  COORDINATE_SYSTEM_NAME = PLANETOGRAPHIC
  COORDINATE_SYSTEM_TYPE = "BODY-FIXED ROTATING"
  EASTERNMOST_LONGITUDE = 117.388
  FIRST_STANDARD_PARALLEL = "N/A"
  LINE_FIRST_PIXEL = 1
  LINE_LAST_PIXEL = 28167
  LINE_PROJECTION_OFFSET = 138829.75
  MAP_PROJECTION_ROTATION = 0.0
  MAP_PROJECTION_TYPE = SINUSOIDAL
  MAP_RESOLUTION = 2370.85521546667
  MAP_SCALE = 0.025
  MAXIMUM_LATITUDE = 58.5969
  MINIMUM_LATITUDE = 46.6554
  POSITIVE_LONGITUDE_DIRECTION = EAST
  REFERENCE_LATITUDE = "N/A"
  REFERENCE_LONGITUDE = "N/A"
  SAMPLE_FIRST_PIXEL = 1
  SAMPLE_LAST_PIXEL = 3938
  SAMPLE_PROJECTION_OFFSET = 1854.75
  SECOND_STANDARD_PARALLEL = "N/A"
  WESTERNMOST_LONGITUDE = 114.506
END_OBJECT = IMAGE_MAP_PROJECTION
END
