PDS_VERSION_ID = PDS3
/* FILE DATA ELEMENTS */
RECORD_TYPE = UNDEFINED
/* POINTERS TO DATA OBJECTS */
^IMAGE = ("HM108_0000_RE4.TIF")
/* IDENTIFICATION DATA ELEMENTS */
DATA_SET_ID = "MEX-M-HRSC-4-REFDR-MAPPROJECT-EXT8-V4.0"
DATA_SET_NAME = "MARS EXPRESS HRSC MAP PROJECTED REFDR EXTENSION8 V4.0"
DETECTOR_ID = MEX_HRSC_RED
EVENT_TYPE = "MARS-REGIONAL-MAPPING-Im-Pf"
INSTRUMENT_HOST_ID = MEX
INSTRUMENT_HOST_NAME = "MARS EXPRESS"
INSTRUMENT_ID = HRSC
INSTRUMENT_NAME = "HIGH RESOLUTION STEREO CAMERA"
MISSION_NAME = "MARS EXPRESS"
MISSION_PHASE_NAME = ME_Phase_44
PROCESSING_LEVEL_ID = 4
PRODUCT_CREATION_TIME = 2023-01-25T08:48:24.000Z
PRODUCT_ID = "HM108_0000_RE4.TIF"
RELEASE_ID = 0001
REVISION_ID = 0000
/* QUALITY DATA ELEMENTS */
DATA_QUALITY_ID = 1
DATA_QUALITY_DESC = "Data calculated based on original SPICE kernels"
/* TIME DATA ELEMENTS */
SPACECRAFT_CLOCK_START_COUNT = "1/0573127225.24914"
SPACECRAFT_CLOCK_STOP_COUNT = "1/0573127501.07364"
START_TIME = 2021-06-30T10:02:33.042Z
STOP_TIME = 2021-06-30T10:05:26.612Z
/* ORBITAL DATA ELEMENTS */
ASCENDING_NODE_LONGITUDE = 161.26
MAXIMUM_RESOLUTION = 0.0691
FOOTPRINT_POINT_LATITUDE = (70.5923,70.566,70.5368,70.5045,70.4692 ,70.4307,70.3607,70.3578,70.4459, 70.0961,69.8624,69.6283,69.3971,69.1675 ,68.9376,68.7074,68.3621,68.1366, 67.7975,67.5712,67.3445,67.1189,66.8971 ,66.6751,66.3416,66.119,65.7862,65.4595 ,65.2414,65.0231,64.8046,64.4767,64.262 ,63.9415,63.7277,63.5135,63.2994, 62.9781,62.766,62.5568,62.3473,62.033, 61.8234,61.6134,61.4036,61.1939,60.8831 ,60.4739,59.9616,59.654,59.5514,59.5328 ,59.5515,59.5705,59.5853,59.5976, 59.5979,59.599,60.1175,60.5315,60.9453, 61.4717,61.684,61.8961,62.2144,62.4264, 62.7441,62.9566,63.1739,63.4999,63.7169 ,64.0424,64.2593,64.476,64.6961,64.9181 ,65.1398,65.3618,65.5835,65.805,66.0272 ,66.2541,66.5941,66.8207,67.0471, 67.2733,67.6185,67.8497,68.0808,68.4271 ,68.6597,68.8955,69.249,69.4845,69.7195 ,70.0792,70.3193,70.5592,70.679, 70.5923)
FOOTPRINT_POINT_LONGITUDE = (50.277,49.5469,48.8109,48.0671,47.3169 ,46.5598,45.3114,45.2629,44.8541, 45.1298,45.3078,45.4818,45.6494,45.8113 ,45.9697,46.1241,46.349,46.4907,46.6987 ,46.833,46.9652,47.0942,47.217,47.3376, 47.5138,47.6281,47.7951,47.9537,48.0567 ,48.158,48.2572,48.4021,48.4943,48.6291 ,48.7168,48.8035,48.8879,49.0115, 49.0899,49.1672,49.2438,49.3555,49.4284 ,49.5005,49.571,49.6394,49.7391,49.8661 ,50.02,50.109,50.1385,50.1437,50.7801, 51.5452,52.2929,53.1031,53.1297,53.1385 ,53.0527,52.9822,52.9095,52.8132, 52.7733,52.7328,52.6706,52.6283,52.5636 ,52.5192,52.4731,52.4023,52.354,52.2801 ,52.2296,52.1783,52.1253,52.0707, 52.0151,51.9582,51.9002,51.8413,51.7808 ,51.7178,51.6208,51.5544,51.4867, 51.4176,51.3092,51.2346,51.1582,51.0405 ,50.9589,50.8745,50.7438,50.6541, 50.5625,50.4173,50.3173,50.2148,50.1625 ,50.277)
ORBIT_NUMBER = 22108
ORBITAL_ECCENTRICITY = 0.572
ORBITAL_INCLINATION = 87.02
ORBITAL_SEMIMAJOR_AXIS = 8800.09
PERIAPSIS_ALTITUDE = 381.5
PERIAPSIS_ARGUMENT_ANGLE = 132.65
PERIAPSIS_TIME = 2021-06-30T10:08:09.000Z
SPACECRAFT_ORIENTATION = (0.0,-1.0,0.0)
^MEX_ORIENTATION_DESC = "MEX_ORIENTATION_DESC.TXT"
SPACECRAFT_POINTING_MODE = ACROSSTRACK
^MEX_POINTING_DESC = "MEX_POINTING_DESC.TXT"
RIGHT_ASCENSION = -1e+32
DECLINATION = -1e+32
OFFSET_ANGLE = -1.3
SPACECRAFT_SOLAR_DISTANCE = 2.49105e+08
TARGET_NAME = MARS
/* CAMERA DATA ELEMENTS */
DETECTOR_TEMPERATURE = 18.5744
FOCAL_PLANE_TEMPERATURE = 7.9716
INST_CMPRS_NAME = "DISCRETE COSINE TRANSFORMATION (DCT)"
INST_CMPRS_RATIO = 18.2563
INST_CMPRS_QUALITY = 0
INST_CMPRS_QUANTZ_TBL_ID = 0
INSTRUMENT_TEMPERATURE = 11.234
LENS_TEMPERATURE = 8.1755
MACROPIXEL_SIZE = 4
MISSING_FRAMES = 0
PIXEL_SUBSAMPLING_FLAG = N
SIGNAL_CHAIN_ID = 2
/* RADIOMETRIC DATA ELEMENTS */
BANDWIDTH = 48.0
CENTER_FILTER_WAVELENGTH = 748.0
RADIANCE_OFFSET = 0.889353
RADIANCE_SCALING_FACTOR = 0.00330015
REFLECTANCE_SCALING_FACTOR = 0.000467332
MEX:REFLECTANCE_OFFSET = 0.125941
/* IMAGE OBJECT DEFINITIONS */
OBJECT = IMAGE
  INTERCHANGE_FORMAT = BINARY
  LINES = 13365
  LINE_SAMPLES = 3964
  SAMPLE_TYPE = UNSIGNED_INTEGER
  SAMPLE_BITS = 8
  BANDS = 1
  BAND_STORAGE_TYPE = BAND_SEQUENTIAL
  MAXIMUM = 255
  MEAN = 151.439
  MINIMUM = 1
  STANDARD_DEVIATION = 54.2156
END_OBJECT = IMAGE
/* MAP OBJECT DEFINITIONS */
OBJECT = IMAGE_MAP_PROJECTION
  ^DATA_SET_MAP_PROJECTION_CATALOG= "DSMAP.CAT"
  A_AXIS_RADIUS = 3396.0
  B_AXIS_RADIUS = 3396.0
  C_AXIS_RADIUS = 3396.0
  CENTER_LATITUDE = 0.0
  CENTER_LONGITUDE = 50.0
  COORDINATE_SYSTEM_NAME = PLANETOGRAPHIC
  COORDINATE_SYSTEM_TYPE = "BODY-FIXED ROTATING"
  EASTERNMOST_LONGITUDE = 53.1385
  FIRST_STANDARD_PARALLEL = "N/A"
  LINE_FIRST_PIXEL = 1
  LINE_LAST_PIXEL = 13365
  LINE_PROJECTION_OFFSET = 83871.125
  MAP_PROJECTION_ROTATION = 0.0
  MAP_PROJECTION_TYPE = SINUSOIDAL
  MAP_RESOLUTION = 1185.42760773333
  MAP_SCALE = 0.05
  MAXIMUM_LATITUDE = 70.679
  MINIMUM_LATITUDE = 59.5328
  POSITIVE_LONGITUDE_DIRECTION = EAST
  REFERENCE_LATITUDE = "N/A"
  REFERENCE_LONGITUDE = "N/A"
  SAMPLE_FIRST_PIXEL = 1
  SAMPLE_LAST_PIXEL = 3964
  SAMPLE_PROJECTION_OFFSET = 2065.375
  SECOND_STANDARD_PARALLEL = "N/A"
  WESTERNMOST_LONGITUDE = 44.8541
END_OBJECT = IMAGE_MAP_PROJECTION
END
