PDS_VERSION_ID = PDS3
/* FILE DATA ELEMENTS */
RECORD_TYPE = UNDEFINED
/* POINTERS TO DATA OBJECTS */
^IMAGE = ("HM082_0000_RE4.TIF")
/* IDENTIFICATION DATA ELEMENTS */
DATA_SET_ID = "MEX-M-HRSC-4-REFDR-MAPPROJECT-EXT8-V4.0"
DATA_SET_NAME = "MARS EXPRESS HRSC MAP PROJECTED REFDR EXTENSION8 V4.0"
DETECTOR_ID = MEX_HRSC_RED
EVENT_TYPE = "MARS-LOCAL-CARTOGRAPHY-Vo-Gl-Pf"
INSTRUMENT_HOST_ID = MEX
INSTRUMENT_HOST_NAME = "MARS EXPRESS"
INSTRUMENT_ID = HRSC
INSTRUMENT_NAME = "HIGH RESOLUTION STEREO CAMERA"
MISSION_NAME = "MARS EXPRESS"
MISSION_PHASE_NAME = ME_Phase_44
PROCESSING_LEVEL_ID = 4
PRODUCT_CREATION_TIME = 2023-01-25T08:48:24.000Z
PRODUCT_ID = "HM082_0000_RE4.TIF"
RELEASE_ID = 0001
REVISION_ID = 0000
/* QUALITY DATA ELEMENTS */
DATA_QUALITY_ID = 1
DATA_QUALITY_DESC = "Data calculated based on original SPICE kernels"
/* TIME DATA ELEMENTS */
SPACECRAFT_CLOCK_START_COUNT = "1/0572473917.24939"
SPACECRAFT_CLOCK_STOP_COUNT = "1/0572474303.38697"
START_TIME = 2021-06-22T20:33:36.483Z
STOP_TIME = 2021-06-22T20:38:48.131Z
/* ORBITAL DATA ELEMENTS */
ASCENDING_NODE_LONGITUDE = 161.73
MAXIMUM_RESOLUTION = 0.0642
FOOTPRINT_POINT_LATITUDE = (47.672,47.6442,47.6211,47.5963,47.5955 ,47.6724,47.275,46.679,46.2818,45.8851, 45.4887,44.8943,44.4984,44.1029,43.7078 ,43.3129,42.7213,42.1305,41.7371, 41.3444,40.9511,40.5597,39.9726,39.3864 ,38.9962,38.6064,38.2174,37.8286, 37.4405,37.053,36.666,36.2799,35.8939, 35.1243,34.3573,33.5929,32.8313,32.0725 ,31.4932,31.1058,30.7194,30.3335, 29.9427,29.5486,29.1554,28.7631,28.3651 ,28.1647,28.097,28.1113,28.1248,28.1418 ,28.142,28.1433,28.7439,29.1365,29.5302 ,29.9248,30.3178,30.7039,31.0909, 31.4786,32.0604,32.82,33.5826,34.348, 35.116,35.5011,35.8867,36.2732,36.66, 37.0476,37.4356,37.8243,38.2135,38.6031 ,38.9933,39.384,39.7752,40.1669,40.5592 ,40.952,41.3451,41.7385,42.1325,42.5268 ,42.9216,43.3169,43.7124,44.3065, 44.7029,45.0996,45.4967,45.894,46.2917, 46.6896,47.0876,47.486,47.6853,47.672)
FOOTPRINT_POINT_LONGITUDE = (192.944,192.157,191.572,190.997, 190.979,190.982,191.001,191.028,191.045 ,191.061,191.077,191.099,191.113, 191.126,191.138,191.15,191.167,191.182, 191.191,191.2,191.208,191.216,191.227, 191.236,191.242,191.247,191.252,191.256 ,191.259,191.263,191.266,191.268,191.27 ,191.273,191.274,191.274,191.272, 191.269,191.266,191.263,191.26,191.257, 191.253,191.249,191.245,191.24,191.235, 191.232,191.231,191.75,192.277,192.984, 193.001,193.007,193.008,193.009,193.01, 193.011,193.012,193.013,193.014,193.015 ,193.016,193.018,193.02,193.022,193.024 ,193.025,193.026,193.028,193.029,193.03 ,193.031,193.032,193.033,193.033, 193.034,193.035,193.036,193.036,193.037 ,193.038,193.039,193.039,193.039,193.04 ,193.04,193.041,193.041,193.041,193.041 ,193.041,193.041,193.041,193.041, 193.041,193.04,193.04,193.039,192.944)
ORBIT_NUMBER = 22082
ORBITAL_ECCENTRICITY = 0.572
ORBITAL_INCLINATION = 87.02
ORBITAL_SEMIMAJOR_AXIS = 8799.72
PERIAPSIS_ALTITUDE = 379.13
PERIAPSIS_ARGUMENT_ANGLE = 137.12
PERIAPSIS_TIME = 2021-06-22T20:34:23.000Z
SPACECRAFT_ORIENTATION = (0.0,-1.0,0.0)
^MEX_ORIENTATION_DESC = "MEX_ORIENTATION_DESC.TXT"
SPACECRAFT_POINTING_MODE = ACROSSTRACK
^MEX_POINTING_DESC = "MEX_POINTING_DESC.TXT"
RIGHT_ASCENSION = -1e+32
DECLINATION = -1e+32
OFFSET_ANGLE = 0.808
SPACECRAFT_SOLAR_DISTANCE = 2.48921e+08
TARGET_NAME = MARS
/* CAMERA DATA ELEMENTS */
DETECTOR_TEMPERATURE = 18.5744
FOCAL_PLANE_TEMPERATURE = 8.3794
INST_CMPRS_NAME = "DISCRETE COSINE TRANSFORMATION (DCT)"
INST_CMPRS_RATIO = 21.3681
INST_CMPRS_QUALITY = 0
INST_CMPRS_QUANTZ_TBL_ID = 0
INSTRUMENT_TEMPERATURE = 11.0301
LENS_TEMPERATURE = 8.7872
MACROPIXEL_SIZE = 4
MISSING_FRAMES = 0
PIXEL_SUBSAMPLING_FLAG = N
SIGNAL_CHAIN_ID = 2
/* RADIOMETRIC DATA ELEMENTS */
BANDWIDTH = 48.0
CENTER_FILTER_WAVELENGTH = 748.0
RADIANCE_OFFSET = 1.25968
RADIANCE_SCALING_FACTOR = 0.00376375
REFLECTANCE_SCALING_FACTOR = 0.000532196
MEX:REFLECTANCE_OFFSET = 0.178119
/* IMAGE OBJECT DEFINITIONS */
OBJECT = IMAGE
  INTERCHANGE_FORMAT = BINARY
  LINES = 23257
  LINE_SAMPLES = 1838
  SAMPLE_TYPE = UNSIGNED_INTEGER
  SAMPLE_BITS = 8
  BANDS = 1
  BAND_STORAGE_TYPE = BAND_SEQUENTIAL
  MAXIMUM = 255
  MEAN = 135.679
  MINIMUM = 1
  STANDARD_DEVIATION = 16.0996
END_OBJECT = IMAGE
/* MAP OBJECT DEFINITIONS */
OBJECT = IMAGE_MAP_PROJECTION
  ^DATA_SET_MAP_PROJECTION_CATALOG= "DSMAP.CAT"
  A_AXIS_RADIUS = 3396.0
  B_AXIS_RADIUS = 3396.0
  C_AXIS_RADIUS = 3396.0
  CENTER_LATITUDE = 0.0
  CENTER_LONGITUDE = 192.0
  COORDINATE_SYSTEM_NAME = PLANETOGRAPHIC
  COORDINATE_SYSTEM_TYPE = "BODY-FIXED ROTATING"
  EASTERNMOST_LONGITUDE = 193.041
  FIRST_STANDARD_PARALLEL = "N/A"
  LINE_FIRST_PIXEL = 1
  LINE_LAST_PIXEL = 23257
  LINE_PROJECTION_OFFSET = 56553.375
  MAP_PROJECTION_ROTATION = 0.0
  MAP_PROJECTION_TYPE = SINUSOIDAL
  MAP_RESOLUTION = 1185.42760773333
  MAP_SCALE = 0.05
  MAXIMUM_LATITUDE = 47.6853
  MINIMUM_LATITUDE = 28.097
  POSITIVE_LONGITUDE_DIRECTION = EAST
  REFERENCE_LATITUDE = "N/A"
  REFERENCE_LONGITUDE = "N/A"
  SAMPLE_FIRST_PIXEL = 1
  SAMPLE_LAST_PIXEL = 1838
  SAMPLE_PROJECTION_OFFSET = 825.625
  SECOND_STANDARD_PARALLEL = "N/A"
  WESTERNMOST_LONGITUDE = 190.979
END_OBJECT = IMAGE_MAP_PROJECTION
END
