PDS_VERSION_ID = PDS3
/* FILE DATA ELEMENTS */
RECORD_TYPE = UNDEFINED
/* POINTERS TO DATA OBJECTS */
^IMAGE = ("HM072_0007_SR4.TIF")
/* IDENTIFICATION DATA ELEMENTS */
DATA_SET_ID = "MEX-M-HRSC-4-REFDR-MAPPROJECT-EXT8-V4.0"
DATA_SET_NAME = "MARS EXPRESS HRSC MAP PROJECTED REFDR EXTENSION8 V4.0"
DETECTOR_ID = MEX_HRSC_SRC
EVENT_TYPE = "MARS-LOCAL-CARTOGRAPHY-Tc"
INSTRUMENT_HOST_ID = MEX
INSTRUMENT_HOST_NAME = "MARS EXPRESS"
INSTRUMENT_ID = HRSC
INSTRUMENT_NAME = "HIGH RESOLUTION STEREO CAMERA"
MISSION_NAME = "MARS EXPRESS"
MISSION_PHASE_NAME = ME_Phase_44
PROCESSING_LEVEL_ID = 4
PRODUCT_CREATION_TIME = 2023-01-25T08:48:24.000Z
PRODUCT_ID = "HM072_0007_SR4.TIF"
RELEASE_ID = 0001
REVISION_ID = 0000
/* QUALITY DATA ELEMENTS */
DATA_QUALITY_ID = 1
DATA_QUALITY_DESC = "Data calculated based on original SPICE kernels"
/* TIME DATA ELEMENTS */
SPACECRAFT_CLOCK_START_COUNT = "1/0572222463.25666"
SPACECRAFT_CLOCK_STOP_COUNT = "1/0572222601.60141"
IMAGE_TIME = 2021-06-19T22:42:51.514Z
START_TIME = 2021-06-19T22:42:51.511Z
STOP_TIME = 2021-06-19T22:42:51.516Z
/* ORBITAL DATA ELEMENTS */
ASCENDING_NODE_LONGITUDE = 161.92
MAXIMUM_RESOLUTION = 0.0037
FOOTPRINT_POINT_LATITUDE = (47.6288,47.6331,47.635,47.6376,47.6406 ,47.6428,47.6458,47.6493,47.652,47.6559 ,47.6586,47.6615,47.6649,47.668,47.67, 47.6735,47.6763,47.68,47.6844,47.6884, 47.6918,47.6919,47.6919,47.6919,47.6919 ,47.692,47.692,47.692,47.692,47.692, 47.692,47.6921,47.6921,47.6921,47.6921, 47.6921,47.6921,47.6922,47.6922,47.6922 ,47.6922,47.6922,47.6922,47.6922, 47.6923,47.6923,47.6923,47.6923,47.6923 ,47.6923,47.6896,47.6868,47.6848, 47.6817,47.6793,47.6764,47.6727,47.6702 ,47.6681,47.6654,47.6618,47.6596, 47.6565,47.6527,47.6485,47.6462,47.6426 ,47.64,47.6366,47.6331,47.6292,47.6291, 47.6291,47.6291,47.6291,47.6291,47.6291 ,47.6291,47.6291,47.629,47.629,47.629, 47.629,47.629,47.629,47.629,47.629, 47.629,47.629,47.6289,47.6289,47.6289, 47.6289,47.6289,47.6289,47.6289,47.6289 ,47.6288,47.6288,47.6288)
FOOTPRINT_POINT_LONGITUDE = (134.265,134.265,134.265,134.265, 134.265,134.265,134.265,134.264,134.264 ,134.264,134.264,134.264,134.264, 134.264,134.264,134.264,134.264,134.264 ,134.264,134.264,134.264,134.264, 134.264,134.268,134.272,134.276,134.28, 134.283,134.287,134.291,134.295,134.298 ,134.302,134.306,134.31,134.313,134.317 ,134.321,134.325,134.329,134.333, 134.337,134.34,134.344,134.348,134.352, 134.356,134.361,134.362,134.362,134.362 ,134.362,134.362,134.362,134.362, 134.362,134.362,134.362,134.362,134.362 ,134.362,134.362,134.362,134.363, 134.363,134.363,134.363,134.363,134.363 ,134.363,134.363,134.363,134.363,134.36 ,134.356,134.352,134.348,134.344,134.34 ,134.336,134.333,134.329,134.325, 134.321,134.317,134.313,134.309,134.306 ,134.302,134.298,134.293,134.289, 134.285,134.282,134.278,134.274,134.27, 134.266,134.265,134.265)
ORBIT_NUMBER = 22072
ORBITAL_ECCENTRICITY = 0.573
ORBITAL_INCLINATION = 87.0
ORBITAL_SEMIMAJOR_AXIS = 8809.72
PERIAPSIS_ALTITUDE = 378.27
PERIAPSIS_ARGUMENT_ANGLE = 138.85
PERIAPSIS_TIME = 2021-06-19T22:44:34.000Z
SPACECRAFT_ORIENTATION = (0.0,-1.0,0.0)
^MEX_ORIENTATION_DESC = "MEX_ORIENTATION_DESC.TXT"
SPACECRAFT_POINTING_MODE = ACROSSTRACK
^MEX_POINTING_DESC = "MEX_POINTING_DESC.TXT"
RIGHT_ASCENSION = -1e+32
DECLINATION = -1e+32
OFFSET_ANGLE = 1.51
SPACECRAFT_SOLAR_DISTANCE = 2.48828e+08
TARGET_NAME = MARS
/* CAMERA DATA ELEMENTS */
BUFFER_MODE_ID = BUFFER_8
EXPOSURE_DURATION = 5.04
INST_CMPRS_NAME = NONE
INST_CMPRS_RATIO = 1.0
INST_CMPRS_QUALITY = -2147483648
INST_CMPRS_QUANTZ_TBL_ID = -2147483648
INSTRUMENT_TEMPERATURE = 5.99198
MISSING_FRAMES = 0
START_BIT = 0
/* RADIOMETRIC DATA ELEMENTS */
BANDWIDTH = 250.0
CENTER_FILTER_WAVELENGTH = 600.0
RADIANCE_OFFSET = -9.99e+31
RADIANCE_SCALING_FACTOR = -9.99e+31
REFLECTANCE_SCALING_FACTOR = -9.99e+31
MEX:REFLECTANCE_OFFSET = -9.99e+31
/* IMAGE OBJECT DEFINITIONS */
OBJECT = IMAGE
  INTERCHANGE_FORMAT = BINARY
  LINES = 1586
  LINE_SAMPLES = 1662
  SAMPLE_TYPE = UNSIGNED_INTEGER
  SAMPLE_BITS = 8
  BANDS = 1
  BAND_STORAGE_TYPE = BAND_SEQUENTIAL
  MAXIMUM = 253
  MEAN = 115.982
  MINIMUM = 1
  STANDARD_DEVIATION = 24.6509
END_OBJECT = IMAGE
/* MAP OBJECT DEFINITIONS */
OBJECT = IMAGE_MAP_PROJECTION
  ^DATA_SET_MAP_PROJECTION_CATALOG= "DSMAP.CAT"
  A_AXIS_RADIUS = 3396.19
  B_AXIS_RADIUS = 3396.19
  C_AXIS_RADIUS = 3396.19
  CENTER_LATITUDE = 0.0
  CENTER_LONGITUDE = 134.0
  COORDINATE_SYSTEM_NAME = PLANETOGRAPHIC
  COORDINATE_SYSTEM_TYPE = "BODY-FIXED ROTATING"
  EASTERNMOST_LONGITUDE = 134.363
  FIRST_STANDARD_PARALLEL = "N/A"
  LINE_FIRST_PIXEL = 1
  LINE_LAST_PIXEL = 1586
  LINE_PROJECTION_OFFSET = 1129490.0
  MAP_PROJECTION_ROTATION = 0.0
  MAP_PROJECTION_TYPE = SINUSOIDAL
  MAP_RESOLUTION = 23709.8786048756
  MAP_SCALE = 0.0025
  MAXIMUM_LATITUDE = 47.6923
  MINIMUM_LATITUDE = 47.6288
  POSITIVE_LONGITUDE_DIRECTION = EAST
  REFERENCE_LATITUDE = "N/A"
  REFERENCE_LONGITUDE = "N/A"
  SAMPLE_FIRST_PIXEL = 1
  SAMPLE_LAST_PIXEL = 1662
  SAMPLE_PROJECTION_OFFSET = -5313.0
  SECOND_STANDARD_PARALLEL = "N/A"
  WESTERNMOST_LONGITUDE = 134.264
END_OBJECT = IMAGE_MAP_PROJECTION
END
