PDS_VERSION_ID = PDS3
/* FILE DATA ELEMENTS */
RECORD_TYPE = UNDEFINED
/* POINTERS TO DATA OBJECTS */
^IMAGE = ("HM071_0000_S24.TIF")
/* IDENTIFICATION DATA ELEMENTS */
DATA_SET_ID = "MEX-M-HRSC-4-REFDR-MAPPROJECT-EXT8-V4.0"
DATA_SET_NAME = "MARS EXPRESS HRSC MAP PROJECTED REFDR EXTENSION8 V4.0"
DETECTOR_ID = MEX_HRSC_S2
EVENT_TYPE = "MARS-LOCAL-CARTOGRAPHY-Vo"
INSTRUMENT_HOST_ID = MEX
INSTRUMENT_HOST_NAME = "MARS EXPRESS"
INSTRUMENT_ID = HRSC
INSTRUMENT_NAME = "HIGH RESOLUTION STEREO CAMERA"
MISSION_NAME = "MARS EXPRESS"
MISSION_PHASE_NAME = ME_Phase_44
PROCESSING_LEVEL_ID = 4
PRODUCT_CREATION_TIME = 2023-01-25T08:48:24.000Z
PRODUCT_ID = "HM071_0000_S24.TIF"
RELEASE_ID = 0001
REVISION_ID = 0000
/* QUALITY DATA ELEMENTS */
DATA_QUALITY_ID = 1
DATA_QUALITY_DESC = "Data calculated based on original SPICE kernels"
/* TIME DATA ELEMENTS */
SPACECRAFT_CLOCK_START_COUNT = "1/0572197807.25692"
SPACECRAFT_CLOCK_STOP_COUNT = "1/0572198093.16035"
START_TIME = 2021-06-19T15:52:17.131Z
STOP_TIME = 2021-06-19T15:55:25.017Z
/* ORBITAL DATA ELEMENTS */
ASCENDING_NODE_LONGITUDE = 161.94
MAXIMUM_RESOLUTION = 0.0219
FOOTPRINT_POINT_LATITUDE = (18.4451,18.4709,18.4972,18.5241, 18.5516,18.5799,18.6161,18.618,18.6115, 18.0667,17.512,16.952,16.5754,16.2921, 16.1018,15.7219,15.4337,15.2413,15.0491 ,14.7575,14.5626,14.3685,14.0741, 13.8773,13.681,13.4821,13.2831,13.0846, 12.8839,12.6826,12.4818,12.2792,12.0759 ,11.8731,11.6682,11.463,11.1542,10.9469 ,10.7398,10.5307,10.217,9.90003,9.68845 ,9.47566,9.26297,9.04812,8.83277, 8.72498,8.69802,8.66498,8.64219,8.62022 ,8.5917,8.55199,8.52159,8.49734,8.47948 ,8.47755,8.47694,8.69353,8.90981, 9.12416,9.44413,9.65562,9.97368,10.2893 ,10.5,10.7079,10.9166,11.2264,11.4337, 11.6404,11.947,12.1517,12.3545,12.5566, 12.8596,13.0594,13.2592,13.4596,13.657, 13.8548,14.151,14.3462,14.5418,14.8351, 15.028,15.2213,15.5112,15.7019,15.9869, 16.1791,16.461,16.6515,17.0289,17.4021, 17.7763,18.3288,18.4212,18.4451)
FOOTPRINT_POINT_LONGITUDE = (233.483,233.18,232.872,232.559,232.239 ,231.914,231.497,231.476,231.473,231.46 ,231.451,231.443,231.437,231.432, 231.428,231.42,231.414,231.409,231.405, 231.398,231.394,231.389,231.381,231.376 ,231.37,231.365,231.359,231.354,231.348 ,231.342,231.336,231.329,231.323, 231.316,231.309,231.303,231.292,231.285 ,231.277,231.27,231.258,231.246,231.238 ,231.23,231.221,231.213,231.204,231.2, 231.199,231.551,231.799,232.022,232.314 ,232.769,233.123,233.403,233.611, 233.634,233.646,233.642,233.639,233.636 ,233.631,233.628,233.623,233.618, 233.615,233.612,233.608,233.604,233.6, 233.597,233.592,233.589,233.585,233.582 ,233.578,233.574,233.571,233.568, 233.565,233.562,233.557,233.554,233.55, 233.546,233.543,233.539,233.535,233.531 ,233.527,233.524,233.519,233.515, 233.509,233.502,233.495,233.485,233.483 ,233.483)
ORBIT_NUMBER = 22071
ORBITAL_ECCENTRICITY = 0.573
ORBITAL_INCLINATION = 87.02
ORBITAL_SEMIMAJOR_AXIS = 8811.8
PERIAPSIS_ALTITUDE = 377.38
PERIAPSIS_ARGUMENT_ANGLE = 138.99
PERIAPSIS_TIME = 2021-06-19T15:45:30.000Z
SPACECRAFT_ORIENTATION = (0.0,-1.0,0.0)
^MEX_ORIENTATION_DESC = "MEX_ORIENTATION_DESC.TXT"
SPACECRAFT_POINTING_MODE = ACROSSTRACK
^MEX_POINTING_DESC = "MEX_POINTING_DESC.TXT"
RIGHT_ASCENSION = -1e+32
DECLINATION = -1e+32
OFFSET_ANGLE = -1.886
SPACECRAFT_SOLAR_DISTANCE = 2.48818e+08
TARGET_NAME = MARS
/* CAMERA DATA ELEMENTS */
DETECTOR_TEMPERATURE = 18.9822
FOCAL_PLANE_TEMPERATURE = 7.7677
INST_CMPRS_NAME = "DISCRETE COSINE TRANSFORMATION (DCT)"
INST_CMPRS_RATIO = 7.42537
INST_CMPRS_QUALITY = 0
INST_CMPRS_QUANTZ_TBL_ID = 0
INSTRUMENT_TEMPERATURE = 11.234
LENS_TEMPERATURE = 8.1755
MACROPIXEL_SIZE = 1
MISSING_FRAMES = 0
PIXEL_SUBSAMPLING_FLAG = N
SIGNAL_CHAIN_ID = 1
/* RADIOMETRIC DATA ELEMENTS */
BANDWIDTH = 178.0
CENTER_FILTER_WAVELENGTH = 679.0
RADIANCE_OFFSET = 3.28071
RADIANCE_SCALING_FACTOR = 0.0254054
REFLECTANCE_SCALING_FACTOR = 0.000832948
MEX:REFLECTANCE_OFFSET = 0.107562
/* IMAGE OBJECT DEFINITIONS */
OBJECT = IMAGE
  INTERCHANGE_FORMAT = BINARY
  LINES = 23629
  LINE_SAMPLES = 5160
  SAMPLE_TYPE = UNSIGNED_INTEGER
  SAMPLE_BITS = 8
  BANDS = 1
  BAND_STORAGE_TYPE = BAND_SEQUENTIAL
  MAXIMUM = 255
  MEAN = 120.942
  MINIMUM = 1
  STANDARD_DEVIATION = 18.3656
END_OBJECT = IMAGE
/* MAP OBJECT DEFINITIONS */
OBJECT = IMAGE_MAP_PROJECTION
  ^DATA_SET_MAP_PROJECTION_CATALOG= "DSMAP.CAT"
  A_AXIS_RADIUS = 3396.0
  B_AXIS_RADIUS = 3396.0
  C_AXIS_RADIUS = 3396.0
  CENTER_LATITUDE = 0.0
  CENTER_LONGITUDE = 233.0
  COORDINATE_SYSTEM_NAME = PLANETOGRAPHIC
  COORDINATE_SYSTEM_TYPE = "BODY-FIXED ROTATING"
  EASTERNMOST_LONGITUDE = 233.646
  FIRST_STANDARD_PARALLEL = "N/A"
  LINE_FIRST_PIXEL = 1
  LINE_LAST_PIXEL = 23629
  LINE_PROJECTION_OFFSET = 43957.0
  MAP_PROJECTION_ROTATION = 0.0
  MAP_PROJECTION_TYPE = SINUSOIDAL
  MAP_RESOLUTION = 2370.85521546667
  MAP_SCALE = 0.025
  MAXIMUM_LATITUDE = 18.618
  MINIMUM_LATITUDE = 8.476940000000001
  POSITIVE_LONGITUDE_DIRECTION = EAST
  REFERENCE_LATITUDE = "N/A"
  REFERENCE_LONGITUDE = "N/A"
  SAMPLE_FIRST_PIXEL = 1
  SAMPLE_LAST_PIXEL = 5160
  SAMPLE_PROJECTION_OFFSET = 3878.0
  SECOND_STANDARD_PARALLEL = "N/A"
  WESTERNMOST_LONGITUDE = 231.199
END_OBJECT = IMAGE_MAP_PROJECTION
END
