PDS_VERSION_ID = PDS3
/* FILE DATA ELEMENTS */
RECORD_TYPE = UNDEFINED
/* POINTERS TO DATA OBJECTS */
^IMAGE = ("HM067_0000_BL4.TIF")
/* IDENTIFICATION DATA ELEMENTS */
DATA_SET_ID = "MEX-M-HRSC-4-REFDR-MAPPROJECT-EXT8-V4.0"
DATA_SET_NAME = "MARS EXPRESS HRSC MAP PROJECTED REFDR EXTENSION8 V4.0"
DETECTOR_ID = MEX_HRSC_BLUE
EVENT_TYPE = "MARS-LOCAL-CARTOGRAPHY-Vo-Te-Fl"
INSTRUMENT_HOST_ID = MEX
INSTRUMENT_HOST_NAME = "MARS EXPRESS"
INSTRUMENT_ID = HRSC
INSTRUMENT_NAME = "HIGH RESOLUTION STEREO CAMERA"
MISSION_NAME = "MARS EXPRESS"
MISSION_PHASE_NAME = ME_Phase_44
PROCESSING_LEVEL_ID = 4
PRODUCT_CREATION_TIME = 2023-01-25T08:48:24.000Z
PRODUCT_ID = "HM067_0000_BL4.TIF"
RELEASE_ID = 0001
REVISION_ID = 0000
/* QUALITY DATA ELEMENTS */
DATA_QUALITY_ID = 1
DATA_QUALITY_DESC = "Data calculated based on original SPICE kernels"
/* TIME DATA ELEMENTS */
SPACECRAFT_CLOCK_START_COUNT = "1/0572097019.25686"
SPACECRAFT_CLOCK_STOP_COUNT = "1/0572097378.57665"
START_TIME = 2021-06-18T11:51:35.107Z
STOP_TIME = 2021-06-18T11:56:07.022Z
/* ORBITAL DATA ELEMENTS */
ASCENDING_NODE_LONGITUDE = 162.01
MAXIMUM_RESOLUTION = 0.062 <m/pixel>
FOOTPRINT_POINT_LATITUDE = (33.4958,33.494,33.4905,33.4827,33.4825 ,33.4863,33.0057,32.5256,31.726,31.0876 ,30.4501,29.8137,29.1783,28.5444, 28.2196,27.8952,27.5703,27.2463,26.9227 ,26.5994,26.268,25.9369,25.6062,25.276, 24.9462,24.6089,24.2717,23.9351,23.5986 ,23.258,22.9141,22.5708,22.228,21.7049, 21.3552,21.006,20.4744,20.1187,19.7634, 19.4018,19.0395,18.6781,18.3173,17.9572 ,17.5979,17.2394,16.8815,16.7029, 16.6962,16.6918,16.6874,16.6786,16.6693 ,16.669,16.67,17.0285,17.3877,17.7476, 18.1082,18.4696,18.8316,19.1942,19.7383 ,20.0944,20.4512,20.9845,21.3344, 21.6849,22.2091,22.5527,22.8969,23.2415 ,23.583,23.9203,24.2581,24.5963,24.9348 ,25.2654,25.5954,25.9267,26.2586, 26.5909,26.9152,27.2398,27.5647,27.8899 ,28.2154,28.5418,29.1769,29.8138, 30.4517,31.0907,31.7308,32.0511,32.3717 ,32.6926,33.0136,33.3349,33.4956, 33.4958)
FOOTPRINT_POINT_LONGITUDE = (282.162,281.682,281.188,280.516,280.5, 280.462,280.479,280.494,280.521,280.54, 280.557,280.572,280.587,280.599,280.605 ,280.608,280.616,280.62,280.624,280.628 ,280.631,280.634,280.637,280.64,280.642 ,280.643,280.644,280.643,280.644, 280.645,280.646,280.646,280.646,280.646 ,280.644,280.643,280.64,280.636,280.634 ,280.631,280.628,280.624,280.62,280.616 ,280.611,280.606,280.601,280.598, 280.598,280.954,281.305,281.89,282.428, 282.444,282.45,282.446,282.442,282.437, 282.433,282.429,282.424,282.42,282.413, 282.409,282.404,282.397,282.392,282.387 ,282.38,282.374,282.369,282.364,282.359 ,282.353,282.348,282.342,282.337, 282.331,282.327,282.321,282.315,282.309 ,282.303,282.297,282.29,282.284,282.277 ,282.269,282.257,282.242,282.228, 282.212,282.197,282.189,282.18,282.172, 282.163,282.154,282.15,282.162)
ORBIT_NUMBER = 22067
ORBITAL_ECCENTRICITY = 0.573
ORBITAL_INCLINATION = 87.0
ORBITAL_SEMIMAJOR_AXIS = 8811.93
PERIAPSIS_ALTITUDE = 377.51
PERIAPSIS_ARGUMENT_ANGLE = 139.73
PERIAPSIS_TIME = 2021-06-18T11:49:44.000Z
SPACECRAFT_ORIENTATION = (0.0,-1.0,0.0)
^MEX_ORIENTATION_DESC = "MEX_ORIENTATION_DESC.TXT"
SPACECRAFT_POINTING_MODE = ACROSSTRACK
^MEX_POINTING_DESC = "MEX_POINTING_DESC.TXT"
RIGHT_ASCENSION = -1e+32
DECLINATION = -1e+32
OFFSET_ANGLE = -1.347
SPACECRAFT_SOLAR_DISTANCE = 2.48777e+08
TARGET_NAME = MARS
/* CAMERA DATA ELEMENTS */
DETECTOR_TEMPERATURE = 17.9627 <degC>
FOCAL_PLANE_TEMPERATURE = 7.9716 <degC>
INST_CMPRS_NAME = "DISCRETE COSINE TRANSFORMATION (DCT)"
INST_CMPRS_RATIO = 7.61187
INST_CMPRS_QUALITY = 0
INST_CMPRS_QUANTZ_TBL_ID = 0
INSTRUMENT_TEMPERATURE = 11.234 <degC>
LENS_TEMPERATURE = 8.5833 <degC>
MACROPIXEL_SIZE = 4
MISSING_FRAMES = 0
PIXEL_SUBSAMPLING_FLAG = N
SIGNAL_CHAIN_ID = 2
/* RADIOMETRIC DATA ELEMENTS */
BANDWIDTH = 76.0 <nm>
CENTER_FILTER_WAVELENGTH = 444.0 <nm>
RADIANCE_OFFSET = 0.351612 <W*m**-2*sr**-1>
RADIANCE_SCALING_FACTOR = 0.00239351 <W*m**-2*sr**-1>
REFLECTANCE_SCALING_FACTOR = 0.000152199
MEX:REFLECTANCE_OFFSET = 0.0223583
/* IMAGE OBJECT DEFINITIONS */
OBJECT = IMAGE
  INTERCHANGE_FORMAT = BINARY
  LINES = 19968
  LINE_SAMPLES = 2176
  SAMPLE_TYPE = UNSIGNED_INTEGER
  SAMPLE_BITS = 8
  BANDS = 1
  BAND_STORAGE_TYPE = BAND_SEQUENTIAL
  MAXIMUM = 255
  MEAN = 143.009
  MINIMUM = 1
  STANDARD_DEVIATION = 21.5857
END_OBJECT = IMAGE
/* MAP OBJECT DEFINITIONS */
OBJECT = IMAGE_MAP_PROJECTION
  ^DATA_SET_MAP_PROJECTION_CATALOG= "DSMAP.CAT"
  A_AXIS_RADIUS = 3396.0 <km>
  B_AXIS_RADIUS = 3396.0 <km>
  C_AXIS_RADIUS = 3396.0 <km>
  CENTER_LATITUDE = 0.0
  CENTER_LONGITUDE = 281.0
  COORDINATE_SYSTEM_NAME = PLANETOGRAPHIC
  COORDINATE_SYSTEM_TYPE = "BODY-FIXED ROTATING"
  EASTERNMOST_LONGITUDE = 282.45
  FIRST_STANDARD_PARALLEL = "N/A"
  LINE_FIRST_PIXEL = 1
  LINE_LAST_PIXEL = 19968
  LINE_PROJECTION_OFFSET = 39742.625
  MAP_PROJECTION_ROTATION = 0.0
  MAP_PROJECTION_TYPE = SINUSOIDAL
  MAP_RESOLUTION = 1185.42760773333 <pixel/degree>
  MAP_SCALE = 0.05 <km/pixel>
  MAXIMUM_LATITUDE = 33.4958
  MINIMUM_LATITUDE = 16.669
  POSITIVE_LONGITUDE_DIRECTION = EAST
  REFERENCE_LATITUDE = "N/A"
  REFERENCE_LONGITUDE = "N/A"
  SAMPLE_FIRST_PIXEL = 1
  SAMPLE_LAST_PIXEL = 2176
  SAMPLE_PROJECTION_OFFSET = 539.625
  SECOND_STANDARD_PARALLEL = "N/A"
  WESTERNMOST_LONGITUDE = 280.462
END_OBJECT = IMAGE_MAP_PROJECTION
END
