PDS_VERSION_ID = PDS3
/* FILE DATA ELEMENTS */
RECORD_TYPE = UNDEFINED
/* POINTERS TO DATA OBJECTS */
^IMAGE = ("HM061_0000_GR4.TIF")
/* IDENTIFICATION DATA ELEMENTS */
DATA_SET_ID = "MEX-M-HRSC-4-REFDR-MAPPROJECT-EXT8-V4.0"
DATA_SET_NAME = "MARS EXPRESS HRSC MAP PROJECTED REFDR EXTENSION8 V4.0"
DETECTOR_ID = MEX_HRSC_GREEN
EVENT_TYPE = "MARS-REGIONAL-MAPPING-Vo-Te-Im"
INSTRUMENT_HOST_ID = MEX
INSTRUMENT_HOST_NAME = "MARS EXPRESS"
INSTRUMENT_ID = HRSC
INSTRUMENT_NAME = "HIGH RESOLUTION STEREO CAMERA"
MISSION_NAME = "MARS EXPRESS"
MISSION_PHASE_NAME = ME_Phase_44
PROCESSING_LEVEL_ID = 4
PRODUCT_CREATION_TIME = 2023-01-25T08:48:24.000Z
PRODUCT_ID = "HM061_0000_GR4.TIF"
RELEASE_ID = 0001
REVISION_ID = 0000
/* QUALITY DATA ELEMENTS */
DATA_QUALITY_ID = 1
DATA_QUALITY_DESC = "Data calculated based on original SPICE kernels"
/* TIME DATA ELEMENTS */
SPACECRAFT_CLOCK_START_COUNT = "1/0571946331.25666"
SPACECRAFT_CLOCK_STOP_COUNT = "1/0571946729.04467"
START_TIME = 2021-06-16T17:59:56.966Z
STOP_TIME = 2021-06-16T18:04:39.149Z
/* ORBITAL DATA ELEMENTS */
ASCENDING_NODE_LONGITUDE = 162.11
MAXIMUM_RESOLUTION = 0.0687
FOOTPRINT_POINT_LATITUDE = (22.9288,22.9313,22.9312,22.9296, 22.9296,22.9218,22.0332,21.2767,20.6721 ,20.0554,19.7468,19.4385,19.1255, 18.8105,18.4959,18.1816,17.7006,17.38, 17.06,16.733,16.4066,16.08,15.7488, 15.4162,15.0841,14.7469,14.4085,14.0708 ,13.7266,13.211,12.6868,12.3375,11.9828 ,11.6276,11.0884,10.7277,10.362,9.99572 ,9.6254,9.25358,8.87801,8.50077,8.11885 ,7.54242,7.15435,6.76232,6.16914, 5.96972,5.8603,5.85107,5.84576,5.84016, 5.8313,5.82349,5.82309,5.82436,6.42332, 6.81775,7.40387,7.79157,8.17526,8.74576 ,9.12397,9.49646,9.86954,10.2367, 10.6045,10.9661,11.3281,11.6868,12.0428 ,12.5714,12.922,13.4427,13.7872,14.1308 ,14.4693,14.8085,15.145,15.4777,15.8115 ,16.1416,16.4684,16.7957,17.1215, 17.4424,17.7638,18.2442,18.5592,19.0322 ,19.3479,19.6566,19.9657,20.2752, 20.7367,21.3425,22.0987,22.6921,22.8405 ,22.9288)
FOOTPRINT_POINT_LONGITUDE = (176.311,175.643,175.167,174.732, 174.717,174.695,174.687,174.678,174.671 ,174.663,174.658,174.654,174.649, 174.643,174.638,174.632,174.623,174.618 ,174.612,174.605,174.598,174.59,174.583 ,174.575,174.567,174.559,174.55,174.542 ,174.532,174.518,174.504,174.493, 174.483,174.472,174.455,174.443,174.431 ,174.419,174.406,174.393,174.38,174.366 ,174.352,174.33,174.315,174.299,174.275 ,174.267,174.262,174.857,175.174, 175.491,175.965,176.359,176.379,176.385 ,176.382,176.381,176.378,176.376, 176.375,176.372,176.371,176.369,176.368 ,176.366,176.365,176.364,176.362,176.36 ,176.359,176.358,176.356,176.355, 176.354,176.352,176.351,176.35,176.349, 176.348,176.346,176.346,176.345,176.344 ,176.343,176.342,176.341,176.339, 176.338,176.336,176.335,176.334,176.333 ,176.331,176.33,176.327,176.324,176.321 ,176.321,176.311)
ORBIT_NUMBER = 22061
ORBITAL_ECCENTRICITY = 0.572
ORBITAL_INCLINATION = 87.01
ORBITAL_SEMIMAJOR_AXIS = 8805.54
PERIAPSIS_ALTITUDE = 377.43
PERIAPSIS_ARGUMENT_ANGLE = 140.75
PERIAPSIS_TIME = 2021-06-16T17:55:48.000Z
SPACECRAFT_ORIENTATION = (0.0,-1.0,0.0)
^MEX_ORIENTATION_DESC = "MEX_ORIENTATION_DESC.TXT"
SPACECRAFT_POINTING_MODE = ACROSSTRACK
^MEX_POINTING_DESC = "MEX_POINTING_DESC.TXT"
RIGHT_ASCENSION = -1e+32
DECLINATION = -1e+32
OFFSET_ANGLE = -0.229
SPACECRAFT_SOLAR_DISTANCE = 2.48711e+08
TARGET_NAME = MARS
/* CAMERA DATA ELEMENTS */
DETECTOR_TEMPERATURE = 17.5549
FOCAL_PLANE_TEMPERATURE = 7.7677
INST_CMPRS_NAME = "DISCRETE COSINE TRANSFORMATION (DCT)"
INST_CMPRS_RATIO = 12.5866
INST_CMPRS_QUALITY = 0
INST_CMPRS_QUANTZ_TBL_ID = 0
INSTRUMENT_TEMPERATURE = 11.0301
LENS_TEMPERATURE = 8.1755
MACROPIXEL_SIZE = 4
MISSING_FRAMES = 0
PIXEL_SUBSAMPLING_FLAG = N
SIGNAL_CHAIN_ID = 2
/* RADIOMETRIC DATA ELEMENTS */
BANDWIDTH = 88.0
CENTER_FILTER_WAVELENGTH = 538.0
RADIANCE_OFFSET = 0.960539
RADIANCE_SCALING_FACTOR = 0.00579078
REFLECTANCE_SCALING_FACTOR = 0.000308403
MEX:REFLECTANCE_OFFSET = 0.0511559
/* IMAGE OBJECT DEFINITIONS */
OBJECT = IMAGE
  INTERCHANGE_FORMAT = BINARY
  LINES = 20281
  LINE_SAMPLES = 2554
  SAMPLE_TYPE = UNSIGNED_INTEGER
  SAMPLE_BITS = 8
  BANDS = 1
  BAND_STORAGE_TYPE = BAND_SEQUENTIAL
  MAXIMUM = 255
  MEAN = 116.056
  MINIMUM = 1
  STANDARD_DEVIATION = 14.6843
END_OBJECT = IMAGE
/* MAP OBJECT DEFINITIONS */
OBJECT = IMAGE_MAP_PROJECTION
  ^DATA_SET_MAP_PROJECTION_CATALOG= "DSMAP.CAT"
  A_AXIS_RADIUS = 3396.0
  B_AXIS_RADIUS = 3396.0
  C_AXIS_RADIUS = 3396.0
  CENTER_LATITUDE = 0.0
  CENTER_LONGITUDE = 175.0
  COORDINATE_SYSTEM_NAME = PLANETOGRAPHIC
  COORDINATE_SYSTEM_TYPE = "BODY-FIXED ROTATING"
  EASTERNMOST_LONGITUDE = 176.385
  FIRST_STANDARD_PARALLEL = "N/A"
  LINE_FIRST_PIXEL = 1
  LINE_LAST_PIXEL = 20281
  LINE_PROJECTION_OFFSET = 27185.875
  MAP_PROJECTION_ROTATION = 0.0
  MAP_PROJECTION_TYPE = SINUSOIDAL
  MAP_RESOLUTION = 1185.42760773333
  MAP_SCALE = 0.05
  MAXIMUM_LATITUDE = 22.9313
  MINIMUM_LATITUDE = 5.82309
  POSITIVE_LONGITUDE_DIRECTION = EAST
  REFERENCE_LATITUDE = "N/A"
  REFERENCE_LONGITUDE = "N/A"
  SAMPLE_FIRST_PIXEL = 1
  SAMPLE_LAST_PIXEL = 2554
  SAMPLE_PROJECTION_OFFSET = 901.375
  SECOND_STANDARD_PARALLEL = "N/A"
  WESTERNMOST_LONGITUDE = 174.262
END_OBJECT = IMAGE_MAP_PROJECTION
END
