PDS_VERSION_ID = PDS3
/* FILE DATA ELEMENTS */
RECORD_TYPE = UNDEFINED
/* POINTERS TO DATA OBJECTS */
^IMAGE = ("HM046_0000_ND4.TIF")
/* IDENTIFICATION DATA ELEMENTS */
DATA_SET_ID = "MEX-M-HRSC-4-REFDR-MAPPROJECT-EXT8-V4.0"
DATA_SET_NAME = "MARS EXPRESS HRSC MAP PROJECTED REFDR EXTENSION8 V4.0"
DETECTOR_ID = MEX_HRSC_NADIR
EVENT_TYPE = "MARS-LOCAL-CARTOGRAPHY-Vo-Te"
INSTRUMENT_HOST_ID = MEX
INSTRUMENT_HOST_NAME = "MARS EXPRESS"
INSTRUMENT_ID = HRSC
INSTRUMENT_NAME = "HIGH RESOLUTION STEREO CAMERA"
MISSION_NAME = "MARS EXPRESS"
MISSION_PHASE_NAME = ME_Phase_44
PROCESSING_LEVEL_ID = 4
PRODUCT_CREATION_TIME = 2023-01-25T08:48:24.000Z
PRODUCT_ID = "HM046_0000_ND4.TIF"
RELEASE_ID = 0001
REVISION_ID = 0000
/* QUALITY DATA ELEMENTS */
DATA_QUALITY_ID = 1
DATA_QUALITY_DESC = "Data calculated based on original SPICE kernels"
/* TIME DATA ELEMENTS */
SPACECRAFT_CLOCK_START_COUNT = "1/0571569031.25685"
SPACECRAFT_CLOCK_STOP_COUNT = "1/0571569490.57304"
START_TIME = 2021-06-12T09:11:39.003Z
STOP_TIME = 2021-06-12T09:17:48.998Z
/* ORBITAL DATA ELEMENTS */
ASCENDING_NODE_LONGITUDE = 162.39
MAXIMUM_RESOLUTION = 0.0149
FOOTPRINT_POINT_LATITUDE = (34.4545,34.4486,34.4405,34.4402, 34.4402,33.7648,33.3148,32.8648,32.415, 31.9654,31.516,31.0668,30.6178,30.1691, 29.7207,29.2726,28.8248,28.3773,27.9301 ,27.4834,27.037,26.5913,26.1458,25.2562 ,24.3689,23.4836,22.6006,22.1488, 21.4713,21.0205,20.5613,20.1001,19.6397 ,19.1735,18.703,18.2334,17.5165,17.0375 ,16.3079,15.82,15.324,14.8268,14.0707, 13.5651,13.0608,12.5578,12.0563,11.5561 ,11.3065,11.297,11.286,11.2739,11.2736, 11.2737,11.7741,12.2759,12.779,13.2832, 13.7891,14.2965,14.8004,15.2985,15.7955 ,16.2843,17.0153,17.495,18.2133,18.6837 ,19.1549,19.622,20.0832,20.5451,21.0051 ,21.4566,22.1352,22.5879,23.4722, 24.3589,25.2477,26.1385,26.5846,27.0311 ,27.4781,27.9256,28.3734,28.8215,29.27, 29.7189,30.168,30.6174,31.0671,31.5171, 31.9672,32.4176,32.8682,33.3189,33.7698 ,34.2208,34.4463,34.4545)
FOOTPRINT_POINT_LONGITUDE = (268.36,267.45,266.817,266.802,266.785, 266.799,266.807,266.815,266.822,266.829 ,266.835,266.841,266.846,266.851, 266.855,266.858,266.861,266.864,266.867 ,266.87,266.872,266.87,266.87,266.872, 266.864,266.859,266.852,266.848,266.841 ,266.836,266.83,266.824,266.818,266.811 ,266.803,266.795,266.782,266.773, 266.758,266.748,266.737,266.726,266.707 ,266.695,266.681,266.668,266.654, 266.639,266.632,266.632,267.567,268.397 ,268.414,268.423,268.422,268.421, 268.419,268.41,268.41,268.417,268.416, 268.415,268.415,268.414,268.413,268.412 ,268.411,268.41,268.409,268.408,268.408 ,268.407,268.406,268.405,268.404, 268.403,268.402,268.4,268.398,268.395, 268.394,268.393,268.393,268.392,268.391 ,268.391,268.39,268.388,268.387,268.386 ,268.384,268.382,268.381,268.379, 268.377,268.375,268.373,268.37,268.369, 268.36)
ORBIT_NUMBER = 22046
ORBITAL_ECCENTRICITY = 0.573
ORBITAL_INCLINATION = 87.0
ORBITAL_SEMIMAJOR_AXIS = 8821.86
PERIAPSIS_ALTITUDE = 375.31
PERIAPSIS_ARGUMENT_ANGLE = 143.33
PERIAPSIS_TIME = 2021-06-12T09:11:05.000Z
SPACECRAFT_ORIENTATION = (0.0,-1.0,0.0)
^MEX_ORIENTATION_DESC = "MEX_ORIENTATION_DESC.TXT"
SPACECRAFT_POINTING_MODE = NADIR
^MEX_POINTING_DESC = "MEX_POINTING_DESC.TXT"
RIGHT_ASCENSION = -1e+32
DECLINATION = -1e+32
OFFSET_ANGLE = -1e+32
SPACECRAFT_SOLAR_DISTANCE = 2.48528e+08
TARGET_NAME = MARS
/* CAMERA DATA ELEMENTS */
DETECTOR_TEMPERATURE = 17.9627
FOCAL_PLANE_TEMPERATURE = 7.3599
INST_CMPRS_NAME = "DISCRETE COSINE TRANSFORMATION (DCT)"
INST_CMPRS_RATIO = 6.48262
INST_CMPRS_QUALITY = 0
INST_CMPRS_QUANTZ_TBL_ID = 0
INSTRUMENT_TEMPERATURE = 10.6223
LENS_TEMPERATURE = 7.9716
MACROPIXEL_SIZE = 1
MISSING_FRAMES = 0
PIXEL_SUBSAMPLING_FLAG = N
SIGNAL_CHAIN_ID = 0
/* RADIOMETRIC DATA ELEMENTS */
BANDWIDTH = 177.0
CENTER_FILTER_WAVELENGTH = 677.5
RADIANCE_OFFSET = 2.07206
RADIANCE_SCALING_FACTOR = 0.0280531
REFLECTANCE_SCALING_FACTOR = 0.000920477
MEX:REFLECTANCE_OFFSET = 0.0679883
/* IMAGE OBJECT DEFINITIONS */
OBJECT = IMAGE
  INTERCHANGE_FORMAT = BINARY
  LINES = 109920
  LINE_SAMPLES = 8330
  SAMPLE_TYPE = UNSIGNED_INTEGER
  SAMPLE_BITS = 8
  BANDS = 1
  BAND_STORAGE_TYPE = BAND_SEQUENTIAL
  MAXIMUM = 255
  MEAN = 117.817
  MINIMUM = 1
  STANDARD_DEVIATION = 10.9683
END_OBJECT = IMAGE
/* MAP OBJECT DEFINITIONS */
OBJECT = IMAGE_MAP_PROJECTION
  ^DATA_SET_MAP_PROJECTION_CATALOG= "DSMAP.CAT"
  A_AXIS_RADIUS = 3396.0
  B_AXIS_RADIUS = 3396.0
  C_AXIS_RADIUS = 3396.0
  CENTER_LATITUDE = 0.0
  CENTER_LONGITUDE = 268.0
  COORDINATE_SYSTEM_NAME = PLANETOGRAPHIC
  COORDINATE_SYSTEM_TYPE = "BODY-FIXED ROTATING"
  EASTERNMOST_LONGITUDE = 268.423
  FIRST_STANDARD_PARALLEL = "N/A"
  LINE_FIRST_PIXEL = 1
  LINE_LAST_PIXEL = 109920
  LINE_PROJECTION_OFFSET = 163375.0
  MAP_PROJECTION_ROTATION = 0.0
  MAP_PROJECTION_TYPE = SINUSOIDAL
  MAP_RESOLUTION = 4741.71043093333
  MAP_SCALE = 0.0125
  MAXIMUM_LATITUDE = 34.4545
  MINIMUM_LATITUDE = 11.2736
  POSITIVE_LONGITUDE_DIRECTION = EAST
  REFERENCE_LATITUDE = "N/A"
  REFERENCE_LONGITUDE = "N/A"
  SAMPLE_FIRST_PIXEL = 1
  SAMPLE_LAST_PIXEL = 8330
  SAMPLE_PROJECTION_OFFSET = 6361.0
  SECOND_STANDARD_PARALLEL = "N/A"
  WESTERNMOST_LONGITUDE = 266.632
END_OBJECT = IMAGE_MAP_PROJECTION
END
