PDS_VERSION_ID = PDS3
/* FILE DATA ELEMENTS */
RECORD_TYPE = UNDEFINED
/* POINTERS TO DATA OBJECTS */
^IMAGE = ("HM042_0000_P14.TIF")
/* IDENTIFICATION DATA ELEMENTS */
DATA_SET_ID = "MEX-M-HRSC-4-REFDR-MAPPROJECT-EXT8-V4.0"
DATA_SET_NAME = "MARS EXPRESS HRSC MAP PROJECTED REFDR EXTENSION8 V4.0"
DETECTOR_ID = MEX_HRSC_P1
EVENT_TYPE = "MARS-LOCAL-CARTOGRAPHY-Im-Pf"
INSTRUMENT_HOST_ID = MEX
INSTRUMENT_HOST_NAME = "MARS EXPRESS"
INSTRUMENT_ID = HRSC
INSTRUMENT_NAME = "HIGH RESOLUTION STEREO CAMERA"
MISSION_NAME = "MARS EXPRESS"
MISSION_PHASE_NAME = ME_Phase_44
PROCESSING_LEVEL_ID = 4
PRODUCT_CREATION_TIME = 2023-01-25T08:48:24.000Z
PRODUCT_ID = "HM042_0000_P14.TIF"
RELEASE_ID = 0001
REVISION_ID = 0000
/* QUALITY DATA ELEMENTS */
DATA_QUALITY_ID = 1
DATA_QUALITY_DESC = "Data calculated based on original SPICE kernels"
/* TIME DATA ELEMENTS */
SPACECRAFT_CLOCK_START_COUNT = "1/0571468222.19091"
SPACECRAFT_CLOCK_STOP_COUNT = "1/0571468631.25645"
START_TIME = 2021-06-11T05:11:10.297Z
STOP_TIME = 2021-06-11T05:11:37.241Z
/* ORBITAL DATA ELEMENTS */
ASCENDING_NODE_LONGITUDE = 162.46
MAXIMUM_RESOLUTION = 0.0692
FOOTPRINT_POINT_LATITUDE = (49.4246,49.4216,49.4184,49.4152, 49.4119,49.4086,49.4052,49.4017,49.3981 ,49.3945,49.3907,49.3869,49.3831, 49.3791,49.3751,49.371,49.3668,49.3625, 49.3582,49.3537,49.3492,49.3446,49.3399 ,49.3352,49.3303,49.3254,49.3178, 49.3166,49.2482,49.1513,49.0868,49.006, 48.9413,48.8604,48.7471,48.5852,48.5203 ,48.4716,48.4067,48.358,48.3093,48.2443 ,48.1632,48.0496,47.9704,47.9071, 47.8278,47.7168,47.6376,47.6217,47.6077 ,47.6137,47.6185,47.6244,47.629,47.6334 ,47.6377,47.6421,47.6464,47.6507, 47.6559,47.6599,47.6639,47.6697,47.6745 ,47.6782,47.6817,47.6876,47.6918, 47.6952,47.6984,47.7016,47.7045,47.7075 ,47.7105,47.7112,47.7125,47.7923, 47.8881,47.9678,48.0475,48.1271,48.1914 ,48.2568,48.3384,48.4199,48.5014, 48.5504,48.632,48.6809,48.7623,48.8112, 48.8926,48.9739,49.0878,49.1853,49.2666 ,49.3315,49.3478,49.4246)
FOOTPRINT_POINT_LONGITUDE = (315.811,315.728,315.646,315.563, 315.481,315.398,315.315,315.232,315.149 ,315.066,314.983,314.899,314.816, 314.732,314.649,314.565,314.481,314.397 ,314.313,314.228,314.144,314.059, 313.975,313.89,313.805,313.719,313.592, 313.57,313.489,313.501,313.508,313.518, 313.525,313.535,313.548,313.567,313.574 ,313.579,313.587,313.592,313.597, 313.605,313.614,313.626,313.635,313.642 ,313.65,313.662,313.67,313.672,313.674, 313.776,313.86,313.964,314.048,314.131, 314.214,314.297,314.38,314.462,314.565, 314.648,314.73,314.853,314.956,315.038, 315.119,315.262,315.364,315.445,315.526 ,315.607,315.688,315.769,315.85,315.87, 315.877,315.874,315.871,315.869,315.866 ,315.864,315.862,315.859,315.857, 315.854,315.851,315.85,315.847,315.845, 315.843,315.841,315.838,315.836,315.832 ,315.828,315.825,315.823,315.823, 315.811)
ORBIT_NUMBER = 22042
ORBITAL_ECCENTRICITY = 0.573
ORBITAL_INCLINATION = 87.02
ORBITAL_SEMIMAJOR_AXIS = 8811.9
PERIAPSIS_ALTITUDE = 375.35
PERIAPSIS_ARGUMENT_ANGLE = 144.04
PERIAPSIS_TIME = 2021-06-11T05:15:07.000Z
SPACECRAFT_ORIENTATION = (0.0,-1.0,0.0)
^MEX_ORIENTATION_DESC = "MEX_ORIENTATION_DESC.TXT"
SPACECRAFT_POINTING_MODE = ACROSSTRACK
^MEX_POINTING_DESC = "MEX_POINTING_DESC.TXT"
RIGHT_ASCENSION = -1e+32
DECLINATION = -1e+32
OFFSET_ANGLE = -0.6
SPACECRAFT_SOLAR_DISTANCE = 2.48474e+08
TARGET_NAME = MARS
/* CAMERA DATA ELEMENTS */
DETECTOR_TEMPERATURE = 0.0
FOCAL_PLANE_TEMPERATURE = 0.0
INST_CMPRS_NAME = "DISCRETE COSINE TRANSFORMATION (DCT)"
INST_CMPRS_RATIO = 13.1833
INST_CMPRS_QUALITY = 0
INST_CMPRS_QUANTZ_TBL_ID = 0
INSTRUMENT_TEMPERATURE = 0.0
LENS_TEMPERATURE = 0.0
MACROPIXEL_SIZE = 4
MISSING_FRAMES = 0
PIXEL_SUBSAMPLING_FLAG = N
SIGNAL_CHAIN_ID = 3
/* RADIOMETRIC DATA ELEMENTS */
BANDWIDTH = 174.0
CENTER_FILTER_WAVELENGTH = 675.0
RADIANCE_OFFSET = 2.53103
RADIANCE_SCALING_FACTOR = 0.00649677
REFLECTANCE_SCALING_FACTOR = 0.000215746
MEX:REFLECTANCE_OFFSET = 0.0840512
/* IMAGE OBJECT DEFINITIONS */
OBJECT = IMAGE
  INTERCHANGE_FORMAT = BINARY
  LINES = 305
  LINE_SAMPLES = 1776
  SAMPLE_TYPE = UNSIGNED_INTEGER
  SAMPLE_BITS = 8
  BANDS = 1
  BAND_STORAGE_TYPE = BAND_SEQUENTIAL
  MAXIMUM = 165
  MEAN = 85.7431
  MINIMUM = 40
  STANDARD_DEVIATION = 15.9461
END_OBJECT = IMAGE
/* MAP OBJECT DEFINITIONS */
OBJECT = IMAGE_MAP_PROJECTION
  ^DATA_SET_MAP_PROJECTION_CATALOG= "DSMAP.CAT"
  A_AXIS_RADIUS = 3396.0
  B_AXIS_RADIUS = 3396.0
  C_AXIS_RADIUS = 3396.0
  CENTER_LATITUDE = 0.0
  CENTER_LONGITUDE = 315.0
  COORDINATE_SYSTEM_NAME = PLANETOGRAPHIC
  COORDINATE_SYSTEM_TYPE = "BODY-FIXED ROTATING"
  EASTERNMOST_LONGITUDE = 315.877
  FIRST_STANDARD_PARALLEL = "N/A"
  LINE_FIRST_PIXEL = 1
  LINE_LAST_PIXEL = 305
  LINE_PROJECTION_OFFSET = 58506.125
  MAP_PROJECTION_ROTATION = 0.0
  MAP_PROJECTION_TYPE = SINUSOIDAL
  MAP_RESOLUTION = 1185.42760773333
  MAP_SCALE = 0.05
  MAXIMUM_LATITUDE = 49.4246
  MINIMUM_LATITUDE = 47.6077
  POSITIVE_LONGITUDE_DIRECTION = EAST
  REFERENCE_LATITUDE = "N/A"
  REFERENCE_LONGITUDE = "N/A"
  SAMPLE_FIRST_PIXEL = 1
  SAMPLE_LAST_PIXEL = 1776
  SAMPLE_PROJECTION_OFFSET = 1156.625
  SECOND_STANDARD_PARALLEL = "N/A"
  WESTERNMOST_LONGITUDE = 313.489
END_OBJECT = IMAGE_MAP_PROJECTION
END
