PDS_VERSION_ID = PDS3
/* FILE DATA ELEMENTS */
RECORD_TYPE = UNDEFINED
/* POINTERS TO DATA OBJECTS */
^IMAGE = ("HM038_0000_S14.TIF")
/* IDENTIFICATION DATA ELEMENTS */
DATA_SET_ID = "MEX-M-HRSC-4-REFDR-MAPPROJECT-EXT8-V4.0"
DATA_SET_NAME = "MARS EXPRESS HRSC MAP PROJECTED REFDR EXTENSION8 V4.0"
DETECTOR_ID = MEX_HRSC_S1
EVENT_TYPE = "MARS-REGIONAL-MAPPING-Im-Fl-Eo"
INSTRUMENT_HOST_ID = MEX
INSTRUMENT_HOST_NAME = "MARS EXPRESS"
INSTRUMENT_ID = HRSC
INSTRUMENT_NAME = "HIGH RESOLUTION STEREO CAMERA"
MISSION_NAME = "MARS EXPRESS"
MISSION_PHASE_NAME = ME_Phase_44
PROCESSING_LEVEL_ID = 4
PRODUCT_CREATION_TIME = 2023-01-25T08:48:24.000Z
PRODUCT_ID = "HM038_0000_S14.TIF"
RELEASE_ID = 0001
REVISION_ID = 0000
/* QUALITY DATA ELEMENTS */
DATA_QUALITY_ID = 1
DATA_QUALITY_DESC = "Data calculated based on original SPICE kernels"
/* TIME DATA ELEMENTS */
SPACECRAFT_CLOCK_START_COUNT = "1/0571367937.24865"
SPACECRAFT_CLOCK_STOP_COUNT = "1/0571368227.48762"
START_TIME = 2021-06-10T01:19:31.127Z
STOP_TIME = 2021-06-10T01:22:57.710Z
/* ORBITAL DATA ELEMENTS */
ASCENDING_NODE_LONGITUDE = 162.54
MAXIMUM_RESOLUTION = 0.032
FOOTPRINT_POINT_LATITUDE = (31.7693,31.7994,31.821,31.8395,31.84, 31.7912,31.2618,30.9958,30.7298,30.4643 ,30.1982,29.9315,29.6664,29.399,28.9995 ,28.5995,28.3329,28.0658,27.7989, 27.5328,27.2656,26.9988,26.5997,26.1916 ,25.9239,25.656,25.1276,24.8587,24.5922 ,24.3237,24.0552,23.6522,23.2518, 22.9844,22.7165,22.4486,22.1806,21.9141 ,21.6465,21.3792,21.1103,20.8427,20.574 ,20.1719,19.9039,19.6366,19.3683, 19.0859,18.8111,18.5422,18.4081,18.3986 ,18.3725,18.3394,18.3118,18.3108,18.311 ,18.5855,18.8599,19.1352,19.4086, 19.6761,20.0778,20.3462,20.6138,21.0165 ,21.285,21.687,21.9554,22.2237,22.4916, 22.8937,23.2955,23.6975,23.9655,24.3607 ,24.6352,25.0365,25.3042,25.5723,25.841 ,26.1089,26.3782,26.6445,27.1777, 27.4483,27.8474,28.1144,28.3829,28.6501 ,29.043,29.5743,30.1042,30.3783,30.6499 ,30.9152,31.3128,31.578,31.7105, 31.7693)
FOOTPRINT_POINT_LONGITUDE = (6.45356,5.86771,5.38587,4.91351,4.8989 ,4.90102,4.90285,4.90369,4.90434, 4.90476,4.90509,4.90533,4.90519,4.9052, 4.9047,4.90391,4.90317,4.90236,4.90137, 4.90013,4.89889,4.89744,4.8949,4.89307, 4.89118,4.88916,4.88394,4.88165,4.87898 ,4.8764,4.87368,4.8694,4.86459,4.86129, 4.8579,4.85441,4.85081,4.84697,4.84312, 4.83913,4.83517,4.83099,4.82679,4.82021 ,4.81569,4.81102,4.80622,4.80176, 4.79666,4.79106,4.7882,4.78802,5.30866, 5.88674,6.33696,6.35261,6.35827,6.36083 ,6.36356,6.36571,6.36758,6.3701,6.37382 ,6.37588,6.3786,6.38177,6.38385,6.3877, 6.39,6.39233,6.39503,6.39899,6.40311, 6.40712,6.40982,6.41893,6.41676,6.42129 ,6.42414,6.42672,6.4288,6.43153,6.43304 ,6.43692,6.44405,6.44445,6.45023, 6.45331,6.45513,6.45794,6.46837,6.47612 ,6.48475,6.48145,6.48003,6.48376, 6.48943,6.49294,6.49476,6.45356)
ORBIT_NUMBER = 22038
ORBITAL_ECCENTRICITY = 0.573
ORBITAL_INCLINATION = 87.0
ORBITAL_SEMIMAJOR_AXIS = 8815.72
PERIAPSIS_ALTITUDE = 375.09
PERIAPSIS_ARGUMENT_ANGLE = 144.7
PERIAPSIS_TIME = 2021-06-10T01:19:11.000Z
SPACECRAFT_ORIENTATION = (0.0,-1.0,0.0)
^MEX_ORIENTATION_DESC = "MEX_ORIENTATION_DESC.TXT"
SPACECRAFT_POINTING_MODE = ACROSSTRACK
^MEX_POINTING_DESC = "MEX_POINTING_DESC.TXT"
RIGHT_ASCENSION = -1e+32
DECLINATION = -1e+32
OFFSET_ANGLE = 0.875
SPACECRAFT_SOLAR_DISTANCE = 2.48418e+08
TARGET_NAME = MARS
/* CAMERA DATA ELEMENTS */
DETECTOR_TEMPERATURE = 17.1471
FOCAL_PLANE_TEMPERATURE = 7.7677
INST_CMPRS_NAME = "DISCRETE COSINE TRANSFORMATION (DCT)"
INST_CMPRS_RATIO = 10.0721
INST_CMPRS_QUALITY = 0
INST_CMPRS_QUANTZ_TBL_ID = 0
INSTRUMENT_TEMPERATURE = 11.0301
LENS_TEMPERATURE = 8.3794
MACROPIXEL_SIZE = 2
MISSING_FRAMES = 0
PIXEL_SUBSAMPLING_FLAG = N
SIGNAL_CHAIN_ID = 1
/* RADIOMETRIC DATA ELEMENTS */
BANDWIDTH = 180.0
CENTER_FILTER_WAVELENGTH = 677.0
RADIANCE_OFFSET = 3.07552
RADIANCE_SCALING_FACTOR = 0.0206542
REFLECTANCE_SCALING_FACTOR = 0.000664993
MEX:REFLECTANCE_OFFSET = 0.0990208
/* IMAGE OBJECT DEFINITIONS */
OBJECT = IMAGE
  INTERCHANGE_FORMAT = BINARY
  LINES = 31776
  LINE_SAMPLES = 3792
  SAMPLE_TYPE = UNSIGNED_INTEGER
  SAMPLE_BITS = 8
  BANDS = 1
  BAND_STORAGE_TYPE = BAND_SEQUENTIAL
  MAXIMUM = 255
  MEAN = 116.645
  MINIMUM = 1
  STANDARD_DEVIATION = 18.1025
END_OBJECT = IMAGE
/* MAP OBJECT DEFINITIONS */
OBJECT = IMAGE_MAP_PROJECTION
  ^DATA_SET_MAP_PROJECTION_CATALOG= "DSMAP.CAT"
  A_AXIS_RADIUS = 3396.0
  B_AXIS_RADIUS = 3396.0
  C_AXIS_RADIUS = 3396.0
  CENTER_LATITUDE = 0.0
  CENTER_LONGITUDE = 6.0
  COORDINATE_SYSTEM_NAME = PLANETOGRAPHIC
  COORDINATE_SYSTEM_TYPE = "BODY-FIXED ROTATING"
  EASTERNMOST_LONGITUDE = 6.49476
  FIRST_STANDARD_PARALLEL = "N/A"
  LINE_FIRST_PIXEL = 1
  LINE_LAST_PIXEL = 31776
  LINE_PROJECTION_OFFSET = 75325.25
  MAP_PROJECTION_ROTATION = 0.0
  MAP_PROJECTION_TYPE = SINUSOIDAL
  MAP_RESOLUTION = 2370.85521546667
  MAP_SCALE = 0.025
  MAXIMUM_LATITUDE = 31.84
  MINIMUM_LATITUDE = 18.3108
  POSITIVE_LONGITUDE_DIRECTION = EAST
  REFERENCE_LATITUDE = "N/A"
  REFERENCE_LONGITUDE = "N/A"
  SAMPLE_FIRST_PIXEL = 1
  SAMPLE_LAST_PIXEL = 3792
  SAMPLE_PROJECTION_OFFSET = 2808.75
  SECOND_STANDARD_PARALLEL = "N/A"
  WESTERNMOST_LONGITUDE = 4.78802
END_OBJECT = IMAGE_MAP_PROJECTION
END
