PDS_VERSION_ID = PDS3
/* FILE DATA ELEMENTS */
RECORD_TYPE = UNDEFINED
/* POINTERS TO DATA OBJECTS */
^IMAGE = ("HM033_0000_S24.TIF")
/* IDENTIFICATION DATA ELEMENTS */
DATA_SET_ID = "MEX-M-HRSC-4-REFDR-MAPPROJECT-EXT8-V4.0"
DATA_SET_NAME = "MARS EXPRESS HRSC MAP PROJECTED REFDR EXTENSION8 V4.0"
DETECTOR_ID = MEX_HRSC_S2
EVENT_TYPE = "MARS-REGIONAL-MAPPING-Vo-Te-Im"
INSTRUMENT_HOST_ID = MEX
INSTRUMENT_HOST_NAME = "MARS EXPRESS"
INSTRUMENT_ID = HRSC
INSTRUMENT_NAME = "HIGH RESOLUTION STEREO CAMERA"
MISSION_NAME = "MARS EXPRESS"
MISSION_PHASE_NAME = ME_Phase_44
PROCESSING_LEVEL_ID = 4
PRODUCT_CREATION_TIME = 2023-01-25T08:48:24.000Z
PRODUCT_ID = "HM033_0000_S24.TIF"
RELEASE_ID = 0001
REVISION_ID = 0000
/* QUALITY DATA ELEMENTS */
DATA_QUALITY_ID = 1
DATA_QUALITY_DESC = "Data calculated based on original SPICE kernels"
/* TIME DATA ELEMENTS */
SPACECRAFT_CLOCK_START_COUNT = "1/0571242210.23963"
SPACECRAFT_CLOCK_STOP_COUNT = "1/0571242472.31861"
START_TIME = 2021-06-08T14:25:12.489Z
STOP_TIME = 2021-06-08T14:28:24.242Z
/* ORBITAL DATA ELEMENTS */
ASCENDING_NODE_LONGITUDE = 162.62
MAXIMUM_RESOLUTION = 0.0324
FOOTPRINT_POINT_LATITUDE = (33.2608,33.2572,33.2506,33.2435, 33.2388,33.2386,33.2918,32.9261,32.6826 ,32.3174,31.9529,31.7102,31.4677, 31.2255,30.9838,30.6212,30.3798,30.0177 ,29.777,29.5368,29.2966,28.9367,28.5775 ,28.3382,28.0994,27.7415,27.503,27.2651 ,26.9081,26.5524,26.3153,26.0787, 25.7237,25.4882,25.1349,24.9,24.5479, 24.1961,23.8451,23.4957,23.2624,22.7981 ,22.5608,22.3229,22.0857,21.8488,21.494 ,21.3761,21.3693,21.371,21.373,21.3751, 21.3765,21.3766,21.3771,21.614,21.8509, 22.0883,22.3258,22.5639,23.0342,23.3837 ,23.7338,23.9673,24.3186,24.5531,24.906 ,25.1413,25.4955,25.7315,26.0866, 26.3232,26.5603,26.7977,27.0355,27.2736 ,27.5119,27.8701,28.109,28.4682,28.7076 ,28.9474,29.1878,29.4281,29.6684, 29.9095,30.1507,30.3922,30.6337,30.9972 ,31.2393,31.4817,31.8463,32.0892, 32.3325,32.5761,32.9419,33.1862,33.3083 ,33.2608)
FOOTPRINT_POINT_LONGITUDE = (156.226,155.936,155.451,154.968, 154.682,154.667,154.648,154.653,154.657 ,154.662,154.666,154.669,154.671, 154.674,154.676,154.679,154.681,154.684 ,154.685,154.686,154.688,154.689,154.69 ,154.691,154.691,154.692,154.692, 154.692,154.692,154.691,154.691,154.69, 154.689,154.688,154.686,154.685,154.683 ,154.68,154.678,154.675,154.673,154.668 ,154.666,154.663,154.66,154.658,154.653 ,154.651,154.651,155.115,155.533, 155.907,156.235,156.251,156.257,156.256 ,156.256,156.256,156.256,156.255, 156.255,156.255,156.255,156.254,156.254 ,156.254,156.254,156.254,156.254, 156.254,156.254,156.253,156.253,156.253 ,156.253,156.253,156.253,156.253, 156.253,156.253,156.253,156.253,156.253 ,156.253,156.252,156.252,156.252, 156.252,156.252,156.252,156.252,156.252 ,156.252,156.252,156.252,156.252, 156.252,156.252,156.251,156.226)
ORBIT_NUMBER = 22033
ORBITAL_ECCENTRICITY = 0.573
ORBITAL_INCLINATION = 87.0
ORBITAL_SEMIMAJOR_AXIS = 8816.11
PERIAPSIS_ALTITUDE = 374.94
PERIAPSIS_ARGUMENT_ANGLE = 145.6
PERIAPSIS_TIME = 2021-06-08T14:24:21.000Z
SPACECRAFT_ORIENTATION = (0.0,-1.0,0.0)
^MEX_ORIENTATION_DESC = "MEX_ORIENTATION_DESC.TXT"
SPACECRAFT_POINTING_MODE = ACROSSTRACK
^MEX_POINTING_DESC = "MEX_POINTING_DESC.TXT"
RIGHT_ASCENSION = -1e+32
DECLINATION = -1e+32
OFFSET_ANGLE = 0.2
SPACECRAFT_SOLAR_DISTANCE = 2.48346e+08
TARGET_NAME = MARS
/* CAMERA DATA ELEMENTS */
DETECTOR_TEMPERATURE = 18.5744
FOCAL_PLANE_TEMPERATURE = 7.5638
INST_CMPRS_NAME = "DISCRETE COSINE TRANSFORMATION (DCT)"
INST_CMPRS_RATIO = 8.84195
INST_CMPRS_QUALITY = 0
INST_CMPRS_QUANTZ_TBL_ID = 0
INSTRUMENT_TEMPERATURE = 10.8262
LENS_TEMPERATURE = 8.3794
MACROPIXEL_SIZE = 2
MISSING_FRAMES = 0
PIXEL_SUBSAMPLING_FLAG = N
SIGNAL_CHAIN_ID = 1
/* RADIOMETRIC DATA ELEMENTS */
BANDWIDTH = 178.0
CENTER_FILTER_WAVELENGTH = 679.0
RADIANCE_OFFSET = 2.65394
RADIANCE_SCALING_FACTOR = 0.022524
REFLECTANCE_SCALING_FACTOR = 0.000735679
MEX:REFLECTANCE_OFFSET = 0.0866833
/* IMAGE OBJECT DEFINITIONS */
OBJECT = IMAGE
  INTERCHANGE_FORMAT = BINARY
  LINES = 28322
  LINE_SAMPLES = 3390
  SAMPLE_TYPE = UNSIGNED_INTEGER
  SAMPLE_BITS = 8
  BANDS = 1
  BAND_STORAGE_TYPE = BAND_SEQUENTIAL
  MAXIMUM = 255
  MEAN = 105.374
  MINIMUM = 1
  STANDARD_DEVIATION = 17.8498
END_OBJECT = IMAGE
/* MAP OBJECT DEFINITIONS */
OBJECT = IMAGE_MAP_PROJECTION
  ^DATA_SET_MAP_PROJECTION_CATALOG= "DSMAP.CAT"
  A_AXIS_RADIUS = 3396.0
  B_AXIS_RADIUS = 3396.0
  C_AXIS_RADIUS = 3396.0
  CENTER_LATITUDE = 0.0
  CENTER_LONGITUDE = 155.0
  COORDINATE_SYSTEM_NAME = PLANETOGRAPHIC
  COORDINATE_SYSTEM_TYPE = "BODY-FIXED ROTATING"
  EASTERNMOST_LONGITUDE = 156.257
  FIRST_STANDARD_PARALLEL = "N/A"
  LINE_FIRST_PIXEL = 1
  LINE_LAST_PIXEL = 28322
  LINE_PROJECTION_OFFSET = 78939.75
  MAP_PROJECTION_ROTATION = 0.0
  MAP_PROJECTION_TYPE = SINUSOIDAL
  MAP_RESOLUTION = 2370.85521546667
  MAP_SCALE = 0.025
  MAXIMUM_LATITUDE = 33.3083
  MINIMUM_LATITUDE = 21.3693
  POSITIVE_LONGITUDE_DIRECTION = EAST
  REFERENCE_LATITUDE = "N/A"
  REFERENCE_LONGITUDE = "N/A"
  SAMPLE_FIRST_PIXEL = 1
  SAMPLE_LAST_PIXEL = 3390
  SAMPLE_PROJECTION_OFFSET = 700.25
  SECOND_STANDARD_PARALLEL = "N/A"
  WESTERNMOST_LONGITUDE = 154.648
END_OBJECT = IMAGE_MAP_PROJECTION
END
