PDS_VERSION_ID = PDS3
/* FILE DATA ELEMENTS */
RECORD_TYPE = UNDEFINED
/* POINTERS TO DATA OBJECTS */
^IMAGE = ("HM024_0000_P14.TIF")
/* IDENTIFICATION DATA ELEMENTS */
DATA_SET_ID = "MEX-M-HRSC-4-REFDR-MAPPROJECT-EXT8-V4.0"
DATA_SET_NAME = "MARS EXPRESS HRSC MAP PROJECTED REFDR EXTENSION8 V4.0"
DETECTOR_ID = MEX_HRSC_P1
EVENT_TYPE = "MARS-LOCAL-CARTOGRAPHY-Vo-Im-Pf"
INSTRUMENT_HOST_ID = MEX
INSTRUMENT_HOST_NAME = "MARS EXPRESS"
INSTRUMENT_ID = HRSC
INSTRUMENT_NAME = "HIGH RESOLUTION STEREO CAMERA"
MISSION_NAME = "MARS EXPRESS"
MISSION_PHASE_NAME = ME_Phase_44
PROCESSING_LEVEL_ID = 4
PRODUCT_CREATION_TIME = 2023-01-25T08:48:24.000Z
PRODUCT_ID = "HM024_0000_P14.TIF"
RELEASE_ID = 0001
REVISION_ID = 0000
/* QUALITY DATA ELEMENTS */
DATA_QUALITY_ID = 1
DATA_QUALITY_DESC = "Data calculated based on original SPICE kernels"
/* TIME DATA ELEMENTS */
SPACECRAFT_CLOCK_START_COUNT = "1/0571015462.23986"
SPACECRAFT_CLOCK_STOP_COUNT = "1/0571015883.16752"
START_TIME = 2021-06-05T23:25:18.080Z
STOP_TIME = 2021-06-05T23:30:56.466Z
/* ORBITAL DATA ELEMENTS */
ASCENDING_NODE_LONGITUDE = 162.79
MAXIMUM_RESOLUTION = 0.0327
FOOTPRINT_POINT_LATITUDE = (60.6087,60.5816,60.5535,60.5174, 60.4624,60.4604,60.3733,59.6758,59.2173 ,58.535,57.8609,57.4153,56.9753,56.3182 ,55.8837,55.4544,55.0268,54.6032, 53.9733,53.3481,52.937,52.5252,52.121, 51.7159,51.3015,50.9033,50.5037,50.1118 ,49.7192,49.3267,48.9418,48.5559, 48.1695,47.7912,47.2221,46.8427,46.471, 46.0986,45.7255,45.354,44.989,44.624, 44.253,43.5266,42.8087,41.9002,41.3577, 40.6332,40.4517,40.425,40.4382,40.45, 40.4557,40.4558,40.4563,40.8202,41.1836 ,41.5465,41.909,42.2787,43.0012,43.721, 44.0855,44.4533,45.0081,45.3742,45.7467 ,46.1214,46.4954,46.8688,47.4399, 47.8208,48.2011,48.5888,48.9767,49.3636 ,49.757,50.1517,50.5455,50.9472,51.5607 ,51.968,52.5788,52.9932,53.407,54.0359, 54.456,54.8837,55.5274,55.9606,56.3977, 56.8371,57.2821,57.9545,58.6349,59.3245 ,59.7882,60.2578,60.4931,60.6087)
FOOTPRINT_POINT_LONGITUDE = (354.824,353.741,352.892,352.008, 350.893,350.855,350.784,350.96,351.07, 351.226,351.372,351.464,351.553,351.676 ,351.755,351.83,351.902,351.971,352.07, 352.163,352.222,352.279,352.333,352.385 ,352.437,352.486,352.533,352.578, 352.621,352.663,352.703,352.741,352.779 ,352.815,352.867,352.9,352.931,352.962, 352.992,353.021,353.048,353.076,353.101 ,353.15,353.196,353.25,353.28,353.318, 353.328,353.329,353.878,354.606,355.138 ,355.156,355.162,355.161,355.16,355.159 ,355.158,355.156,355.153,355.15,355.148 ,355.147,355.144,355.142,355.14,355.137 ,355.135,355.132,355.128,355.125, 355.122,355.118,355.115,355.111,355.108 ,355.103,355.099,355.095,355.088, 355.083,355.075,355.069,355.063,355.053 ,355.047,355.039,355.028,355.02,355.011 ,355.002,354.993,354.978,354.962, 354.944,354.931,354.918,354.911, 354.824)
ORBIT_NUMBER = 22024
ORBITAL_ECCENTRICITY = 0.573
ORBITAL_INCLINATION = 87.0
ORBITAL_SEMIMAJOR_AXIS = 8818.22
PERIAPSIS_ALTITUDE = 373.61
PERIAPSIS_ARGUMENT_ANGLE = 147.11
PERIAPSIS_TIME = 2021-06-05T23:33:19.000Z
SPACECRAFT_ORIENTATION = (0.0,-1.0,0.0)
^MEX_ORIENTATION_DESC = "MEX_ORIENTATION_DESC.TXT"
SPACECRAFT_POINTING_MODE = NADIR
^MEX_POINTING_DESC = "MEX_POINTING_DESC.TXT"
RIGHT_ASCENSION = -1e+32
DECLINATION = -1e+32
OFFSET_ANGLE = -1e+32
SPACECRAFT_SOLAR_DISTANCE = 2.48208e+08
TARGET_NAME = MARS
/* CAMERA DATA ELEMENTS */
DETECTOR_TEMPERATURE = 16.9432
FOCAL_PLANE_TEMPERATURE = 7.7677
INST_CMPRS_NAME = "DISCRETE COSINE TRANSFORMATION (DCT)"
INST_CMPRS_RATIO = 8.71158
INST_CMPRS_QUALITY = 0
INST_CMPRS_QUANTZ_TBL_ID = 0
INSTRUMENT_TEMPERATURE = 12.0496
LENS_TEMPERATURE = 7.7677
MACROPIXEL_SIZE = 2
MISSING_FRAMES = 6
PIXEL_SUBSAMPLING_FLAG = N
SIGNAL_CHAIN_ID = 3
/* RADIOMETRIC DATA ELEMENTS */
BANDWIDTH = 174.0
CENTER_FILTER_WAVELENGTH = 675.0
RADIANCE_OFFSET = 2.28875
RADIANCE_SCALING_FACTOR = 0.0116459
REFLECTANCE_SCALING_FACTOR = 0.000385912
MEX:REFLECTANCE_OFFSET = 0.0758428
/* IMAGE OBJECT DEFINITIONS */
OBJECT = IMAGE
  INTERCHANGE_FORMAT = BINARY
  LINES = 47609
  LINE_SAMPLES = 5726
  SAMPLE_TYPE = UNSIGNED_INTEGER
  SAMPLE_BITS = 8
  BANDS = 1
  BAND_STORAGE_TYPE = BAND_SEQUENTIAL
  MAXIMUM = 255
  MEAN = 83.5011
  MINIMUM = 1
  STANDARD_DEVIATION = 22.8731
END_OBJECT = IMAGE
/* MAP OBJECT DEFINITIONS */
OBJECT = IMAGE_MAP_PROJECTION
  ^DATA_SET_MAP_PROJECTION_CATALOG= "DSMAP.CAT"
  A_AXIS_RADIUS = 3396.0
  B_AXIS_RADIUS = 3396.0
  C_AXIS_RADIUS = 3396.0
  CENTER_LATITUDE = 0.0
  CENTER_LONGITUDE = 354.0
  COORDINATE_SYSTEM_NAME = PLANETOGRAPHIC
  COORDINATE_SYSTEM_TYPE = "BODY-FIXED ROTATING"
  EASTERNMOST_LONGITUDE = 355.162
  FIRST_STANDARD_PARALLEL = "N/A"
  LINE_FIRST_PIXEL = 1
  LINE_LAST_PIXEL = 47609
  LINE_PROJECTION_OFFSET = 143501.75
  MAP_PROJECTION_ROTATION = 0.0
  MAP_PROJECTION_TYPE = SINUSOIDAL
  MAP_RESOLUTION = 2370.85521546667
  MAP_SCALE = 0.025
  MAXIMUM_LATITUDE = 60.6087
  MINIMUM_LATITUDE = 40.425
  POSITIVE_LONGITUDE_DIRECTION = EAST
  REFERENCE_LATITUDE = "N/A"
  REFERENCE_LONGITUDE = "N/A"
  SAMPLE_FIRST_PIXEL = 1
  SAMPLE_LAST_PIXEL = 5726
  SAMPLE_PROJECTION_OFFSET = 3660.75
  SECOND_STANDARD_PARALLEL = "N/A"
  WESTERNMOST_LONGITUDE = 350.784
END_OBJECT = IMAGE_MAP_PROJECTION
END
