PDS_VERSION_ID = PDS3
/* FILE DATA ELEMENTS */
RECORD_TYPE = UNDEFINED
/* POINTERS TO DATA OBJECTS */
^IMAGE = ("HM015_0000_S14.TIF")
/* IDENTIFICATION DATA ELEMENTS */
DATA_SET_ID = "MEX-M-HRSC-4-REFDR-MAPPROJECT-EXT8-V4.0"
DATA_SET_NAME = "MARS EXPRESS HRSC MAP PROJECTED REFDR EXTENSION8 V4.0"
DETECTOR_ID = MEX_HRSC_S1
EVENT_TYPE = "MARS-LOCAL-CARTOGRAPHY-Vo-Pf"
INSTRUMENT_HOST_ID = MEX
INSTRUMENT_HOST_NAME = "MARS EXPRESS"
INSTRUMENT_ID = HRSC
INSTRUMENT_NAME = "HIGH RESOLUTION STEREO CAMERA"
MISSION_NAME = "MARS EXPRESS"
MISSION_PHASE_NAME = ME_Phase_44
PROCESSING_LEVEL_ID = 4
PRODUCT_CREATION_TIME = 2023-01-25T08:48:24.000Z
PRODUCT_ID = "HM015_0000_S14.TIF"
RELEASE_ID = 0001
REVISION_ID = 0000
/* QUALITY DATA ELEMENTS */
DATA_QUALITY_ID = 1
DATA_QUALITY_DESC = "Data calculated based on original SPICE kernels"
/* TIME DATA ELEMENTS */
SPACECRAFT_CLOCK_START_COUNT = "1/0570789507.25684"
SPACECRAFT_CLOCK_STOP_COUNT = "1/0570789780.16086"
START_TIME = 2021-06-03T08:39:01.151Z
STOP_TIME = 2021-06-03T08:42:24.230Z
/* ORBITAL DATA ELEMENTS */
ASCENDING_NODE_LONGITUDE = 162.95
MAXIMUM_RESOLUTION = 0.032
FOOTPRINT_POINT_LATITUDE = (41.708,41.7007,41.6879,41.674,41.6735, 41.5913,41.0965,40.6002,39.9781,39.4789 ,38.9784,38.4766,37.9734,37.7215, 37.4692,37.2167,36.9638,36.7106,36.4533 ,36.1995,35.9454,35.6911,35.4365, 35.1817,34.9265,34.6711,34.4155,34.1595 ,33.9034,33.6469,33.3903,33.1333, 32.8762,32.6188,32.3612,32.1033,31.8452 ,31.5869,31.3286,31.0699,30.811,30.5519 ,30.2926,29.9032,29.6436,29.3836, 28.9933,28.8632,28.854,28.861,28.8623, 28.8621,28.862,28.8625,29.1232,29.3838, 29.6442,29.9042,30.2943,30.554,30.8136, 31.0729,31.3321,31.5909,31.8496,32.1082 ,32.3665,32.6246,32.8825,33.1402, 33.3976,33.6548,33.9117,34.1684,34.4249 ,34.6811,34.937,35.1927,35.4481,35.7033 ,35.9581,36.2127,36.467,36.7249,36.9787 ,37.2322,37.4854,37.7383,37.9909, 38.2432,38.4952,38.9984,39.2513,39.503, 40.0008,40.5003,40.9985,41.4952,41.6191 ,41.708)
FOOTPRINT_POINT_LONGITUDE = (194.31,193.652,192.977,192.447,192.429 ,192.394,192.422,192.449,192.481, 192.506,192.529,192.552,192.573,192.583 ,192.593,192.603,192.613,192.622, 192.632,192.64,192.649,192.658,192.666, 192.674,192.682,192.689,192.697,192.704 ,192.711,192.717,192.724,192.73,192.736 ,192.742,192.748,192.754,192.759, 192.764,192.769,192.774,192.778,192.783 ,192.787,192.793,192.797,192.8,192.806, 192.807,192.807,193.494,193.801,194.298 ,194.312,194.318,194.318,194.319,194.32 ,194.321,194.322,194.323,194.324, 194.324,194.325,194.326,194.327,194.327 ,194.328,194.329,194.329,194.33,194.331 ,194.331,194.332,194.333,194.333, 194.334,194.335,194.335,194.336,194.336 ,194.337,194.337,194.338,194.338, 194.339,194.339,194.34,194.34,194.341, 194.341,194.342,194.342,194.342,194.342 ,194.344,194.344,194.344,194.345, 194.345,194.31)
ORBIT_NUMBER = 22015
ORBITAL_ECCENTRICITY = 0.573
ORBITAL_INCLINATION = 87.01
ORBITAL_SEMIMAJOR_AXIS = 8818.09
PERIAPSIS_ALTITUDE = 372.47
PERIAPSIS_ARGUMENT_ANGLE = 148.68
PERIAPSIS_TIME = 2021-06-03T08:42:21.000Z
SPACECRAFT_ORIENTATION = (0.0,-1.0,0.0)
^MEX_ORIENTATION_DESC = "MEX_ORIENTATION_DESC.TXT"
SPACECRAFT_POINTING_MODE = NADIR
^MEX_POINTING_DESC = "MEX_POINTING_DESC.TXT"
RIGHT_ASCENSION = -1e+32
DECLINATION = -1e+32
OFFSET_ANGLE = -1e+32
SPACECRAFT_SOLAR_DISTANCE = 2.4806e+08
TARGET_NAME = MARS
/* CAMERA DATA ELEMENTS */
DETECTOR_TEMPERATURE = 17.351
FOCAL_PLANE_TEMPERATURE = 7.7677
INST_CMPRS_NAME = "DISCRETE COSINE TRANSFORMATION (DCT)"
INST_CMPRS_RATIO = 6.67751
INST_CMPRS_QUALITY = 0
INST_CMPRS_QUANTZ_TBL_ID = 0
INSTRUMENT_TEMPERATURE = 11.0301
LENS_TEMPERATURE = 8.1755
MACROPIXEL_SIZE = 2
MISSING_FRAMES = 1
PIXEL_SUBSAMPLING_FLAG = N
SIGNAL_CHAIN_ID = 1
/* RADIOMETRIC DATA ELEMENTS */
BANDWIDTH = 180.0
CENTER_FILTER_WAVELENGTH = 677.0
RADIANCE_OFFSET = 3.51398
RADIANCE_SCALING_FACTOR = 0.0123868
REFLECTANCE_SCALING_FACTOR = 0.000397663
MEX:REFLECTANCE_OFFSET = 0.112812
/* IMAGE OBJECT DEFINITIONS */
OBJECT = IMAGE
  INTERCHANGE_FORMAT = BINARY
  LINES = 29334
  LINE_SAMPLES = 3747
  SAMPLE_TYPE = UNSIGNED_INTEGER
  SAMPLE_BITS = 8
  BANDS = 1
  BAND_STORAGE_TYPE = BAND_SEQUENTIAL
  MAXIMUM = 255
  MEAN = 142.376
  MINIMUM = 1
  STANDARD_DEVIATION = 16.0225
END_OBJECT = IMAGE
/* MAP OBJECT DEFINITIONS */
OBJECT = IMAGE_MAP_PROJECTION
  ^DATA_SET_MAP_PROJECTION_CATALOG= "DSMAP.CAT"
  A_AXIS_RADIUS = 3396.0
  B_AXIS_RADIUS = 3396.0
  C_AXIS_RADIUS = 3396.0
  CENTER_LATITUDE = 0.0
  CENTER_LONGITUDE = 193.0
  COORDINATE_SYSTEM_NAME = PLANETOGRAPHIC
  COORDINATE_SYSTEM_TYPE = "BODY-FIXED ROTATING"
  EASTERNMOST_LONGITUDE = 194.345
  FIRST_STANDARD_PARALLEL = "N/A"
  LINE_FIRST_PIXEL = 1
  LINE_LAST_PIXEL = 29334
  LINE_PROJECTION_OFFSET = 98764.75
  MAP_PROJECTION_ROTATION = 0.0
  MAP_PROJECTION_TYPE = SINUSOIDAL
  MAP_RESOLUTION = 2370.85521546667
  MAP_SCALE = 0.025
  MAXIMUM_LATITUDE = 41.708
  MINIMUM_LATITUDE = 28.854
  POSITIVE_LONGITUDE_DIRECTION = EAST
  REFERENCE_LATITUDE = "N/A"
  REFERENCE_LONGITUDE = "N/A"
  SAMPLE_FIRST_PIXEL = 1
  SAMPLE_LAST_PIXEL = 3747
  SAMPLE_PROJECTION_OFFSET = 1030.25
  SECOND_STANDARD_PARALLEL = "N/A"
  WESTERNMOST_LONGITUDE = 192.394
END_OBJECT = IMAGE_MAP_PROJECTION
END
