PDS_VERSION_ID = PDS3
/* FILE DATA ELEMENTS */
RECORD_TYPE = UNDEFINED
/* POINTERS TO DATA OBJECTS */
^IMAGE = ("HM015_0000_ND4.TIF")
/* IDENTIFICATION DATA ELEMENTS */
DATA_SET_ID = "MEX-M-HRSC-4-REFDR-MAPPROJECT-EXT8-V4.0"
DATA_SET_NAME = "MARS EXPRESS HRSC MAP PROJECTED REFDR EXTENSION8 V4.0"
DETECTOR_ID = MEX_HRSC_NADIR
EVENT_TYPE = "MARS-LOCAL-CARTOGRAPHY-Vo-Pf"
INSTRUMENT_HOST_ID = MEX
INSTRUMENT_HOST_NAME = "MARS EXPRESS"
INSTRUMENT_ID = HRSC
INSTRUMENT_NAME = "HIGH RESOLUTION STEREO CAMERA"
MISSION_NAME = "MARS EXPRESS"
MISSION_PHASE_NAME = ME_Phase_44
PROCESSING_LEVEL_ID = 4
PRODUCT_CREATION_TIME = 2023-01-25T08:48:24.000Z
PRODUCT_ID = "HM015_0000_ND4.TIF"
RELEASE_ID = 0001
REVISION_ID = 0000
/* QUALITY DATA ELEMENTS */
DATA_QUALITY_ID = 1
DATA_QUALITY_DESC = "Data calculated based on original SPICE kernels"
/* TIME DATA ELEMENTS */
SPACECRAFT_CLOCK_START_COUNT = "1/0570789507.25684"
SPACECRAFT_CLOCK_STOP_COUNT = "1/0570789780.16086"
START_TIME = 2021-06-03T08:39:38.853Z
STOP_TIME = 2021-06-03T08:42:51.675Z
/* ORBITAL DATA ELEMENTS */
ASCENDING_NODE_LONGITUDE = 162.95
MAXIMUM_RESOLUTION = 0.0151
FOOTPRINT_POINT_LATITUDE = (41.6567,41.6502,41.6403,41.6276, 41.6272,41.627,41.1382,40.6488,40.1589, 39.6684,39.1775,38.6861,38.1943,37.7021 ,37.4558,37.2095,36.963,36.7165,36.4699 ,36.2232,35.9765,35.7297,35.4828, 35.2358,34.9888,34.7418,34.4946,34.2475 ,34.0003,33.753,33.5057,33.2584,33.011, 32.7636,32.5162,32.2688,32.0213,31.7739 ,31.5264,31.2789,31.0314,30.6602, 30.4127,30.1652,29.9177,29.6703,29.4229 ,29.2991,29.2855,29.2896,29.2914, 29.2915,29.2915,29.2917,29.5395,29.7873 ,30.0352,30.283,30.5309,30.7788,31.0267 ,31.2745,31.6464,31.8943,32.1421,32.39, 32.6378,32.8857,33.1335,33.3813,33.629, 33.8767,34.1244,34.3721,34.6197,34.8672 ,35.1147,35.3622,35.6096,35.8569, 36.1042,36.3514,36.5986,36.8456,37.0927 ,37.3396,37.5864,37.8332,38.0798, 38.3264,38.5729,38.8193,39.0655,39.5577 ,40.0496,40.5409,41.0317,41.522,41.6445 ,41.6567)
FOOTPRINT_POINT_LONGITUDE = (194.273,193.68,193.07,192.477,192.459, 192.418,192.444,192.47,192.495,192.517, 192.539,192.56,192.58,192.599,192.608, 192.617,192.626,192.634,192.643,192.651 ,192.659,192.667,192.674,192.681, 192.688,192.695,192.702,192.708,192.715 ,192.721,192.727,192.732,192.738, 192.743,192.748,192.753,192.758,192.763 ,192.767,192.771,192.775,192.781, 192.785,192.788,192.792,192.795,192.798 ,192.799,192.799,193.351,193.843, 194.291,194.306,194.313,194.314,194.314 ,194.314,194.314,194.315,194.315, 194.315,194.315,194.316,194.316,194.316 ,194.316,194.316,194.316,194.316, 194.316,194.316,194.316,194.316,194.317 ,194.316,194.316,194.316,194.316, 194.316,194.316,194.316,194.316,194.316 ,194.315,194.315,194.315,194.315, 194.314,194.314,194.314,194.313,194.313 ,194.312,194.31,194.31,194.309,194.307, 194.306,194.305,194.273)
ORBIT_NUMBER = 22015
ORBITAL_ECCENTRICITY = 0.573
ORBITAL_INCLINATION = 87.01
ORBITAL_SEMIMAJOR_AXIS = 8818.09
PERIAPSIS_ALTITUDE = 372.47
PERIAPSIS_ARGUMENT_ANGLE = 148.68
PERIAPSIS_TIME = 2021-06-03T08:42:21.000Z
SPACECRAFT_ORIENTATION = (0.0,-1.0,0.0)
^MEX_ORIENTATION_DESC = "MEX_ORIENTATION_DESC.TXT"
SPACECRAFT_POINTING_MODE = NADIR
^MEX_POINTING_DESC = "MEX_POINTING_DESC.TXT"
RIGHT_ASCENSION = -1e+32
DECLINATION = -1e+32
OFFSET_ANGLE = -1e+32
SPACECRAFT_SOLAR_DISTANCE = 2.4806e+08
TARGET_NAME = MARS
/* CAMERA DATA ELEMENTS */
DETECTOR_TEMPERATURE = 18.1666
FOCAL_PLANE_TEMPERATURE = 7.7677
INST_CMPRS_NAME = "DISCRETE COSINE TRANSFORMATION (DCT)"
INST_CMPRS_RATIO = 5.50108
INST_CMPRS_QUALITY = 0
INST_CMPRS_QUANTZ_TBL_ID = 0
INSTRUMENT_TEMPERATURE = 11.0301
LENS_TEMPERATURE = 8.1755
MACROPIXEL_SIZE = 1
MISSING_FRAMES = 0
PIXEL_SUBSAMPLING_FLAG = N
SIGNAL_CHAIN_ID = 0
/* RADIOMETRIC DATA ELEMENTS */
BANDWIDTH = 177.0
CENTER_FILTER_WAVELENGTH = 677.5
RADIANCE_OFFSET = 2.75478
RADIANCE_SCALING_FACTOR = 0.0122329
REFLECTANCE_SCALING_FACTOR = 0.000399878
MEX:REFLECTANCE_OFFSET = 0.0900504
/* IMAGE OBJECT DEFINITIONS */
OBJECT = IMAGE
  INTERCHANGE_FORMAT = BINARY
  LINES = 58667
  LINE_SAMPLES = 7493
  SAMPLE_TYPE = UNSIGNED_INTEGER
  SAMPLE_BITS = 8
  BANDS = 1
  BAND_STORAGE_TYPE = BAND_SEQUENTIAL
  MAXIMUM = 255
  MEAN = 142.443
  MINIMUM = 1
  STANDARD_DEVIATION = 15.1221
END_OBJECT = IMAGE
/* MAP OBJECT DEFINITIONS */
OBJECT = IMAGE_MAP_PROJECTION
  ^DATA_SET_MAP_PROJECTION_CATALOG= "DSMAP.CAT"
  A_AXIS_RADIUS = 3396.0
  B_AXIS_RADIUS = 3396.0
  C_AXIS_RADIUS = 3396.0
  CENTER_LATITUDE = 0.0
  CENTER_LONGITUDE = 193.0
  COORDINATE_SYSTEM_NAME = PLANETOGRAPHIC
  COORDINATE_SYSTEM_TYPE = "BODY-FIXED ROTATING"
  EASTERNMOST_LONGITUDE = 194.317
  FIRST_STANDARD_PARALLEL = "N/A"
  LINE_FIRST_PIXEL = 1
  LINE_LAST_PIXEL = 58667
  LINE_PROJECTION_OFFSET = 197530.0
  MAP_PROJECTION_ROTATION = 0.0
  MAP_PROJECTION_TYPE = SINUSOIDAL
  MAP_RESOLUTION = 4741.71043093333
  MAP_SCALE = 0.0125
  MAXIMUM_LATITUDE = 41.6567
  MINIMUM_LATITUDE = 29.2855
  POSITIVE_LONGITUDE_DIRECTION = EAST
  REFERENCE_LATITUDE = "N/A"
  REFERENCE_LONGITUDE = "N/A"
  SAMPLE_FIRST_PIXEL = 1
  SAMPLE_LAST_PIXEL = 7493
  SAMPLE_PROJECTION_OFFSET = 2061.0
  SECOND_STANDARD_PARALLEL = "N/A"
  WESTERNMOST_LONGITUDE = 192.418
END_OBJECT = IMAGE_MAP_PROJECTION
END
