PDS_VERSION_ID = PDS3
/* FILE DATA ELEMENTS */
RECORD_TYPE = UNDEFINED
/* POINTERS TO DATA OBJECTS */
^IMAGE = ("HM000_0000_P24.TIF")
/* IDENTIFICATION DATA ELEMENTS */
DATA_SET_ID = "MEX-M-HRSC-4-REFDR-MAPPROJECT-EXT8-V4.0"
DATA_SET_NAME = "MARS EXPRESS HRSC MAP PROJECTED REFDR EXTENSION8 V4.0"
DETECTOR_ID = MEX_HRSC_P2
EVENT_TYPE = "MARS-LOCAL-CARTOGRAPHY-Vo-Fl-La"
INSTRUMENT_HOST_ID = MEX
INSTRUMENT_HOST_NAME = "MARS EXPRESS"
INSTRUMENT_ID = HRSC
INSTRUMENT_NAME = "HIGH RESOLUTION STEREO CAMERA"
MISSION_NAME = "MARS EXPRESS"
MISSION_PHASE_NAME = ME_Phase_44
PROCESSING_LEVEL_ID = 4
PRODUCT_CREATION_TIME = 2023-01-25T08:48:24.000Z
PRODUCT_ID = "HM000_0000_P24.TIF"
RELEASE_ID = 0001
REVISION_ID = 0000
/* QUALITY DATA ELEMENTS */
DATA_QUALITY_ID = 1
DATA_QUALITY_DESC = "Data calculated based on original SPICE kernels"
/* TIME DATA ELEMENTS */
SPACECRAFT_CLOCK_START_COUNT = "1/0570412743.25689"
SPACECRAFT_CLOCK_STOP_COUNT = "1/0570413117.49443"
START_TIME = 2021-05-30T00:00:39.722Z
STOP_TIME = 2021-05-30T00:05:28.390Z
/* ORBITAL DATA ELEMENTS */
ASCENDING_NODE_LONGITUDE = 163.22
MAXIMUM_RESOLUTION = 0.0672
FOOTPRINT_POINT_LATITUDE = (18.6786,18.7125,18.7478,18.7964, 18.7975,18.8076,18.3437,17.7255,17.095, 16.464,15.8354,15.5142,15.1933,14.8728, 14.5527,14.2332,13.9068,13.5807,13.2548 ,12.9297,12.6,12.2682,11.9373,11.607, 11.1034,10.767,10.4311,10.0912,9.57897, 9.238,8.89084,8.54399,8.19805,7.84411, 7.49146,7.13952,6.78402,6.42715,5.88565 ,5.52342,4.97469,4.60809,4.23116, 3.67038,3.10433,2.72327,2.34054,1.95362 ,1.75839,1.75087,1.70404,1.67325,1.6301 ,1.57881,1.5774,1.57819,1.96679,2.54419 ,2.9278,3.30833,3.68604,4.05915,4.43289 ,4.8013,5.35335,5.71712,6.26201,6.62101 ,6.98114,7.33993,7.69145,8.04627,8.3936 ,8.74151,9.08983,9.43155,9.77401, 10.2866,10.6232,10.9602,11.4649,11.796, 12.1279,12.4604,12.7909,13.1167,13.4433 ,13.7704,14.0978,14.4179,14.7387,15.06, 15.3818,15.7039,16.3342,16.9664,17.5986 ,18.5285,18.684,18.6786)
FOOTPRINT_POINT_LONGITUDE = (283.856,283.391,282.903,282.224, 282.208,282.183,282.184,282.188,282.19, 282.192,282.191,282.191,282.19,282.189, 282.188,282.186,282.184,282.182,282.18, 282.177,282.175,282.171,282.168,282.164 ,282.157,282.153,282.148,282.142, 282.133,282.127,282.121,282.114,282.107 ,282.101,282.095,282.086,282.074, 282.066,282.052,282.043,282.027,282.016 ,282.012,281.997,281.979,281.967, 281.955,281.943,281.939,281.939,282.464 ,282.818,283.333,283.975,283.993, 283.999,283.997,283.992,283.989,283.985 ,283.982,283.98,283.977,283.974,283.97, 283.967,283.962,283.959,283.956,283.95, 283.948,283.945,283.942,283.939,283.937 ,283.934,283.932,283.928,283.925, 283.923,283.919,283.916,283.913,283.91, 283.908,283.905,283.902,283.899,283.895 ,283.892,283.889,283.886,283.883, 283.879,283.873,283.865,283.858,283.847 ,283.845,283.856)
ORBIT_NUMBER = 22000
ORBITAL_ECCENTRICITY = 0.574
ORBITAL_INCLINATION = 87.0
ORBITAL_SEMIMAJOR_AXIS = 8830.42
PERIAPSIS_ALTITUDE = 370.63
PERIAPSIS_ARGUMENT_ANGLE = 151.3
PERIAPSIS_TIME = 2021-05-29T23:57:39.000Z
SPACECRAFT_ORIENTATION = (0.0,-1.0,0.0)
^MEX_ORIENTATION_DESC = "MEX_ORIENTATION_DESC.TXT"
SPACECRAFT_POINTING_MODE = ACROSSTRACK
^MEX_POINTING_DESC = "MEX_POINTING_DESC.TXT"
RIGHT_ASCENSION = -1e+32
DECLINATION = -1e+32
OFFSET_ANGLE = -2.2
SPACECRAFT_SOLAR_DISTANCE = 2.47792e+08
TARGET_NAME = MARS
/* CAMERA DATA ELEMENTS */
DETECTOR_TEMPERATURE = 18.3705
FOCAL_PLANE_TEMPERATURE = 7.7677
INST_CMPRS_NAME = "DISCRETE COSINE TRANSFORMATION (DCT)"
INST_CMPRS_RATIO = 6.89988
INST_CMPRS_QUALITY = 0
INST_CMPRS_QUANTZ_TBL_ID = 0
INSTRUMENT_TEMPERATURE = 11.0301
LENS_TEMPERATURE = 7.7677
MACROPIXEL_SIZE = 4
MISSING_FRAMES = 0
PIXEL_SUBSAMPLING_FLAG = N
SIGNAL_CHAIN_ID = 3
/* RADIOMETRIC DATA ELEMENTS */
BANDWIDTH = 177.0
CENTER_FILTER_WAVELENGTH = 676.5
RADIANCE_OFFSET = 2.64697
RADIANCE_SCALING_FACTOR = 0.0176353
REFLECTANCE_SCALING_FACTOR = 0.000574136
MEX:REFLECTANCE_OFFSET = 0.0861749
/* IMAGE OBJECT DEFINITIONS */
OBJECT = IMAGE
  INTERCHANGE_FORMAT = BINARY
  LINES = 20260
  LINE_SAMPLES = 2331
  SAMPLE_TYPE = UNSIGNED_INTEGER
  SAMPLE_BITS = 8
  BANDS = 1
  BAND_STORAGE_TYPE = BAND_SEQUENTIAL
  MAXIMUM = 255
  MEAN = 104.351
  MINIMUM = 1
  STANDARD_DEVIATION = 23.3426
END_OBJECT = IMAGE
/* MAP OBJECT DEFINITIONS */
OBJECT = IMAGE_MAP_PROJECTION
  ^DATA_SET_MAP_PROJECTION_CATALOG= "DSMAP.CAT"
  A_AXIS_RADIUS = 3396.0
  B_AXIS_RADIUS = 3396.0
  C_AXIS_RADIUS = 3396.0
  CENTER_LATITUDE = 0.0
  CENTER_LONGITUDE = 283.0
  COORDINATE_SYSTEM_NAME = PLANETOGRAPHIC
  COORDINATE_SYSTEM_TYPE = "BODY-FIXED ROTATING"
  EASTERNMOST_LONGITUDE = 283.999
  FIRST_STANDARD_PARALLEL = "N/A"
  LINE_FIRST_PIXEL = 1
  LINE_LAST_PIXEL = 20260
  LINE_PROJECTION_OFFSET = 22229.875
  MAP_PROJECTION_ROTATION = 0.0
  MAP_PROJECTION_TYPE = SINUSOIDAL
  MAP_RESOLUTION = 1185.42760773333
  MAP_SCALE = 0.05
  MAXIMUM_LATITUDE = 18.8076
  MINIMUM_LATITUDE = 1.5774
  POSITIVE_LONGITUDE_DIRECTION = EAST
  REFERENCE_LATITUDE = "N/A"
  REFERENCE_LONGITUDE = "N/A"
  SAMPLE_FIRST_PIXEL = 1
  SAMPLE_LAST_PIXEL = 2331
  SAMPLE_PROJECTION_OFFSET = 1190.375
  SECOND_STANDARD_PARALLEL = "N/A"
  WESTERNMOST_LONGITUDE = 281.939
END_OBJECT = IMAGE_MAP_PROJECTION
END
