PDS_VERSION_ID = PDS3
/* FILE DATA ELEMENTS */
RECORD_TYPE = UNDEFINED
/* POINTERS TO DATA OBJECTS */
^IMAGE = ("HL994_0000_ND4.TIF")
/* IDENTIFICATION DATA ELEMENTS */
DATA_SET_ID = "MEX-M-HRSC-4-REFDR-MAPPROJECT-EXT8-V4.0"
DATA_SET_NAME = "MARS EXPRESS HRSC MAP PROJECTED REFDR EXTENSION8 V4.0"
DETECTOR_ID = MEX_HRSC_NADIR
EVENT_TYPE = "MARS-REGIONAL-MAPPING-Vo-Te"
INSTRUMENT_HOST_ID = MEX
INSTRUMENT_HOST_NAME = "MARS EXPRESS"
INSTRUMENT_ID = HRSC
INSTRUMENT_NAME = "HIGH RESOLUTION STEREO CAMERA"
MISSION_NAME = "MARS EXPRESS"
MISSION_PHASE_NAME = ME_Phase_44
PROCESSING_LEVEL_ID = 4
PRODUCT_CREATION_TIME = 2023-01-25T08:48:24.000Z
PRODUCT_ID = "HL994_0000_ND4.TIF"
RELEASE_ID = 0001
REVISION_ID = 0000
/* QUALITY DATA ELEMENTS */
DATA_QUALITY_ID = 1
DATA_QUALITY_DESC = "Data calculated based on original SPICE kernels"
/* TIME DATA ELEMENTS */
SPACECRAFT_CLOCK_START_COUNT = "1/0570261810.23973"
SPACECRAFT_CLOCK_STOP_COUNT = "1/0570262131.05076"
START_TIME = 2021-05-28T06:04:38.301Z
STOP_TIME = 2021-05-28T06:08:38.296Z
/* ORBITAL DATA ELEMENTS */
ASCENDING_NODE_LONGITUDE = 163.33
MAXIMUM_RESOLUTION = 0.0151
FOOTPRINT_POINT_LATITUDE = (24.199,24.205,24.2087,24.2109,24.211, 24.2114,23.7571,23.4542,23.1515,22.8489 ,22.5464,22.2439,21.9416,21.6394, 21.3374,21.0354,20.7336,20.4319,20.1304 ,19.8291,19.5279,19.2268,18.926,18.6253 ,18.3248,18.0245,17.7244,17.1248, 16.5262,15.9283,15.3314,14.7355,14.1407 ,13.6848,13.3802,13.0758,12.7718, 12.4681,12.1593,11.8482,11.5376,11.2273 ,10.9173,10.4428,10.1258,9.80928, 9.49312,9.16986,9.00821,9.00767,8.99827 ,8.99014,8.98491,8.98463,8.98477, 9.47005,9.78644,10.1032,10.4204,10.8953 ,11.2055,11.5161,11.827,12.1382,12.4472 ,12.7511,13.0553,13.3599,13.6647, 14.1209,14.7162,15.3125,15.9098,16.508, 17.1072,17.4071,17.7072,18.0075,18.308, 18.6087,18.9096,19.2106,19.5119,19.8133 ,20.1148,20.4165,20.7184,21.0204, 21.3226,21.6248,21.9272,22.2297,22.5324 ,22.8351,23.138,23.4409,23.7439,24.047, 24.1986,24.199)
FOOTPRINT_POINT_LONGITUDE = (180.251,179.712,179.247,178.796, 178.782,178.789,178.784,178.782,178.778 ,178.775,178.772,178.768,178.765, 178.761,178.757,178.753,178.749,178.745 ,178.741,178.737,178.732,178.727, 178.722,178.717,178.713,178.707,178.702 ,178.691,178.681,178.67,178.658,178.645 ,178.633,178.622,178.615,178.608, 178.602,178.594,178.586,178.577,178.57, 178.563,178.555,178.543,178.535,178.527 ,178.518,178.509,178.505,178.505, 179.225,179.774,180.105,180.121,180.129 ,180.132,180.134,180.136,180.138, 180.141,180.143,180.145,180.147,180.149 ,180.15,180.152,180.154,180.156,180.158 ,180.162,180.168,180.174,180.18,180.189 ,180.197,180.201,180.204,180.208, 180.212,180.215,180.219,180.223,180.227 ,180.231,180.235,180.239,180.244, 180.248,180.252,180.256,180.261,180.266 ,180.27,180.275,180.28,180.285,180.29, 180.295,180.297,180.251)
ORBIT_NUMBER = 21994
ORBITAL_ECCENTRICITY = 0.574
ORBITAL_INCLINATION = 87.01
ORBITAL_SEMIMAJOR_AXIS = 8822.39
PERIAPSIS_ALTITUDE = 370.45
PERIAPSIS_ARGUMENT_ANGLE = 152.32
PERIAPSIS_TIME = 2021-05-28T06:03:45.000Z
SPACECRAFT_ORIENTATION = (0.0,-1.0,0.0)
^MEX_ORIENTATION_DESC = "MEX_ORIENTATION_DESC.TXT"
SPACECRAFT_POINTING_MODE = ACROSSTRACK
^MEX_POINTING_DESC = "MEX_POINTING_DESC.TXT"
RIGHT_ASCENSION = -1e+32
DECLINATION = -1e+32
OFFSET_ANGLE = 1.2
SPACECRAFT_SOLAR_DISTANCE = 2.47678e+08
TARGET_NAME = MARS
/* CAMERA DATA ELEMENTS */
DETECTOR_TEMPERATURE = 18.3705
FOCAL_PLANE_TEMPERATURE = 9.3989
INST_CMPRS_NAME = "DISCRETE COSINE TRANSFORMATION (DCT)"
INST_CMPRS_RATIO = 6.0776
INST_CMPRS_QUALITY = 0
INST_CMPRS_QUANTZ_TBL_ID = 0
INSTRUMENT_TEMPERATURE = 11.234
LENS_TEMPERATURE = 8.5833
MACROPIXEL_SIZE = 1
MISSING_FRAMES = 0
PIXEL_SUBSAMPLING_FLAG = N
SIGNAL_CHAIN_ID = 0
/* RADIOMETRIC DATA ELEMENTS */
BANDWIDTH = 177.0
CENTER_FILTER_WAVELENGTH = 677.5
RADIANCE_OFFSET = 1.79141
RADIANCE_SCALING_FACTOR = 0.0170611
REFLECTANCE_SCALING_FACTOR = 0.000555987
MEX:REFLECTANCE_OFFSET = 0.0583786
/* IMAGE OBJECT DEFINITIONS */
OBJECT = IMAGE
  INTERCHANGE_FORMAT = BINARY
  LINES = 72202
  LINE_SAMPLES = 7929
  SAMPLE_TYPE = UNSIGNED_INTEGER
  SAMPLE_BITS = 8
  BANDS = 1
  BAND_STORAGE_TYPE = BAND_SEQUENTIAL
  MAXIMUM = 255
  MEAN = 114.742
  MINIMUM = 1
  STANDARD_DEVIATION = 22.8591
END_OBJECT = IMAGE
/* MAP OBJECT DEFINITIONS */
OBJECT = IMAGE_MAP_PROJECTION
  ^DATA_SET_MAP_PROJECTION_CATALOG= "DSMAP.CAT"
  A_AXIS_RADIUS = 3396.0
  B_AXIS_RADIUS = 3396.0
  C_AXIS_RADIUS = 3396.0
  CENTER_LATITUDE = 0.0
  CENTER_LONGITUDE = 179.0
  COORDINATE_SYSTEM_NAME = PLANETOGRAPHIC
  COORDINATE_SYSTEM_TYPE = "BODY-FIXED ROTATING"
  EASTERNMOST_LONGITUDE = 180.297
  FIRST_STANDARD_PARALLEL = "N/A"
  LINE_FIRST_PIXEL = 1
  LINE_LAST_PIXEL = 72202
  LINE_PROJECTION_OFFSET = 114804.0
  MAP_PROJECTION_ROTATION = 0.0
  MAP_PROJECTION_TYPE = SINUSOIDAL
  MAP_RESOLUTION = 4741.71043093333
  MAP_SCALE = 0.0125
  MAXIMUM_LATITUDE = 24.2114
  MINIMUM_LATITUDE = 8.984629999999999
  POSITIVE_LONGITUDE_DIRECTION = EAST
  REFERENCE_LATITUDE = "N/A"
  REFERENCE_LONGITUDE = "N/A"
  SAMPLE_FIRST_PIXEL = 1
  SAMPLE_LAST_PIXEL = 7929
  SAMPLE_PROJECTION_OFFSET = 2318.0
  SECOND_STANDARD_PARALLEL = "N/A"
  WESTERNMOST_LONGITUDE = 178.505
END_OBJECT = IMAGE_MAP_PROJECTION
END
