PDS_VERSION_ID = PDS3
/* FILE DATA ELEMENTS */
RECORD_TYPE = UNDEFINED
/* POINTERS TO DATA OBJECTS */
^IMAGE = ("HL987_0000_GR4.TIF")
/* IDENTIFICATION DATA ELEMENTS */
DATA_SET_ID = "MEX-M-HRSC-4-REFDR-MAPPROJECT-EXT8-V4.0"
DATA_SET_NAME = "MARS EXPRESS HRSC MAP PROJECTED REFDR EXTENSION8 V4.0"
DETECTOR_ID = MEX_HRSC_GREEN
EVENT_TYPE = "MARS-REGIONAL-MAPPING-Vo-Te"
INSTRUMENT_HOST_ID = MEX
INSTRUMENT_HOST_NAME = "MARS EXPRESS"
INSTRUMENT_ID = HRSC
INSTRUMENT_NAME = "HIGH RESOLUTION STEREO CAMERA"
MISSION_NAME = "MARS EXPRESS"
MISSION_PHASE_NAME = ME_Phase_44
PROCESSING_LEVEL_ID = 4
PRODUCT_CREATION_TIME = 2023-01-25T08:48:24.000Z
PRODUCT_ID = "HL987_0000_GR4.TIF"
RELEASE_ID = 0001
REVISION_ID = 0000
/* QUALITY DATA ELEMENTS */
DATA_QUALITY_ID = 1
DATA_QUALITY_DESC = "Data calculated based on original SPICE kernels"
/* TIME DATA ELEMENTS */
SPACECRAFT_CLOCK_START_COUNT = "1/0570085813.24916"
SPACECRAFT_CLOCK_STOP_COUNT = "1/0570086140.54927"
START_TIME = 2021-05-26T05:13:31.694Z
STOP_TIME = 2021-05-26T05:15:22.419Z
/* ORBITAL DATA ELEMENTS */
ASCENDING_NODE_LONGITUDE = 163.46
MAXIMUM_RESOLUTION = 0.063
FOOTPRINT_POINT_LATITUDE = (15.9273,15.9262,15.9249,15.9233, 15.9215,15.9193,15.9152,15.915,15.909, 15.7721,15.5671,15.4302,15.2253,15.0885 ,14.9517,14.8152,14.5431,14.27,13.9966, 13.7243,13.4515,13.1112,12.7032,12.4313 ,12.2234,12.0143,11.8748,11.7356, 11.5968,11.3885,11.2487,11.1096,10.9706 ,10.8317,10.6929,10.4798,10.3375, 10.1952,10.053,9.91084,9.76874,9.6267, 9.48475,9.34314,9.2013,8.98393,8.91125, 8.90912,8.90983,8.91048,8.91068,8.91078 ,8.91057,8.91022,8.9102,8.91126,9.05684 ,9.20157,9.34364,9.48579,9.62799, 9.77026,9.91261,10.055,10.1976,10.3401, 10.4826,10.6959,10.835,10.9742,11.1133, 11.2526,11.3919,11.5312,11.6706,11.8101 ,11.9496,12.0892,12.2288,12.4372, 12.7773,12.982,13.3228,13.5953,13.8002, 14.0732,14.2098,14.3464,14.483,14.6198, 14.7565,14.8933,15.0301,15.2355,15.3723 ,15.5095,15.6464,15.8519,15.9207, 15.9273)
FOOTPRINT_POINT_LONGITUDE = (172.468,172.258,172.046,171.831, 171.614,171.393,171.028,171.013,170.983 ,170.982,170.982,170.981,170.981, 170.979,170.977,170.977,170.981,170.977 ,170.972,170.971,170.967,170.963, 170.959,170.955,170.953,170.951,170.948 ,170.947,170.947,170.947,170.941, 170.938,170.936,170.934,170.932,170.929 ,170.927,170.925,170.923,170.92,170.918 ,170.916,170.913,170.912,170.91,170.905 ,170.903,170.903,171.116,171.445, 171.593,171.958,172.231,172.458,172.472 ,172.477,172.476,172.476,172.476, 172.476,172.475,172.475,172.475,172.474 ,172.474,172.474,172.473,172.473, 172.473,172.472,172.472,172.472,172.471 ,172.471,172.471,172.47,172.47,172.47, 172.469,172.469,172.468,172.468,172.467 ,172.466,172.466,172.465,172.465, 172.465,172.464,172.464,172.463,172.463 ,172.462,172.462,172.461,172.461, 172.461,172.46,172.46,172.468)
ORBIT_NUMBER = 21987
ORBITAL_ECCENTRICITY = 0.574
ORBITAL_INCLINATION = 87.01
ORBITAL_SEMIMAJOR_AXIS = 8824.42
PERIAPSIS_ALTITUDE = 369.82
PERIAPSIS_ARGUMENT_ANGLE = 153.53
PERIAPSIS_TIME = 2021-05-26T05:10:53.000Z
SPACECRAFT_ORIENTATION = (0.0,-1.0,0.0)
^MEX_ORIENTATION_DESC = "MEX_ORIENTATION_DESC.TXT"
SPACECRAFT_POINTING_MODE = ACROSSTRACK
^MEX_POINTING_DESC = "MEX_POINTING_DESC.TXT"
RIGHT_ASCENSION = -1e+32
DECLINATION = -1e+32
OFFSET_ANGLE = -1.2
SPACECRAFT_SOLAR_DISTANCE = 2.47538e+08
TARGET_NAME = MARS
/* CAMERA DATA ELEMENTS */
DETECTOR_TEMPERATURE = 18.3705
FOCAL_PLANE_TEMPERATURE = 8.7872
INST_CMPRS_NAME = "DISCRETE COSINE TRANSFORMATION (DCT)"
INST_CMPRS_RATIO = 7.81635
INST_CMPRS_QUALITY = 0
INST_CMPRS_QUANTZ_TBL_ID = 0
INSTRUMENT_TEMPERATURE = 11.234
LENS_TEMPERATURE = 9.6028
MACROPIXEL_SIZE = 4
MISSING_FRAMES = 0
PIXEL_SUBSAMPLING_FLAG = N
SIGNAL_CHAIN_ID = 2
/* RADIOMETRIC DATA ELEMENTS */
BANDWIDTH = 88.0
CENTER_FILTER_WAVELENGTH = 538.0
RADIANCE_OFFSET = 0.724045
RADIANCE_SCALING_FACTOR = 0.00461401
REFLECTANCE_SCALING_FACTOR = 0.000243418
MEX:REFLECTANCE_OFFSET = 0.0381979
/* IMAGE OBJECT DEFINITIONS */
OBJECT = IMAGE
  INTERCHANGE_FORMAT = BINARY
  LINES = 8747
  LINE_SAMPLES = 1866
  SAMPLE_TYPE = UNSIGNED_INTEGER
  SAMPLE_BITS = 8
  BANDS = 1
  BAND_STORAGE_TYPE = BAND_SEQUENTIAL
  MAXIMUM = 255
  MEAN = 106.324
  MINIMUM = 1
  STANDARD_DEVIATION = 24.6979
END_OBJECT = IMAGE
/* MAP OBJECT DEFINITIONS */
OBJECT = IMAGE_MAP_PROJECTION
  ^DATA_SET_MAP_PROJECTION_CATALOG= "DSMAP.CAT"
  A_AXIS_RADIUS = 3396.0
  B_AXIS_RADIUS = 3396.0
  C_AXIS_RADIUS = 3396.0
  CENTER_LATITUDE = 0.0
  CENTER_LONGITUDE = 172.0
  COORDINATE_SYSTEM_NAME = PLANETOGRAPHIC
  COORDINATE_SYSTEM_TYPE = "BODY-FIXED ROTATING"
  EASTERNMOST_LONGITUDE = 172.477
  FIRST_STANDARD_PARALLEL = "N/A"
  LINE_FIRST_PIXEL = 1
  LINE_LAST_PIXEL = 8747
  LINE_PROJECTION_OFFSET = 19312.875
  MAP_PROJECTION_ROTATION = 0.0
  MAP_PROJECTION_TYPE = SINUSOIDAL
  MAP_RESOLUTION = 1185.42760773333
  MAP_SCALE = 0.05
  MAXIMUM_LATITUDE = 15.9273
  MINIMUM_LATITUDE = 8.90912
  POSITIVE_LONGITUDE_DIRECTION = EAST
  REFERENCE_LATITUDE = "N/A"
  REFERENCE_LONGITUDE = "N/A"
  SAMPLE_FIRST_PIXEL = 1
  SAMPLE_LAST_PIXEL = 1866
  SAMPLE_PROJECTION_OFFSET = 1299.875
  SECOND_STANDARD_PARALLEL = "N/A"
  WESTERNMOST_LONGITUDE = 170.903
END_OBJECT = IMAGE_MAP_PROJECTION
END
