PDS_VERSION_ID = PDS3
/* FILE DATA ELEMENTS */
RECORD_TYPE = UNDEFINED
/* POINTERS TO DATA OBJECTS */
^IMAGE = ("HL968_0000_P24.TIF")
/* IDENTIFICATION DATA ELEMENTS */
DATA_SET_ID = "MEX-M-HRSC-4-REFDR-MAPPROJECT-EXT8-V4.0"
DATA_SET_NAME = "MARS EXPRESS HRSC MAP PROJECTED REFDR EXTENSION8 V4.0"
DETECTOR_ID = MEX_HRSC_P2
EVENT_TYPE = "MARS-LOCAL-CARTOGRAPHY-Vo-Im-Pf"
INSTRUMENT_HOST_ID = MEX
INSTRUMENT_HOST_NAME = "MARS EXPRESS"
INSTRUMENT_ID = HRSC
INSTRUMENT_NAME = "HIGH RESOLUTION STEREO CAMERA"
MISSION_NAME = "MARS EXPRESS"
MISSION_PHASE_NAME = ME_Phase_44
PROCESSING_LEVEL_ID = 4
PRODUCT_CREATION_TIME = 2023-01-25T08:48:24.000Z
PRODUCT_ID = "HL968_0000_P24.TIF"
RELEASE_ID = 0001
REVISION_ID = 0000
/* QUALITY DATA ELEMENTS */
DATA_QUALITY_ID = 1
DATA_QUALITY_DESC = "Data calculated based on original SPICE kernels"
/* TIME DATA ELEMENTS */
SPACECRAFT_CLOCK_START_COUNT = "1/0569607714.23939"
SPACECRAFT_CLOCK_STOP_COUNT = "1/0569608145.24442"
START_TIME = 2021-05-20T16:23:56.398Z
STOP_TIME = 2021-05-20T16:29:25.469Z
/* ORBITAL DATA ELEMENTS */
ASCENDING_NODE_LONGITUDE = 163.81
MAXIMUM_RESOLUTION = 0.0621
FOOTPRINT_POINT_LATITUDE = (49.333,49.3106,49.289,49.2637,49.2628, 49.3281,48.6079,48.1308,47.6611,47.1923 ,46.7314,46.0428,45.5907,44.9159, 44.4731,43.8114,43.3778,42.9437,42.5137 ,42.0893,41.6645,41.2419,40.827,40.4117 ,39.7913,39.1831,38.3716,37.559,37.1525 ,36.7458,36.3387,35.9308,35.5243,35.117 ,34.7095,34.302,33.8942,33.2825,32.8747 ,32.4668,31.8547,31.2428,30.8349, 30.2239,29.6116,29.2041,28.5928,28.3892 ,28.1878,28.2091,28.2187,28.219,28.2201 ,28.6279,29.0358,29.4436,29.8516, 30.2597,30.6681,31.0764,31.4847,31.8929 ,32.3015,32.71,33.1182,33.5265,33.9348, 34.3429,34.7512,35.1592,35.5672,35.975, 36.3828,36.7904,37.198,37.6053,38.0124, 38.4191,39.2318,39.841,40.4627,40.8786, 41.2944,41.718,42.1439,42.5694,43.0006, 43.4356,43.8701,44.5342,44.9782,45.6549 ,46.1081,46.799,47.497,47.9677,48.4415, 48.9227,49.1628,49.333)
FOOTPRINT_POINT_LONGITUDE = (315.235,314.183,313.394,312.615,312.59 ,312.57,312.632,312.671,312.708,312.743 ,312.777,312.825,312.855,312.897, 312.924,312.962,312.986,313.009,313.031 ,313.051,313.071,313.09,313.108,313.126 ,313.15,313.173,313.202,313.228,313.24, 313.252,313.263,313.273,313.284,313.293 ,313.303,313.311,313.32,313.331,313.338 ,313.345,313.355,313.363,313.368, 313.375,313.381,313.385,313.39,313.391, 313.393,314.386,314.889,314.903,314.908 ,314.914,314.92,314.926,314.932,314.939 ,314.945,314.952,314.958,314.965, 314.972,314.979,314.985,314.992,314.999 ,315.006,315.013,315.021,315.028, 315.035,315.043,315.05,315.058,315.066, 315.074,315.081,315.096,315.109,315.121 ,315.129,315.138,315.147,315.156, 315.165,315.174,315.183,315.192,315.207 ,315.216,315.231,315.241,315.257, 315.274,315.284,315.295,315.307,315.313 ,315.235)
ORBIT_NUMBER = 21968
ORBITAL_ECCENTRICITY = 0.574
ORBITAL_INCLINATION = 87.01
ORBITAL_SEMIMAJOR_AXIS = 8830.62
PERIAPSIS_ALTITUDE = 367.9
PERIAPSIS_ARGUMENT_ANGLE = 156.83
PERIAPSIS_TIME = 2021-05-20T16:30:21.000Z
SPACECRAFT_ORIENTATION = (0.0,-1.0,0.0)
^MEX_ORIENTATION_DESC = "MEX_ORIENTATION_DESC.TXT"
SPACECRAFT_POINTING_MODE = ACROSSTRACK
^MEX_POINTING_DESC = "MEX_POINTING_DESC.TXT"
RIGHT_ASCENSION = -1e+32
DECLINATION = -1e+32
OFFSET_ANGLE = 0.65
SPACECRAFT_SOLAR_DISTANCE = 2.4713e+08
TARGET_NAME = MARS
/* CAMERA DATA ELEMENTS */
DETECTOR_TEMPERATURE = 19.39
FOCAL_PLANE_TEMPERATURE = 9.195
INST_CMPRS_NAME = "DISCRETE COSINE TRANSFORMATION (DCT)"
INST_CMPRS_RATIO = 5.89174
INST_CMPRS_QUALITY = 0
INST_CMPRS_QUANTZ_TBL_ID = 0
INSTRUMENT_TEMPERATURE = 11.0301
LENS_TEMPERATURE = 9.6028
MACROPIXEL_SIZE = 4
MISSING_FRAMES = 0
PIXEL_SUBSAMPLING_FLAG = N
SIGNAL_CHAIN_ID = 3
/* RADIOMETRIC DATA ELEMENTS */
BANDWIDTH = 177.0
CENTER_FILTER_WAVELENGTH = 676.5
RADIANCE_OFFSET = 1.77712
RADIANCE_SCALING_FACTOR = 0.00945804
REFLECTANCE_SCALING_FACTOR = 0.000306273
MEX:REFLECTANCE_OFFSET = 0.0575471
/* IMAGE OBJECT DEFINITIONS */
OBJECT = IMAGE
  INTERCHANGE_FORMAT = BINARY
  LINES = 25109
  LINE_SAMPLES = 2207
  SAMPLE_TYPE = UNSIGNED_INTEGER
  SAMPLE_BITS = 8
  BANDS = 1
  BAND_STORAGE_TYPE = BAND_SEQUENTIAL
  MAXIMUM = 255
  MEAN = 100.728
  MINIMUM = 1
  STANDARD_DEVIATION = 23.2527
END_OBJECT = IMAGE
/* MAP OBJECT DEFINITIONS */
OBJECT = IMAGE_MAP_PROJECTION
  ^DATA_SET_MAP_PROJECTION_CATALOG= "DSMAP.CAT"
  A_AXIS_RADIUS = 3396.0
  B_AXIS_RADIUS = 3396.0
  C_AXIS_RADIUS = 3396.0
  CENTER_LATITUDE = 0.0
  CENTER_LONGITUDE = 314.0
  COORDINATE_SYSTEM_NAME = PLANETOGRAPHIC
  COORDINATE_SYSTEM_TYPE = "BODY-FIXED ROTATING"
  EASTERNMOST_LONGITUDE = 315.313
  FIRST_STANDARD_PARALLEL = "N/A"
  LINE_FIRST_PIXEL = 1
  LINE_LAST_PIXEL = 25109
  LINE_PROJECTION_OFFSET = 58523.625
  MAP_PROJECTION_ROTATION = 0.0
  MAP_PROJECTION_TYPE = SINUSOIDAL
  MAP_RESOLUTION = 1185.42760773333
  MAP_SCALE = 0.05
  MAXIMUM_LATITUDE = 49.333
  MINIMUM_LATITUDE = 28.1878
  POSITIVE_LONGITUDE_DIRECTION = EAST
  REFERENCE_LATITUDE = "N/A"
  REFERENCE_LONGITUDE = "N/A"
  SAMPLE_FIRST_PIXEL = 1
  SAMPLE_LAST_PIXEL = 2207
  SAMPLE_PROJECTION_OFFSET = 1156.375
  SECOND_STANDARD_PARALLEL = "N/A"
  WESTERNMOST_LONGITUDE = 312.57
END_OBJECT = IMAGE_MAP_PROJECTION
END
