PDS_VERSION_ID = PDS3
/* FILE DATA ELEMENTS */
RECORD_TYPE = UNDEFINED
/* POINTERS TO DATA OBJECTS */
^IMAGE = ("HL964_0000_IR4.TIF")
/* IDENTIFICATION DATA ELEMENTS */
DATA_SET_ID = "MEX-M-HRSC-4-REFDR-MAPPROJECT-EXT8-V4.0"
DATA_SET_NAME = "MARS EXPRESS HRSC MAP PROJECTED REFDR EXTENSION8 V4.0"
DETECTOR_ID = MEX_HRSC_IR
EVENT_TYPE = "MARS-REGIONAL-MAPPING-Im-Fl-Eo"
INSTRUMENT_HOST_ID = MEX
INSTRUMENT_HOST_NAME = "MARS EXPRESS"
INSTRUMENT_ID = HRSC
INSTRUMENT_NAME = "HIGH RESOLUTION STEREO CAMERA"
MISSION_NAME = "MARS EXPRESS"
MISSION_PHASE_NAME = ME_Phase_44
PROCESSING_LEVEL_ID = 4
PRODUCT_CREATION_TIME = 2023-01-25T08:48:24.000Z
PRODUCT_ID = "HL964_0000_IR4.TIF"
RELEASE_ID = 0001
REVISION_ID = 0000
/* QUALITY DATA ELEMENTS */
DATA_QUALITY_ID = 1
DATA_QUALITY_DESC = "Data calculated based on original SPICE kernels"
/* TIME DATA ELEMENTS */
SPACECRAFT_CLOCK_START_COUNT = "1/0569507451.25682"
SPACECRAFT_CLOCK_STOP_COUNT = "1/0569507739.14560"
START_TIME = 2021-05-19T12:31:31.906Z
STOP_TIME = 2021-05-19T12:35:05.375Z
/* ORBITAL DATA ELEMENTS */
ASCENDING_NODE_LONGITUDE = 163.88
MAXIMUM_RESOLUTION = 0.0636
FOOTPRINT_POINT_LATITUDE = (31.4171,31.4936,31.5449,31.5907, 31.5921,31.5515,31.1452,30.8738,30.6025 ,30.3351,29.9399,29.6746,29.1442, 28.8779,28.4793,28.0794,27.8131,27.4118 ,27.1441,26.8757,26.6071,26.3383, 25.9354,25.667,25.2633,24.9943,24.5901, 24.3206,23.9165,23.5102,23.2403,22.9695 ,22.6983,22.4267,22.1557,21.884,21.6122 ,21.3407,21.0685,20.6598,20.3866,20.114 ,19.8414,19.5685,19.1592,18.8859,18.476 ,18.2025,18.0663,17.9706,17.9262, 17.8854,17.8328,17.7977,17.7958,17.7961 ,18.0704,18.3427,18.6082,18.8796, 19.1534,19.5699,19.8424,20.1143,20.523, 20.7956,21.068,21.3395,21.747,22.0184, 22.4246,22.6955,22.9665,23.2372,23.6422 ,23.9125,24.183,24.4534,24.7209,25.1267 ,25.3971,25.9279,26.198,26.4698,26.8733 ,27.1406,27.5408,27.8084,28.0742, 28.3407,28.7396,29.0064,29.5352,29.8022 ,30.3304,30.6003,30.8714,31.1422, 31.2768,31.4171)
FOOTPRINT_POINT_LONGITUDE = (5.34906,4.6065,4.07177,3.56101,3.54541 ,3.57679,3.57635,3.57598,3.57511, 3.57575,3.57237,3.57121,3.56782,3.56658 ,3.56326,3.56042,3.55781,3.55498, 3.55285,3.55102,3.54906,3.54697,3.543, 3.53988,3.53555,3.53224,3.52742,3.52385 ,3.51797,3.51339,3.50923,3.50567, 3.50219,3.49882,3.49467,3.49094,3.48712 ,3.48283,3.47895,3.47308,3.46959, 3.46533,3.46095,3.45666,3.44987,3.4455, 3.43861,3.434,3.43117,3.42934,3.85031, 4.20723,4.66766,4.96202,4.97782,4.98311 ,4.98837,4.99656,5.0151,5.02457,5.03016 ,5.0294,5.03685,5.04505,5.05579,5.06251 ,5.06948,5.07763,5.08928,5.09718, 5.11009,5.11849,5.12639,5.13462,5.14803 ,5.15639,5.16416,5.17184,5.18382, 5.19411,5.2009,5.22971,5.23611,5.23955, 5.25071,5.26063,5.27605,5.28462,5.29573 ,5.30544,5.32067,5.329,5.35238,5.3593, 5.38132,5.39206,5.40248,5.41304,5.41954 ,5.34906)
ORBIT_NUMBER = 21964
ORBITAL_ECCENTRICITY = 0.574
ORBITAL_INCLINATION = 86.99
ORBITAL_SEMIMAJOR_AXIS = 8833.77
PERIAPSIS_ALTITUDE = 367.65
PERIAPSIS_ARGUMENT_ANGLE = 157.49
PERIAPSIS_TIME = 2021-05-19T12:34:24.000Z
SPACECRAFT_ORIENTATION = (0.0,-1.0,0.0)
^MEX_ORIENTATION_DESC = "MEX_ORIENTATION_DESC.TXT"
SPACECRAFT_POINTING_MODE = ACROSSTRACK
^MEX_POINTING_DESC = "MEX_POINTING_DESC.TXT"
RIGHT_ASCENSION = -1e+32
DECLINATION = -1e+32
OFFSET_ANGLE = 2.15
SPACECRAFT_SOLAR_DISTANCE = 2.47039e+08
TARGET_NAME = MARS
/* CAMERA DATA ELEMENTS */
DETECTOR_TEMPERATURE = 17.9627
FOCAL_PLANE_TEMPERATURE = 8.9911
INST_CMPRS_NAME = "DISCRETE COSINE TRANSFORMATION (DCT)"
INST_CMPRS_RATIO = 6.24698
INST_CMPRS_QUALITY = 0
INST_CMPRS_QUANTZ_TBL_ID = 0
INSTRUMENT_TEMPERATURE = 11.6418
LENS_TEMPERATURE = 9.3989
MACROPIXEL_SIZE = 4
MISSING_FRAMES = 0
PIXEL_SUBSAMPLING_FLAG = N
SIGNAL_CHAIN_ID = 2
/* RADIOMETRIC DATA ELEMENTS */
BANDWIDTH = 81.0
CENTER_FILTER_WAVELENGTH = 955.5
RADIANCE_OFFSET = 0.602324
RADIANCE_SCALING_FACTOR = 0.00303693
REFLECTANCE_SCALING_FACTOR = 0.000399846
MEX:REFLECTANCE_OFFSET = 0.0793029
/* IMAGE OBJECT DEFINITIONS */
OBJECT = IMAGE
  INTERCHANGE_FORMAT = BINARY
  LINES = 16113
  LINE_SAMPLES = 2074
  SAMPLE_TYPE = UNSIGNED_INTEGER
  SAMPLE_BITS = 8
  BANDS = 1
  BAND_STORAGE_TYPE = BAND_SEQUENTIAL
  MAXIMUM = 255
  MEAN = 92.9496
  MINIMUM = 1
  STANDARD_DEVIATION = 15.569
END_OBJECT = IMAGE
/* MAP OBJECT DEFINITIONS */
OBJECT = IMAGE_MAP_PROJECTION
  ^DATA_SET_MAP_PROJECTION_CATALOG= "DSMAP.CAT"
  A_AXIS_RADIUS = 3396.0
  B_AXIS_RADIUS = 3396.0
  C_AXIS_RADIUS = 3396.0
  CENTER_LATITUDE = 0.0
  CENTER_LONGITUDE = 4.0
  COORDINATE_SYSTEM_NAME = PLANETOGRAPHIC
  COORDINATE_SYSTEM_TYPE = "BODY-FIXED ROTATING"
  EASTERNMOST_LONGITUDE = 5.41954
  FIRST_STANDARD_PARALLEL = "N/A"
  LINE_FIRST_PIXEL = 1
  LINE_LAST_PIXEL = 16113
  LINE_PROJECTION_OFFSET = 37334.375
  MAP_PROJECTION_ROTATION = 0.0
  MAP_PROJECTION_TYPE = SINUSOIDAL
  MAP_RESOLUTION = 1185.42760773333
  MAP_SCALE = 0.05
  MAXIMUM_LATITUDE = 31.5921
  MINIMUM_LATITUDE = 17.7958
  POSITIVE_LONGITUDE_DIRECTION = EAST
  REFERENCE_LATITUDE = "N/A"
  REFERENCE_LONGITUDE = "N/A"
  SAMPLE_FIRST_PIXEL = 1
  SAMPLE_LAST_PIXEL = 2074
  SAMPLE_PROJECTION_OFFSET = 665.125
  SECOND_STANDARD_PARALLEL = "N/A"
  WESTERNMOST_LONGITUDE = 3.42934
END_OBJECT = IMAGE_MAP_PROJECTION
END
