PDS_VERSION_ID = PDS3
/* FILE DATA ELEMENTS */
RECORD_TYPE = UNDEFINED
/* POINTERS TO DATA OBJECTS */
^IMAGE = ("HL943_0009_P24.TIF")
/* IDENTIFICATION DATA ELEMENTS */
DATA_SET_ID = "MEX-M-HRSC-4-REFDR-MAPPROJECT-EXT8-V4.0"
DATA_SET_NAME = "MARS EXPRESS HRSC MAP PROJECTED REFDR EXTENSION8 V4.0"
DETECTOR_ID = MEX_HRSC_P2
EVENT_TYPE = "MARS-REGIONAL-MAPPING-Im-Fl-La"
INSTRUMENT_HOST_ID = MEX
INSTRUMENT_HOST_NAME = "MARS EXPRESS"
INSTRUMENT_ID = HRSC
INSTRUMENT_NAME = "HIGH RESOLUTION STEREO CAMERA"
MISSION_NAME = "MARS EXPRESS"
MISSION_PHASE_NAME = ME_Phase_44
PROCESSING_LEVEL_ID = 4
PRODUCT_CREATION_TIME = 2023-01-25T08:48:24.000Z
PRODUCT_ID = "HL943_0009_P24.TIF"
RELEASE_ID = 0001
REVISION_ID = 0000
/* QUALITY DATA ELEMENTS */
DATA_QUALITY_ID = 1
DATA_QUALITY_DESC = "Data calculated based on original SPICE kernels"
/* TIME DATA ELEMENTS */
SPACECRAFT_CLOCK_START_COUNT = "1/0568979402.23924"
SPACECRAFT_CLOCK_STOP_COUNT = "1/0568979623.22656"
START_TIME = 2021-05-13T09:51:42.286Z
STOP_TIME = 2021-05-13T09:54:03.543Z
/* ORBITAL DATA ELEMENTS */
ASCENDING_NODE_LONGITUDE = 164.27
MAXIMUM_RESOLUTION = 0.0309
FOOTPRINT_POINT_LATITUDE = (34.5452,34.5443,34.5425,34.5408, 34.5381,34.5332,34.533,34.5779,34.3057, 34.1243,33.6708,33.3079,33.1261,32.9442 ,32.7615,32.578,32.3058,32.1243,31.8524 ,31.5789,31.3964,31.2142,31.0325, 30.7606,30.3965,30.2135,30.0307,29.8486 ,29.6662,29.4837,29.3016,29.1191, 28.9366,28.754,28.5719,28.3892,28.1152, 27.8429,27.6595,27.477,27.2947,27.0211, 26.8389,26.6566,26.3828,26.2002,25.9296 ,25.7464,25.5614,25.4703,25.4223, 25.4232,25.4237,25.4241,25.4238,25.4233 ,25.4232,25.4238,25.6062,25.7886,25.971 ,26.1529,26.3354,26.6122,26.8854, 27.2487,27.4312,27.7047,27.9788,28.1622 ,28.3451,28.5276,28.7105,28.8932, 29.2569,29.5311,29.7141,29.8967,30.079, 30.2617,30.4451,30.6276,30.9899,31.1723 ,31.4494,31.8101,31.9931,32.267,32.4496 ,32.6314,32.813,32.9956,33.2686,33.4505 ,33.7237,33.9965,34.1784,34.4512, 34.5418,34.5452)
FOOTPRINT_POINT_LONGITUDE = (347.404,347.153,346.786,346.535, 346.185,345.7,345.683,345.652,345.662, 345.669,345.684,345.696,345.701,345.707 ,345.713,345.72,345.728,345.733,345.74, 345.747,345.753,345.757,345.762,345.768 ,345.777,345.781,345.786,345.79,345.794 ,345.798,345.802,345.806,345.81,345.813 ,345.817,345.82,345.825,345.83,345.833, 345.836,345.839,345.844,345.846,345.849 ,345.853,345.855,345.858,345.86,345.864 ,345.865,345.865,346.105,346.387, 346.599,346.909,347.305,347.319,347.324 ,347.326,347.328,347.33,347.332,347.333 ,347.338,347.34,347.344,347.345,347.348 ,347.351,347.354,347.356,347.358,347.36 ,347.362,347.366,347.369,347.371, 347.373,347.375,347.378,347.38,347.382, 347.385,347.387,347.392,347.395,347.397 ,347.401,347.403,347.405,347.407, 347.409,347.413,347.415,347.418,347.421 ,347.424,347.427,347.428,347.404)
ORBIT_NUMBER = 21943
ORBITAL_ECCENTRICITY = 0.575
ORBITAL_INCLINATION = 87.0
ORBITAL_SEMIMAJOR_AXIS = 8835.59
PERIAPSIS_ALTITUDE = 365.36
PERIAPSIS_ARGUMENT_ANGLE = 161.1
PERIAPSIS_TIME = 2021-05-13T09:55:23.000Z
SPACECRAFT_ORIENTATION = (0.0,-1.0,0.0)
^MEX_ORIENTATION_DESC = "MEX_ORIENTATION_DESC.TXT"
SPACECRAFT_POINTING_MODE = NADIR
^MEX_POINTING_DESC = "MEX_POINTING_DESC.TXT"
RIGHT_ASCENSION = -1e+32
DECLINATION = -1e+32
OFFSET_ANGLE = -1e+32
SPACECRAFT_SOLAR_DISTANCE = 2.46529e+08
TARGET_NAME = MARS
/* CAMERA DATA ELEMENTS */
DETECTOR_TEMPERATURE = 18.7783
FOCAL_PLANE_TEMPERATURE = 8.9911
INST_CMPRS_NAME = "DISCRETE COSINE TRANSFORMATION (DCT)"
INST_CMPRS_RATIO = 6.1176
INST_CMPRS_QUALITY = 0
INST_CMPRS_QUANTZ_TBL_ID = 0
INSTRUMENT_TEMPERATURE = 11.8457
LENS_TEMPERATURE = 9.3989
MACROPIXEL_SIZE = 2
MISSING_FRAMES = 0
PIXEL_SUBSAMPLING_FLAG = N
SIGNAL_CHAIN_ID = 3
/* RADIOMETRIC DATA ELEMENTS */
BANDWIDTH = 177.0
CENTER_FILTER_WAVELENGTH = 676.5
RADIANCE_OFFSET = 1.60288
RADIANCE_SCALING_FACTOR = 0.0124792
REFLECTANCE_SCALING_FACTOR = 0.000402142
MEX:REFLECTANCE_OFFSET = 0.0516529
/* IMAGE OBJECT DEFINITIONS */
OBJECT = IMAGE
  INTERCHANGE_FORMAT = BINARY
  LINES = 21698
  LINE_SAMPLES = 3536
  SAMPLE_TYPE = UNSIGNED_INTEGER
  SAMPLE_BITS = 8
  BANDS = 1
  BAND_STORAGE_TYPE = BAND_SEQUENTIAL
  MAXIMUM = 255
  MEAN = 85.0263
  MINIMUM = 1
  STANDARD_DEVIATION = 32.6338
END_OBJECT = IMAGE
/* MAP OBJECT DEFINITIONS */
OBJECT = IMAGE_MAP_PROJECTION
  ^DATA_SET_MAP_PROJECTION_CATALOG= "DSMAP.CAT"
  A_AXIS_RADIUS = 3396.0
  B_AXIS_RADIUS = 3396.0
  C_AXIS_RADIUS = 3396.0
  CENTER_LATITUDE = 0.0
  CENTER_LONGITUDE = 347.0
  COORDINATE_SYSTEM_NAME = PLANETOGRAPHIC
  COORDINATE_SYSTEM_TYPE = "BODY-FIXED ROTATING"
  EASTERNMOST_LONGITUDE = 347.428
  FIRST_STANDARD_PARALLEL = "N/A"
  LINE_FIRST_PIXEL = 1
  LINE_LAST_PIXEL = 21698
  LINE_PROJECTION_OFFSET = 81965.25
  MAP_PROJECTION_ROTATION = 0.0
  MAP_PROJECTION_TYPE = SINUSOIDAL
  MAP_RESOLUTION = 2370.85521546667
  MAP_SCALE = 0.025
  MAXIMUM_LATITUDE = 34.5779
  MINIMUM_LATITUDE = 25.4223
  POSITIVE_LONGITUDE_DIRECTION = EAST
  REFERENCE_LATITUDE = "N/A"
  REFERENCE_LONGITUDE = "N/A"
  SAMPLE_FIRST_PIXEL = 1
  SAMPLE_LAST_PIXEL = 3536
  SAMPLE_PROJECTION_OFFSET = 2664.75
  SECOND_STANDARD_PARALLEL = "N/A"
  WESTERNMOST_LONGITUDE = 345.652
END_OBJECT = IMAGE_MAP_PROJECTION
END
