PDS_VERSION_ID = PDS3
/* FILE DATA ELEMENTS */
RECORD_TYPE = UNDEFINED
/* POINTERS TO DATA OBJECTS */
^IMAGE = ("HL938_0000_S24.TIF")
/* IDENTIFICATION DATA ELEMENTS */
DATA_SET_ID = "MEX-M-HRSC-4-REFDR-MAPPROJECT-EXT8-V4.0"
DATA_SET_NAME = "MARS EXPRESS HRSC MAP PROJECTED REFDR EXTENSION8 V4.0"
DETECTOR_ID = MEX_HRSC_S2
EVENT_TYPE = "MARS-REGIONAL-MAPPING-Vo-Im-Mw"
INSTRUMENT_HOST_ID = MEX
INSTRUMENT_HOST_NAME = "MARS EXPRESS"
INSTRUMENT_ID = HRSC
INSTRUMENT_NAME = "HIGH RESOLUTION STEREO CAMERA"
MISSION_NAME = "MARS EXPRESS"
MISSION_PHASE_NAME = ME_Phase_44
PROCESSING_LEVEL_ID = 4
PRODUCT_CREATION_TIME = 2023-01-25T08:48:24.000Z
PRODUCT_ID = "HL938_0000_S24.TIF"
RELEASE_ID = 0001
REVISION_ID = 0000
/* QUALITY DATA ELEMENTS */
DATA_QUALITY_ID = 1
DATA_QUALITY_DESC = "Data calculated based on original SPICE kernels"
/* TIME DATA ELEMENTS */
SPACECRAFT_CLOCK_START_COUNT = "1/0568853951.25687"
SPACECRAFT_CLOCK_STOP_COUNT = "1/0568854254.30631"
START_TIME = 2021-05-11T23:00:52.316Z
STOP_TIME = 2021-05-11T23:04:46.159Z
/* ORBITAL DATA ELEMENTS */
ASCENDING_NODE_LONGITUDE = 164.35
MAXIMUM_RESOLUTION = 0.0314
FOOTPRINT_POINT_LATITUDE = (18.5075,18.5329,18.559,18.5913,18.5922 ,18.6222,18.2385,17.7269,17.2158, 16.8329,16.3827,16.0797,15.7762,15.473, 15.0183,14.566,14.2645,13.9634,13.6622, 13.3621,13.0621,12.7629,12.4639,12.1648 ,11.8662,11.5682,11.2701,10.9728, 10.6759,10.3792,10.083,9.78743,9.34436, 9.04969,8.75571,8.46232,8.02452,7.73033 ,7.4389,7.00199,6.71117,6.2759,5.98651, 5.69138,5.39496,5.09904,4.80434,4.36105 ,4.21029,4.06072,4.02892,4.00844, 3.97621,3.95759,3.95668,3.95685,4.40753 ,4.70238,4.99805,5.29423,5.59075, 6.03128,6.32075,6.61113,6.90198,7.19366 ,7.48576,7.77823,8.07134,8.36475, 8.65821,8.95255,9.24712,9.54233,9.83811 ,10.135,10.5801,11.0257,11.3236,11.6219 ,11.9204,12.3694,12.6689,13.1193, 13.4196,13.7201,14.0209,14.3224,14.6244 ,14.9266,15.2297,15.6838,15.9884, 16.2925,16.744,17.2538,17.7646,18.2766, 18.4046,18.5075)
FOOTPRINT_POINT_LONGITUDE = (136.81,136.39,135.96,135.434,135.42, 135.391,135.393,135.395,135.397,135.398 ,135.399,135.398,135.398,135.398, 135.398,135.397,135.396,135.394,135.393 ,135.391,135.39,135.387,135.385,135.383 ,135.381,135.378,135.376,135.373,135.37 ,135.367,135.364,135.36,135.355,135.352 ,135.348,135.343,135.336,135.333, 135.328,135.32,135.316,135.308,135.303, 135.297,135.291,135.286,135.279,135.27, 135.267,135.264,135.705,136.004,136.489 ,136.778,136.792,136.798,136.797, 136.797,136.796,136.796,136.796,136.796 ,136.796,136.796,136.795,136.795, 136.795,136.795,136.795,136.795,136.796 ,136.796,136.796,136.796,136.796, 136.796,136.796,136.797,136.797,136.797 ,136.798,136.798,136.798,136.799, 136.799,136.8,136.8,136.8,136.801, 136.801,136.802,136.802,136.802,136.803 ,136.803,136.804,136.805,136.805, 136.805,136.81)
ORBIT_NUMBER = 21938
ORBITAL_ECCENTRICITY = 0.575
ORBITAL_INCLINATION = 86.99
ORBITAL_SEMIMAJOR_AXIS = 8840.8
PERIAPSIS_ALTITUDE = 364.79
PERIAPSIS_ARGUMENT_ANGLE = 162.0
PERIAPSIS_TIME = 2021-05-11T23:00:27.000Z
SPACECRAFT_ORIENTATION = (0.0,-1.0,0.0)
^MEX_ORIENTATION_DESC = "MEX_ORIENTATION_DESC.TXT"
SPACECRAFT_POINTING_MODE = ACROSSTRACK
^MEX_POINTING_DESC = "MEX_POINTING_DESC.TXT"
RIGHT_ASCENSION = -1e+32
DECLINATION = -1e+32
OFFSET_ANGLE = -1.0
SPACECRAFT_SOLAR_DISTANCE = 2.46401e+08
TARGET_NAME = MARS
/* CAMERA DATA ELEMENTS */
DETECTOR_TEMPERATURE = 18.9822
FOCAL_PLANE_TEMPERATURE = 9.3989
INST_CMPRS_NAME = "DISCRETE COSINE TRANSFORMATION (DCT)"
INST_CMPRS_RATIO = 9.32546
INST_CMPRS_QUALITY = 0
INST_CMPRS_QUANTZ_TBL_ID = 0
INSTRUMENT_TEMPERATURE = 11.6418
LENS_TEMPERATURE = 9.6028
MACROPIXEL_SIZE = 2
MISSING_FRAMES = 0
PIXEL_SUBSAMPLING_FLAG = N
SIGNAL_CHAIN_ID = 1
/* RADIOMETRIC DATA ELEMENTS */
BANDWIDTH = 178.0
CENTER_FILTER_WAVELENGTH = 679.0
RADIANCE_OFFSET = 1.65677
RADIANCE_SCALING_FACTOR = 0.0125462
REFLECTANCE_SCALING_FACTOR = 0.00040339
MEX:REFLECTANCE_OFFSET = 0.0532691
/* IMAGE OBJECT DEFINITIONS */
OBJECT = IMAGE
  INTERCHANGE_FORMAT = BINARY
  LINES = 34597
  LINE_SAMPLES = 3469
  SAMPLE_TYPE = UNSIGNED_INTEGER
  SAMPLE_BITS = 8
  BANDS = 1
  BAND_STORAGE_TYPE = BAND_SEQUENTIAL
  MAXIMUM = 255
  MEAN = 88.1007
  MINIMUM = 1
  STANDARD_DEVIATION = 33.2126
END_OBJECT = IMAGE
/* MAP OBJECT DEFINITIONS */
OBJECT = IMAGE_MAP_PROJECTION
  ^DATA_SET_MAP_PROJECTION_CATALOG= "DSMAP.CAT"
  A_AXIS_RADIUS = 3396.0
  B_AXIS_RADIUS = 3396.0
  C_AXIS_RADIUS = 3396.0
  CENTER_LATITUDE = 0.0
  CENTER_LONGITUDE = 136.0
  COORDINATE_SYSTEM_NAME = PLANETOGRAPHIC
  COORDINATE_SYSTEM_TYPE = "BODY-FIXED ROTATING"
  EASTERNMOST_LONGITUDE = 136.81
  FIRST_STANDARD_PARALLEL = "N/A"
  LINE_FIRST_PIXEL = 1
  LINE_LAST_PIXEL = 34597
  LINE_PROJECTION_OFFSET = 44006.25
  MAP_PROJECTION_ROTATION = 0.0
  MAP_PROJECTION_TYPE = SINUSOIDAL
  MAP_RESOLUTION = 2370.85521546667
  MAP_SCALE = 0.025
  MAXIMUM_LATITUDE = 18.6222
  MINIMUM_LATITUDE = 3.95668
  POSITIVE_LONGITUDE_DIRECTION = EAST
  REFERENCE_LATITUDE = "N/A"
  REFERENCE_LONGITUDE = "N/A"
  SAMPLE_FIRST_PIXEL = 1
  SAMPLE_LAST_PIXEL = 3469
  SAMPLE_PROJECTION_OFFSET = 1641.25
  SECOND_STANDARD_PARALLEL = "N/A"
  WESTERNMOST_LONGITUDE = 135.264
END_OBJECT = IMAGE_MAP_PROJECTION
END
