PDS_VERSION_ID = PDS3
/* FILE DATA ELEMENTS */
RECORD_TYPE = UNDEFINED
/* POINTERS TO DATA OBJECTS */
^IMAGE = ("HL917_0000_P24.TIF")
/* IDENTIFICATION DATA ELEMENTS */
DATA_SET_ID = "MEX-M-HRSC-4-REFDR-MAPPROJECT-EXT8-V4.0"
DATA_SET_NAME = "MARS EXPRESS HRSC MAP PROJECTED REFDR EXTENSION8 V4.0"
DETECTOR_ID = MEX_HRSC_P2
EVENT_TYPE = "MARS-REGIONAL-MAPPING-Im-Mw"
INSTRUMENT_HOST_ID = MEX
INSTRUMENT_HOST_NAME = "MARS EXPRESS"
INSTRUMENT_ID = HRSC
INSTRUMENT_NAME = "HIGH RESOLUTION STEREO CAMERA"
MISSION_NAME = "MARS EXPRESS"
MISSION_PHASE_NAME = ME_Phase_44
PROCESSING_LEVEL_ID = 4
PRODUCT_CREATION_TIME = 2023-01-25T08:48:24.000Z
PRODUCT_ID = "HL917_0000_P24.TIF"
RELEASE_ID = 0001
REVISION_ID = 0000
/* QUALITY DATA ELEMENTS */
DATA_QUALITY_ID = 1
DATA_QUALITY_DESC = "Data calculated based on original SPICE kernels"
/* TIME DATA ELEMENTS */
SPACECRAFT_CLOCK_START_COUNT = "1/0568325903.25689"
SPACECRAFT_CLOCK_STOP_COUNT = "1/0568326163.33962"
START_TIME = 2021-05-05T20:20:16.664Z
STOP_TIME = 2021-05-05T20:23:03.821Z
/* ORBITAL DATA ELEMENTS */
ASCENDING_NODE_LONGITUDE = 164.73
MAXIMUM_RESOLUTION = 0.0302
FOOTPRINT_POINT_LATITUDE = (21.7749,21.7651,21.7566,21.7479, 21.7476,21.7743,21.5178,21.2614,21.0287 ,20.814,20.5992,20.3845,20.1697,19.9551 ,19.633,19.3112,19.0966,18.7747,18.5603 ,18.346,18.1318,17.9176,17.5963,17.3821 ,17.1682,16.9538,16.7399,16.4193, 16.2054,15.8848,15.671,15.4576,15.1376, 14.924,14.7106,14.4978,14.1778,13.9617, 13.7496,13.5364,13.3236,13.1107,12.898, 12.6858,12.4733,12.2611,12.049,11.8373, 11.6256,11.0963,10.9906,10.9778,10.9849 ,10.9889,10.9941,11.0014,11.0018, 11.0023,11.4254,11.7428,12.061,12.2733, 12.5914,12.911,13.1229,13.3355,13.5491, 13.868,14.1904,14.404,14.7238,14.9371, 15.2575,15.4709,15.7912,16.0051,16.2187 ,16.4326,16.7535,16.9676,17.1815, 17.3957,17.717,17.9312,18.1455,18.3601, 18.5748,18.7889,19.1109,19.3256,19.6477 ,19.9698,20.1845,20.5066,20.829,21.1514 ,21.4025,21.659,21.7873,21.7749)
FOOTPRINT_POINT_LONGITUDE = (123.289,122.761,122.324,121.894,121.88 ,121.877,121.877,121.878,121.878, 121.878,121.878,121.878,121.878,121.878 ,121.877,121.876,121.876,121.875, 121.875,121.874,121.873,121.872,121.871 ,121.87,121.869,121.868,121.867,121.865 ,121.864,121.861,121.86,121.858,121.856 ,121.854,121.853,121.851,121.848, 121.846,121.844,121.842,121.84,121.838, 121.836,121.834,121.831,121.829,121.827 ,121.824,121.822,121.815,121.814, 121.814,122.221,122.441,122.728,123.138 ,123.151,123.156,123.161,123.164, 123.168,123.171,123.174,123.179,123.181 ,123.184,123.187,123.191,123.195, 123.198,123.203,123.205,123.21,123.213, 123.218,123.221,123.224,123.227,123.232 ,123.235,123.238,123.242,123.247,123.25 ,123.253,123.257,123.261,123.264, 123.269,123.273,123.279,123.284,123.288 ,123.294,123.3,123.306,123.31,123.315, 123.317,123.289)
ORBIT_NUMBER = 21917
ORBITAL_ECCENTRICITY = 0.575
ORBITAL_INCLINATION = 86.99
ORBITAL_SEMIMAJOR_AXIS = 8845.86
PERIAPSIS_ALTITUDE = 362.3
PERIAPSIS_ARGUMENT_ANGLE = 165.62
PERIAPSIS_TIME = 2021-05-05T20:21:49.000Z
SPACECRAFT_ORIENTATION = (0.0,-1.0,0.0)
^MEX_ORIENTATION_DESC = "MEX_ORIENTATION_DESC.TXT"
SPACECRAFT_POINTING_MODE = ACROSSTRACK
^MEX_POINTING_DESC = "MEX_POINTING_DESC.TXT"
RIGHT_ASCENSION = -1e+32
DECLINATION = -1e+32
OFFSET_ANGLE = 0.686
SPACECRAFT_SOLAR_DISTANCE = 2.45828e+08
TARGET_NAME = MARS
/* CAMERA DATA ELEMENTS */
DETECTOR_TEMPERATURE = 18.7783
FOCAL_PLANE_TEMPERATURE = 9.3989
INST_CMPRS_NAME = "DISCRETE COSINE TRANSFORMATION (DCT)"
INST_CMPRS_RATIO = 5.4445
INST_CMPRS_QUALITY = 0
INST_CMPRS_QUANTZ_TBL_ID = 0
INSTRUMENT_TEMPERATURE = 12.0496
LENS_TEMPERATURE = 9.8067
MACROPIXEL_SIZE = 2
MISSING_FRAMES = 1
PIXEL_SUBSAMPLING_FLAG = N
SIGNAL_CHAIN_ID = 3
/* RADIOMETRIC DATA ELEMENTS */
BANDWIDTH = 177.0
CENTER_FILTER_WAVELENGTH = 676.5
RADIANCE_OFFSET = 1.41742
RADIANCE_SCALING_FACTOR = 0.0062875
REFLECTANCE_SCALING_FACTOR = 0.000201463
MEX:REFLECTANCE_OFFSET = 0.0454168
/* IMAGE OBJECT DEFINITIONS */
OBJECT = IMAGE
  INTERCHANGE_FORMAT = BINARY
  LINES = 22177
  LINE_SAMPLES = 3395
  SAMPLE_TYPE = UNSIGNED_INTEGER
  SAMPLE_BITS = 8
  BANDS = 1
  BAND_STORAGE_TYPE = BAND_SEQUENTIAL
  MAXIMUM = 255
  MEAN = 92.9311
  MINIMUM = 1
  STANDARD_DEVIATION = 33.3383
END_OBJECT = IMAGE
/* MAP OBJECT DEFINITIONS */
OBJECT = IMAGE_MAP_PROJECTION
  ^DATA_SET_MAP_PROJECTION_CATALOG= "DSMAP.CAT"
  A_AXIS_RADIUS = 3396.0
  B_AXIS_RADIUS = 3396.0
  C_AXIS_RADIUS = 3396.0
  CENTER_LATITUDE = 0.0
  CENTER_LONGITUDE = 123.0
  COORDINATE_SYSTEM_NAME = PLANETOGRAPHIC
  COORDINATE_SYSTEM_TYPE = "BODY-FIXED ROTATING"
  EASTERNMOST_LONGITUDE = 123.317
  FIRST_STANDARD_PARALLEL = "N/A"
  LINE_FIRST_PIXEL = 1
  LINE_LAST_PIXEL = 22177
  LINE_PROJECTION_OFFSET = 48213.25
  MAP_PROJECTION_ROTATION = 0.0
  MAP_PROJECTION_TYPE = SINUSOIDAL
  MAP_RESOLUTION = 2370.85521546667
  MAP_SCALE = 0.025
  MAXIMUM_LATITUDE = 21.7873
  MINIMUM_LATITUDE = 10.9778
  POSITIVE_LONGITUDE_DIRECTION = EAST
  REFERENCE_LATITUDE = "N/A"
  REFERENCE_LONGITUDE = "N/A"
  SAMPLE_FIRST_PIXEL = 1
  SAMPLE_LAST_PIXEL = 3395
  SAMPLE_PROJECTION_OFFSET = 2747.25
  SECOND_STANDARD_PARALLEL = "N/A"
  WESTERNMOST_LONGITUDE = 121.814
END_OBJECT = IMAGE_MAP_PROJECTION
END
