PDS_VERSION_ID = PDS3
/* FILE DATA ELEMENTS */
RECORD_TYPE = UNDEFINED
/* POINTERS TO DATA OBJECTS */
^IMAGE = ("HL908_0000_S24.TIF")
/* IDENTIFICATION DATA ELEMENTS */
DATA_SET_ID = "MEX-M-HRSC-4-REFDR-MAPPROJECT-EXT8-V4.0"
DATA_SET_NAME = "MARS EXPRESS HRSC MAP PROJECTED REFDR EXTENSION8 V4.0"
DETECTOR_ID = MEX_HRSC_S2
EVENT_TYPE = "MARS-LOCAL-CARTOGRAPHY-Vo-Fl-Lc"
INSTRUMENT_HOST_ID = MEX
INSTRUMENT_HOST_NAME = "MARS EXPRESS"
INSTRUMENT_ID = HRSC
INSTRUMENT_NAME = "HIGH RESOLUTION STEREO CAMERA"
MISSION_NAME = "MARS EXPRESS"
MISSION_PHASE_NAME = ME_Phase_44
PROCESSING_LEVEL_ID = 4
PRODUCT_CREATION_TIME = 2023-01-25T08:48:24.000Z
PRODUCT_ID = "HL908_0000_S24.TIF"
RELEASE_ID = 0001
REVISION_ID = 0000
/* QUALITY DATA ELEMENTS */
DATA_QUALITY_ID = 1
DATA_QUALITY_DESC = "Data calculated based on original SPICE kernels"
/* TIME DATA ELEMENTS */
SPACECRAFT_CLOCK_START_COUNT = "1/0568099215.25677"
SPACECRAFT_CLOCK_STOP_COUNT = "1/0568099637.31845"
START_TIME = 2021-05-03T05:22:58.445Z
STOP_TIME = 2021-05-03T05:26:08.638Z
/* ORBITAL DATA ELEMENTS */
ASCENDING_NODE_LONGITUDE = 164.9
MAXIMUM_RESOLUTION = 0.0381
FOOTPRINT_POINT_LATITUDE = (46.3501,46.3508,46.3505,46.3491, 46.3468,46.3434,46.337,46.3367,46.434, 46.1595,45.7476,45.4767,45.2071,44.8037 ,44.5381,44.2727,44.0088,43.7476, 43.4863,43.2261,42.9697,42.7129,42.3297 ,41.9515,41.6993,41.4493,41.2021, 40.9546,40.5842,40.3414,40.0982,39.8557 ,39.4956,39.2578,39.0198,38.781,38.5462 ,38.313,38.0796,37.8459,37.6145,37.2714 ,37.0427,36.5859,36.1376,35.8105, 35.3551,34.9185,34.3704,34.2612,34.2601 ,34.2545,34.2497,34.2441,34.2393, 34.2321,34.2318,34.2322,34.6713,35.1105 ,35.4399,35.7768,36.2259,36.5625, 36.9056,37.135,37.3647,37.5942,37.9436, 38.1779,38.4121,38.646,38.8842,39.2427, 39.4815,39.7201,39.9642,40.2078,40.5732 ,40.9445,41.1929,41.4413,41.8193, 42.0723,42.3253,42.5812,42.8391,43.2254 ,43.4869,43.7492,44.0112,44.4102, 44.6762,45.0793,45.351,45.6218,46.0351, 46.3108,46.4484,46.3501)
FOOTPRINT_POINT_LONGITUDE = (321.284,320.845,320.404,319.961, 319.517,319.07,318.451,318.422,318.339, 318.37,318.416,318.444,318.473,318.514, 318.541,318.567,318.592,318.617,318.641 ,318.665,318.688,318.711,318.744, 318.776,318.797,318.817,318.836,318.855 ,318.884,318.902,318.92,318.937,318.963 ,318.979,318.995,319.011,319.026, 319.041,319.056,319.07,319.084,319.105, 319.118,319.144,319.169,319.181,319.211 ,319.232,319.258,319.263,319.263, 319.585,320.071,320.369,320.683,321.16, 321.178,321.185,321.189,321.194,321.197 ,321.201,321.206,321.209,321.212, 321.215,321.217,321.22,321.223,321.226, 321.228,321.23,321.233,321.236,321.239, 321.241,321.243,321.246,321.249,321.253 ,321.255,321.257,321.261,321.263, 321.266,321.268,321.27,321.274,321.276, 321.279,321.281,321.284,321.286,321.29, 321.292,321.294,321.297,321.299,321.301 ,321.284)
ORBIT_NUMBER = 21908
ORBITAL_ECCENTRICITY = 0.575
ORBITAL_INCLINATION = 87.01
ORBITAL_SEMIMAJOR_AXIS = 8839.4
PERIAPSIS_ALTITUDE = 361.93
PERIAPSIS_ARGUMENT_ANGLE = 167.18
PERIAPSIS_TIME = 2021-05-03T05:31:04.000Z
SPACECRAFT_ORIENTATION = (0.0,-1.0,0.0)
^MEX_ORIENTATION_DESC = "MEX_ORIENTATION_DESC.TXT"
SPACECRAFT_POINTING_MODE = ACROSSTRACK
^MEX_POINTING_DESC = "MEX_POINTING_DESC.TXT"
RIGHT_ASCENSION = -1e+32
DECLINATION = -1e+32
OFFSET_ANGLE = -0.539
SPACECRAFT_SOLAR_DISTANCE = 2.45568e+08
TARGET_NAME = MARS
/* CAMERA DATA ELEMENTS */
DETECTOR_TEMPERATURE = 18.9822
FOCAL_PLANE_TEMPERATURE = 8.5833
INST_CMPRS_NAME = "DISCRETE COSINE TRANSFORMATION (DCT)"
INST_CMPRS_RATIO = 9.27349
INST_CMPRS_QUALITY = 0
INST_CMPRS_QUANTZ_TBL_ID = 0
INSTRUMENT_TEMPERATURE = 11.4379
LENS_TEMPERATURE = 7.9716
MACROPIXEL_SIZE = 2
MISSING_FRAMES = 0
PIXEL_SUBSAMPLING_FLAG = N
SIGNAL_CHAIN_ID = 1
/* RADIOMETRIC DATA ELEMENTS */
BANDWIDTH = 178.0
CENTER_FILTER_WAVELENGTH = 679.0
RADIANCE_OFFSET = 1.63812
RADIANCE_SCALING_FACTOR = 0.00811168
REFLECTANCE_SCALING_FACTOR = 0.000259049
MEX:REFLECTANCE_OFFSET = 0.0523139
/* IMAGE OBJECT DEFINITIONS */
OBJECT = IMAGE
  INTERCHANGE_FORMAT = BINARY
  LINES = 35217
  LINE_SAMPLES = 5281
  SAMPLE_TYPE = UNSIGNED_INTEGER
  SAMPLE_BITS = 8
  BANDS = 1
  BAND_STORAGE_TYPE = BAND_SEQUENTIAL
  MAXIMUM = 255
  MEAN = 75.6692
  MINIMUM = 1
  STANDARD_DEVIATION = 26.556
END_OBJECT = IMAGE
/* MAP OBJECT DEFINITIONS */
OBJECT = IMAGE_MAP_PROJECTION
  ^DATA_SET_MAP_PROJECTION_CATALOG= "DSMAP.CAT"
  A_AXIS_RADIUS = 3396.0
  B_AXIS_RADIUS = 3396.0
  C_AXIS_RADIUS = 3396.0
  CENTER_LATITUDE = 0.0
  CENTER_LONGITUDE = 320.0
  COORDINATE_SYSTEM_NAME = PLANETOGRAPHIC
  COORDINATE_SYSTEM_TYPE = "BODY-FIXED ROTATING"
  EASTERNMOST_LONGITUDE = 321.301
  FIRST_STANDARD_PARALLEL = "N/A"
  LINE_FIRST_PIXEL = 1
  LINE_LAST_PIXEL = 35217
  LINE_PROJECTION_OFFSET = 110116.75
  MAP_PROJECTION_ROTATION = 0.0
  MAP_PROJECTION_TYPE = SINUSOIDAL
  MAP_RESOLUTION = 2370.85521546667
  MAP_SCALE = 0.025
  MAXIMUM_LATITUDE = 46.4484
  MINIMUM_LATITUDE = 34.2318
  POSITIVE_LONGITUDE_DIRECTION = EAST
  REFERENCE_LATITUDE = "N/A"
  REFERENCE_LONGITUDE = "N/A"
  SAMPLE_FIRST_PIXEL = 1
  SAMPLE_LAST_PIXEL = 5281
  SAMPLE_PROJECTION_OFFSET = 2874.25
  SECOND_STANDARD_PARALLEL = "N/A"
  WESTERNMOST_LONGITUDE = 318.339
END_OBJECT = IMAGE_MAP_PROJECTION
END
