PDS_VERSION_ID = PDS3
/* FILE DATA ELEMENTS */
RECORD_TYPE = UNDEFINED
/* POINTERS TO DATA OBJECTS */
^IMAGE = ("HL899_0000_BL4.TIF")
/* IDENTIFICATION DATA ELEMENTS */
DATA_SET_ID = "MEX-M-HRSC-4-REFDR-MAPPROJECT-EXT8-V4.0"
DATA_SET_NAME = "MARS EXPRESS HRSC MAP PROJECTED REFDR EXTENSION8 V4.0"
DETECTOR_ID = MEX_HRSC_BLUE
EVENT_TYPE = "MARS-REGIONAL-MAPPING-Vo-Te-Im"
INSTRUMENT_HOST_ID = MEX
INSTRUMENT_HOST_NAME = "MARS EXPRESS"
INSTRUMENT_ID = HRSC
INSTRUMENT_NAME = "HIGH RESOLUTION STEREO CAMERA"
MISSION_NAME = "MARS EXPRESS"
MISSION_PHASE_NAME = ME_Phase_44
PROCESSING_LEVEL_ID = 4
PRODUCT_CREATION_TIME = 2023-01-25T08:48:24.000Z
PRODUCT_ID = "HL899_0000_BL4.TIF"
RELEASE_ID = 0001
REVISION_ID = 0000
/* QUALITY DATA ELEMENTS */
DATA_QUALITY_ID = 1
DATA_QUALITY_DESC = "Data calculated based on original SPICE kernels"
/* TIME DATA ELEMENTS */
SPACECRAFT_CLOCK_START_COUNT = "1/0567873157.24920"
SPACECRAFT_CLOCK_STOP_COUNT = "1/0567873498.09472"
START_TIME = 2021-04-30T14:34:11.508Z
STOP_TIME = 2021-04-30T14:38:21.144Z
/* ORBITAL DATA ELEMENTS */
ASCENDING_NODE_LONGITUDE = 165.05
MAXIMUM_RESOLUTION = 0.061
FOOTPRINT_POINT_LATITUDE = (35.5047,35.5018,35.4959,35.4832, 35.4829,35.4917,35.1444,34.6298,34.2868 ,33.9501,33.445,33.1109,32.7802,32.449, 32.1207,31.7962,31.4713,30.9865,30.6682 ,30.3496,29.8722,29.5604,29.2483, 28.9358,28.6233,28.318,28.0124,27.7065, 27.4002,27.097,26.4988,25.8994,25.2992, 24.6978,24.0956,23.4926,23.1907,22.8886 ,22.5863,22.2839,21.9812,21.6784, 21.3753,21.0722,20.7689,20.4655,20.01, 19.8582,19.802,19.7981,19.7938,19.7881, 19.7879,19.7889,20.2452,20.5492,20.8531 ,21.1568,21.4604,21.7639,22.0671, 22.3701,22.6731,22.9757,23.2782,23.5805 ,23.8826,24.1846,24.4862,24.7877, 25.3902,25.9915,26.5918,27.1911,27.6507 ,27.9573,28.2637,28.57,28.8818,29.1951, 29.5081,29.8207,30.1381,30.4578,30.7772 ,31.0962,31.5847,31.9104,32.2358, 32.5674,32.8996,33.2313,33.5679,33.9063 ,34.2442,34.5871,34.9317,35.2756, 35.4512,35.5047)
FOOTPRINT_POINT_LONGITUDE = (159.533,158.921,158.295,157.452, 157.432,157.372,157.394,157.428,157.449 ,157.47,157.495,157.519,157.537,157.555 ,157.572,157.589,157.606,157.63,157.645 ,157.66,157.681,157.695,157.708,157.721 ,157.733,157.745,157.757,157.768, 157.779,157.79,157.81,157.83,157.847, 157.865,157.881,157.896,157.903,157.91, 157.917,157.923,157.93,157.936,157.942, 157.947,157.953,157.957,157.965,157.967 ,157.968,158.485,158.92,159.408,159.421 ,159.426,159.429,159.431,159.433, 159.435,159.437,159.439,159.441,159.444 ,159.446,159.448,159.45,159.452,159.454 ,159.456,159.458,159.46,159.464,159.468 ,159.472,159.476,159.479,159.481, 159.483,159.485,159.487,159.489,159.491 ,159.493,159.495,159.497,159.499,159.5, 159.503,159.505,159.507,159.509,159.511 ,159.512,159.514,159.516,159.518,159.52 ,159.521,159.523,159.524,159.533)
ORBIT_NUMBER = 21899
ORBITAL_ECCENTRICITY = 0.575
ORBITAL_INCLINATION = 87.0
ORBITAL_SEMIMAJOR_AXIS = 8841.4
PERIAPSIS_ALTITUDE = 361.38
PERIAPSIS_ARGUMENT_ANGLE = 168.76
PERIAPSIS_TIME = 2021-04-30T14:40:28.000Z
SPACECRAFT_ORIENTATION = (0.0,-1.0,0.0)
^MEX_ORIENTATION_DESC = "MEX_ORIENTATION_DESC.TXT"
SPACECRAFT_POINTING_MODE = ACROSSTRACK
^MEX_POINTING_DESC = "MEX_POINTING_DESC.TXT"
RIGHT_ASCENSION = -1e+32
DECLINATION = -1e+32
OFFSET_ANGLE = -1.18
SPACECRAFT_SOLAR_DISTANCE = 2.45298e+08
TARGET_NAME = MARS
/* CAMERA DATA ELEMENTS */
DETECTOR_TEMPERATURE = 18.3705
FOCAL_PLANE_TEMPERATURE = 8.5833
INST_CMPRS_NAME = "DISCRETE COSINE TRANSFORMATION (DCT)"
INST_CMPRS_RATIO = 3.23974
INST_CMPRS_QUALITY = 0
INST_CMPRS_QUANTZ_TBL_ID = 0
INSTRUMENT_TEMPERATURE = 11.4379
LENS_TEMPERATURE = 8.7872
MACROPIXEL_SIZE = 4
MISSING_FRAMES = 0
PIXEL_SUBSAMPLING_FLAG = N
SIGNAL_CHAIN_ID = 2
/* RADIOMETRIC DATA ELEMENTS */
BANDWIDTH = 76.0
CENTER_FILTER_WAVELENGTH = 444.0
RADIANCE_OFFSET = 0.281688
RADIANCE_SCALING_FACTOR = 0.00149849
REFLECTANCE_SCALING_FACTOR = 9.26396e-05
MEX:REFLECTANCE_OFFSET = 0.0174144
/* IMAGE OBJECT DEFINITIONS */
OBJECT = IMAGE
  INTERCHANGE_FORMAT = BINARY
  LINES = 18664
  LINE_SAMPLES = 2112
  SAMPLE_TYPE = UNSIGNED_INTEGER
  SAMPLE_BITS = 8
  BANDS = 1
  BAND_STORAGE_TYPE = BAND_SEQUENTIAL
  MAXIMUM = 255
  MEAN = 88.2454
  MINIMUM = 1
  STANDARD_DEVIATION = 28.711
END_OBJECT = IMAGE
/* MAP OBJECT DEFINITIONS */
OBJECT = IMAGE_MAP_PROJECTION
  ^DATA_SET_MAP_PROJECTION_CATALOG= "DSMAP.CAT"
  A_AXIS_RADIUS = 3396.0
  B_AXIS_RADIUS = 3396.0
  C_AXIS_RADIUS = 3396.0
  CENTER_LATITUDE = 0.0
  CENTER_LONGITUDE = 159.0
  COORDINATE_SYSTEM_NAME = PLANETOGRAPHIC
  COORDINATE_SYSTEM_TYPE = "BODY-FIXED ROTATING"
  EASTERNMOST_LONGITUDE = 159.533
  FIRST_STANDARD_PARALLEL = "N/A"
  LINE_FIRST_PIXEL = 1
  LINE_LAST_PIXEL = 18664
  LINE_PROJECTION_OFFSET = 42120.625
  MAP_PROJECTION_ROTATION = 0.0
  MAP_PROJECTION_TYPE = SINUSOIDAL
  MAP_RESOLUTION = 1185.42760773333
  MAP_SCALE = 0.05
  MAXIMUM_LATITUDE = 35.5047
  MINIMUM_LATITUDE = 19.7879
  POSITIVE_LONGITUDE_DIRECTION = EAST
  REFERENCE_LATITUDE = "N/A"
  REFERENCE_LONGITUDE = "N/A"
  SAMPLE_FIRST_PIXEL = 1
  SAMPLE_LAST_PIXEL = 2112
  SAMPLE_PROJECTION_OFFSET = 1593.875
  SECOND_STANDARD_PARALLEL = "N/A"
  WESTERNMOST_LONGITUDE = 157.372
END_OBJECT = IMAGE_MAP_PROJECTION
END
