PDS_VERSION_ID = PDS3
/* FILE DATA ELEMENTS */
RECORD_TYPE = UNDEFINED
/* POINTERS TO DATA OBJECTS */
^IMAGE = ("HL894_0000_P14.TIF")
/* IDENTIFICATION DATA ELEMENTS */
DATA_SET_ID = "MEX-M-HRSC-4-REFDR-MAPPROJECT-EXT8-V4.0"
DATA_SET_NAME = "MARS EXPRESS HRSC MAP PROJECTED REFDR EXTENSION8 V4.0"
DETECTOR_ID = MEX_HRSC_P1
EVENT_TYPE = "MARS-LOCAL-CARTOGRAPHY-Im-Fl-Lc"
INSTRUMENT_HOST_ID = MEX
INSTRUMENT_HOST_NAME = "MARS EXPRESS"
INSTRUMENT_ID = HRSC
INSTRUMENT_NAME = "HIGH RESOLUTION STEREO CAMERA"
MISSION_NAME = "MARS EXPRESS"
MISSION_PHASE_NAME = ME_Phase_44
PROCESSING_LEVEL_ID = 4
PRODUCT_CREATION_TIME = 2023-01-25T08:48:24.000Z
PRODUCT_ID = "HL894_0000_P14.TIF"
RELEASE_ID = 0001
REVISION_ID = 0000
/* QUALITY DATA ELEMENTS */
DATA_QUALITY_ID = 1
DATA_QUALITY_DESC = "Data calculated based on original SPICE kernels"
/* TIME DATA ELEMENTS */
SPACECRAFT_CLOCK_START_COUNT = "1/0567747603.25667"
SPACECRAFT_CLOCK_STOP_COUNT = "1/0567747843.23289"
START_TIME = 2021-04-29T03:40:51.825Z
STOP_TIME = 2021-04-29T03:43:38.322Z
/* ORBITAL DATA ELEMENTS */
ASCENDING_NODE_LONGITUDE = 165.15
MAXIMUM_RESOLUTION = 0.0311
FOOTPRINT_POINT_LATITUDE = (26.5904,26.5778,26.5644,26.55,26.5347, 26.5184,26.4942,26.4931,26.4574,26.2446 ,26.0315,25.8199,25.6061,25.3921,25.182 ,24.9737,24.7638,24.4507,24.2416, 24.0318,23.8274,23.622,23.4161,23.2101, 23.0039,22.7976,22.489,22.0859,21.5809, 21.1761,20.7703,20.3631,20.059,19.8553, 19.6507,19.4468,19.1403,18.9354,18.7316 ,18.526,18.2188,18.0143,17.8087,17.5002 ,17.2944,16.9851,16.779,16.5726,16.2627 ,16.1593,16.1583,16.184,16.1974,16.2104 ,16.2221,16.2345,16.2351,16.2358, 16.5465,16.7532,16.9599,17.1665,17.4758 ,17.7846,17.9905,18.1957,18.4013, 18.6066,18.8117,19.0166,19.324,19.5285, 19.835,20.0391,20.3451,20.5494,20.9562, 21.3624,21.7679,22.1728,22.5768,22.7826 ,22.9895,23.1959,23.4026,23.6089, 23.9174,24.1231,24.4375,24.6477,24.8579 ,25.068,25.2778,25.4874,25.7005,25.9149 ,26.1299,26.452,26.5588,26.5904)
FOOTPRINT_POINT_LONGITUDE = (309.914,309.654,309.391,309.123, 308.852,308.576,308.19,308.172,308.117, 308.126,308.134,308.145,308.152,308.158 ,308.164,308.172,308.179,308.191, 308.199,308.205,308.213,308.219,308.225 ,308.23,308.236,308.242,308.25,308.261, 308.273,308.282,308.291,308.299,308.307 ,308.311,308.314,308.318,308.324, 308.327,308.332,308.334,308.34,308.344, 308.347,308.351,308.354,308.358,308.361 ,308.363,308.367,308.368,308.368, 308.806,309.061,309.312,309.546,309.801 ,309.815,309.819,309.822,309.823, 309.825,309.827,309.829,309.831,309.833 ,309.834,309.836,309.837,309.839,309.84 ,309.843,309.844,309.847,309.848, 309.851,309.853,309.856,309.859,309.862 ,309.866,309.869,309.87,309.872,309.874 ,309.875,309.877,309.879,309.881, 309.883,309.884,309.886,309.888,309.889 ,309.891,309.893,309.895,309.897,309.9, 309.901,309.914)
ORBIT_NUMBER = 21894
ORBITAL_ECCENTRICITY = 0.575
ORBITAL_INCLINATION = 87.0
ORBITAL_SEMIMAJOR_AXIS = 8843.16
PERIAPSIS_ALTITUDE = 360.51
PERIAPSIS_ARGUMENT_ANGLE = 169.63
PERIAPSIS_TIME = 2021-04-29T03:45:31.000Z
SPACECRAFT_ORIENTATION = (0.0,-1.0,0.0)
^MEX_ORIENTATION_DESC = "MEX_ORIENTATION_DESC.TXT"
SPACECRAFT_POINTING_MODE = ACROSSTRACK
^MEX_POINTING_DESC = "MEX_POINTING_DESC.TXT"
RIGHT_ASCENSION = -1e+32
DECLINATION = -1e+32
OFFSET_ANGLE = -1.4
SPACECRAFT_SOLAR_DISTANCE = 2.45145e+08
TARGET_NAME = MARS
/* CAMERA DATA ELEMENTS */
DETECTOR_TEMPERATURE = 17.7588
FOCAL_PLANE_TEMPERATURE = 8.7872
INST_CMPRS_NAME = "DISCRETE COSINE TRANSFORMATION (DCT)"
INST_CMPRS_RATIO = 7.06984
INST_CMPRS_QUALITY = 0
INST_CMPRS_QUANTZ_TBL_ID = 0
INSTRUMENT_TEMPERATURE = 11.6418
LENS_TEMPERATURE = 9.195
MACROPIXEL_SIZE = 2
MISSING_FRAMES = 0
PIXEL_SUBSAMPLING_FLAG = N
SIGNAL_CHAIN_ID = 3
/* RADIOMETRIC DATA ELEMENTS */
BANDWIDTH = 174.0
CENTER_FILTER_WAVELENGTH = 675.0
RADIANCE_OFFSET = 1.31453
RADIANCE_SCALING_FACTOR = 0.00532684
REFLECTANCE_SCALING_FACTOR = 0.000172187
MEX:REFLECTANCE_OFFSET = 0.0424913
/* IMAGE OBJECT DEFINITIONS */
OBJECT = IMAGE
  INTERCHANGE_FORMAT = BINARY
  LINES = 24431
  LINE_SAMPLES = 3691
  SAMPLE_TYPE = UNSIGNED_INTEGER
  SAMPLE_BITS = 8
  BANDS = 1
  BAND_STORAGE_TYPE = BAND_SEQUENTIAL
  MAXIMUM = 255
  MEAN = 107.453
  MINIMUM = 1
  STANDARD_DEVIATION = 27.8874
END_OBJECT = IMAGE
/* MAP OBJECT DEFINITIONS */
OBJECT = IMAGE_MAP_PROJECTION
  ^DATA_SET_MAP_PROJECTION_CATALOG= "DSMAP.CAT"
  A_AXIS_RADIUS = 3396.0
  B_AXIS_RADIUS = 3396.0
  C_AXIS_RADIUS = 3396.0
  CENTER_LATITUDE = 0.0
  CENTER_LONGITUDE = 309.0
  COORDINATE_SYSTEM_NAME = PLANETOGRAPHIC
  COORDINATE_SYSTEM_TYPE = "BODY-FIXED ROTATING"
  EASTERNMOST_LONGITUDE = 309.914
  FIRST_STANDARD_PARALLEL = "N/A"
  LINE_FIRST_PIXEL = 1
  LINE_LAST_PIXEL = 24431
  LINE_PROJECTION_OFFSET = 62902.75
  MAP_PROJECTION_ROTATION = 0.0
  MAP_PROJECTION_TYPE = SINUSOIDAL
  MAP_RESOLUTION = 2370.85521546667
  MAP_SCALE = 0.025
  MAXIMUM_LATITUDE = 26.5904
  MINIMUM_LATITUDE = 16.1583
  POSITIVE_LONGITUDE_DIRECTION = EAST
  REFERENCE_LATITUDE = "N/A"
  REFERENCE_LONGITUDE = "N/A"
  SAMPLE_FIRST_PIXEL = 1
  SAMPLE_LAST_PIXEL = 3691
  SAMPLE_PROJECTION_OFFSET = 1819.75
  SECOND_STANDARD_PARALLEL = "N/A"
  WESTERNMOST_LONGITUDE = 308.117
END_OBJECT = IMAGE_MAP_PROJECTION
END
